View In:
ArcGIS JavaScript
ArcGIS Online Map Viewer
ArcGIS Earth
Service Description: USGS topo maps from 2013
Name: imagery/USGS_topos_24k_2013
Description: USGS topo maps from 2013
Single Fused Map Cache: false
Extent:
XMin: 1451479.2462375981
YMin: 1634465.0593710653
XMax: 1714823.8862398413
YMax: 1868210.9793730564
Spatial Reference: 103490
(103490)
LatestVCSWkid(0)
Initial Extent:
XMin: 1451479.2462375981
YMin: 1634465.0593710653
XMax: 1714823.8862398413
YMax: 1868210.9793730564
Spatial Reference: 103490
(103490)
LatestVCSWkid(0)
Full Extent:
XMin: 1451479.2462375981
YMin: 1634465.0593710653
XMax: 1714823.8862398413
YMax: 1868210.9793730564
Spatial Reference: 103490
(103490)
LatestVCSWkid(0)
Pixel Size X: 6.560000000055879
Pixel Size Y: 6.560000000055879
Band Count: 3
Pixel Type: U8
RasterFunction Infos: {"rasterFunctionInfos": [{
"name": "None",
"description": "",
"help": ""
}]}
Mensuration Capabilities: Basic
Inspection Capabilities:
Has Histograms: true
Has Colormap: false
Has Multi Dimensions : false
Rendering Rule:
Min Scale: 0
Max Scale: 0
Copyright Text:
Service Data Type: esriImageServiceDataTypeRGB
Min Values: 0, 0, 0
Max Values: 255, 255, 255
Mean Values: 232.8280461996155, 231.16123043680034, 224.6618108462168
Standard Deviation Values: 30.69097056981378, 39.318219700357005, 47.29346268683201
Object ID Field:
Fields:
None
Default Mosaic Method: Center
Allowed Mosaic Methods:
SortField:
SortValue: null
Mosaic Operator: First
Default Compression Quality: 75
Default Resampling Method: Nearest
Max Record Count: null
Max Image Height: 4100
Max Image Width: 15000
Max Download Image Count: null
Max Mosaic Image Count: null
Allow Raster Function: true
Allow Copy: true
Allow Analysis: true
Allow Compute TiePoints: false
Supports Statistics: false
Supports Advanced Queries: false
Use StandardizedQueries: true
Raster Type Infos:
Name: Raster Dataset
Description: Supports all ArcGIS Raster Datasets
Help:
Has Raster Attribute Table: false
Edit Fields Info: null
Ownership Based AccessControl For Rasters: null
Child Resources:
Info
Histograms
Statistics
Key Properties
Legend
Raster Function Infos
Supported Operations:
Export Image
Identify
Measure
Compute Histograms
Compute Statistics Histograms
Get Samples
Compute Class Statistics
Query Boundary
Compute Pixel Location
Compute Angles
Validate
Project