{
 "currentVersion": 11.5,
 "serviceDescription": "USGS topo maps from 2013",
 "serviceItemId": "119460683fab4dfaaad7621d8b754ba7",
 "name": "imagery/USGS_topos_24k_2013",
 "description": "USGS topo maps from 2013",
 "extent": {
  "xmin": 1451479.2462375981,
  "ymin": 1634465.0593710653,
  "xmax": 1714823.8862398413,
  "ymax": 1868210.9793730564,
  "spatialReference": {
   "wkid": 103490,
   "latestWkid": 103490
  }
 },
 "initialExtent": {
  "xmin": 1451479.2462375981,
  "ymin": 1634465.0593710653,
  "xmax": 1714823.8862398413,
  "ymax": 1868210.9793730564,
  "spatialReference": {
   "wkid": 103490,
   "latestWkid": 103490
  }
 },
 "fullExtent": {
  "xmin": 1451479.2462375981,
  "ymin": 1634465.0593710653,
  "xmax": 1714823.8862398413,
  "ymax": 1868210.9793730564,
  "spatialReference": {
   "wkid": 103490,
   "latestWkid": 103490
  }
 },
 "sortableFields": "",
 "bandCount": 3,
 "pixelType": "U8",
 "minValues": [
  0,
  0,
  0
 ],
 "maxValues": [
  255,
  255,
  255
 ],
 "meanValues": [
  232.8280461996155,
  231.16123043680034,
  224.6618108462168
 ],
 "stdvValues": [
  30.69097056981378,
  39.318219700357005,
  47.29346268683201
 ],
 "serviceProperties": "Center<\/MosaicMethod>First<\/MosaicOperator>true<\/SortAscending><\/LockImageID><\/TileOrderField>0<\/TileOrderBase>0.000000<\/AvgImageSpacingX>0.000000<\/AvgImageSpacingY>0.0<\/ViewPointX>0.0<\/ViewPointY>0.0<\/ViewPointDefShiftX>0.0<\/ViewPointDefShiftY>JPEG<\/CompressionMethod>75<\/CompressionQuality>0.010000<\/CompressionTolerance>Nearest<\/SamplingMethod><\/ImageServiceProperties><\/ImageServer>",
 "allowedFields": "",
 "hasMultidimensions": false,
 "pixelSizeX": 6.560000000055879,
 "pixelSizeY": 6.560000000055879,
 "meanPixelSize": 1.9994919990010303,
 "datasetFormat": "FGDBR",
 "uncompressedSize": 4291233024,
 "blockWidth": 128,
 "blockHeight": 128,
 "compressionType": "LZ77",
 "bandNames": [
  "Band_1",
  "Band_2",
  "Band_3"
 ],
 "allowCopy": true,
 "allowAnalysis": true,
 "itemAccess": false,
 "inspectionCapabilities": "",
 "minPixelSize": 0,
 "maxPixelSize": 0,
 "copyrightText": "",
 "serviceDataType": "esriImageServiceDataTypeRGB",
 "serviceSourceType": "esriImageServiceSourceTypeDataset",
 "objectIdField": "",
 "fields": [],
 "capabilities": "Image,Metadata,Mensuration",
 "defaultMosaicMethod": "Center",
 "allowedMosaicMethods": "",
 "sortField": "",
 "sortValue": null,
 "sortAscending": true,
 "mosaicOperator": "First",
 "defaultCompressionQuality": 75,
 "defaultResamplingMethod": "Nearest",
 "maxImageHeight": 4100,
 "maxImageWidth": 15000,
 "allowRasterFunction": true,
 "rasterFunctionInfos": [
  {
   "name": "None",
   "description": "",
   "help": ""
  }
 ],
 "rasterTypeInfos": [
  {
   "name": "Raster Dataset",
   "description": "Supports all ArcGIS Raster Datasets",
   "help": ""
  }
 ],
 "mensurationCapabilities": "Basic",
 "hasHistograms": true,
 "hasColormap": false,
 "hasRasterAttributeTable": false,
 "minScale": 0,
 "maxScale": 0,
 "exportTilesAllowed": false,
 "supportsStatistics": false,
 "supportsAdvancedQueries": false,
 "editFieldsInfo": null,
 "ownershipBasedAccessControlForRasters": null,
 "allowComputeTiePoints": false,
 "useStandardizedQueries": true,
 "advancedQueryCapabilities": {
  "useStandardizedQueries": true,
  "supportsStatistics": false,
  "supportsOrderBy": false,
  "supportsDistinct": false,
  "supportsPagination": false
 },
 "spatialReference": {
  "wkid": 103490,
  "latestWkid": 103490
 }
}
