View In:
ArcGIS JavaScript
ArcGIS Online Map Viewer
ArcGIS Earth
Service Description: LandSat7 EMT+ acquisition date March 13, 2000. 6 bands.
Name: imagery/Satellite_imagery_LANDSAT_30m_2000
Description: LandSat7 EMT+ acquisition date March 13, 2000. 6 bands.
Single Fused Map Cache: false
Extent:
XMin: 1553750.0464872352
YMin: 1661949.664956794
XMax: 1700350.0464872352
YMax: 1868749.664956794
Spatial Reference: 103490
(103490)
LatestVCSWkid(0)
Initial Extent:
XMin: 1553750.0464872352
YMin: 1661949.664956794
XMax: 1700350.0464872352
YMax: 1868749.664956794
Spatial Reference: 103490
(103490)
LatestVCSWkid(0)
Full Extent:
XMin: 1553750.0464872352
YMin: 1661949.664956794
XMax: 1700350.0464872352
YMax: 1868749.664956794
Spatial Reference: 103490
(103490)
LatestVCSWkid(0)
Pixel Size X: 100.0
Pixel Size Y: 100.0
Band Count: 6
Pixel Type: U8
RasterFunction Infos: {"rasterFunctionInfos": [{
"name": "None",
"description": "",
"help": ""
}]}
Mensuration Capabilities: Basic
Inspection Capabilities:
Has Histograms: true
Has Colormap: false
Has Multi Dimensions : false
Rendering Rule:
Min Scale: 0
Max Scale: 0
Copyright Text:
Service Data Type: esriImageServiceDataTypeGeneric
Min Values: 0, 0, 0, 0, 0, 0
Max Values: 255, 255, 255, 255, 255, 255
Mean Values: 77.70020570179668, 65.99204616263506, 74.72794122983547, 52.56640362964138, 78.50935766918299, 61.63936296724842
Standard Deviation Values: 18.187038985179555, 19.424516721736055, 26.82860959554868, 10.89001751329377, 29.564861330553544, 26.27082816330823
Object ID Field:
Fields:
None
Default Mosaic Method: Center
Allowed Mosaic Methods:
SortField:
SortValue: null
Mosaic Operator: First
Default Compression Quality: 75
Default Resampling Method: Nearest
Max Record Count: null
Max Image Height: 4100
Max Image Width: 15000
Max Download Image Count: null
Max Mosaic Image Count: null
Allow Raster Function: true
Allow Copy: true
Allow Analysis: true
Allow Compute TiePoints: false
Supports Statistics: false
Supports Advanced Queries: false
Use StandardizedQueries: true
Raster Type Infos:
Name: Raster Dataset
Description: Supports all ArcGIS Raster Datasets
Help:
Has Raster Attribute Table: false
Edit Fields Info: null
Ownership Based AccessControl For Rasters: null
Child Resources:
Info
Histograms
Statistics
Key Properties
Legend
Raster Function Infos
Supported Operations:
Export Image
Identify
Measure
Compute Histograms
Compute Statistics Histograms
Get Samples
Compute Class Statistics
Query Boundary
Compute Pixel Location
Compute Angles
Validate
Project