{
 "currentVersion": 11.5,
 "serviceDescription": "LandSat7 EMT+ acquisition date March 13, 2000. 6 bands.",
 "serviceItemId": "4df0c76ee4764356a84b67bcf70504b6",
 "name": "imagery/Satellite_imagery_LANDSAT_30m_2000",
 "description": "LandSat7 EMT+ acquisition date March 13, 2000. 6 bands.",
 "extent": {
  "xmin": 1553750.0464872352,
  "ymin": 1661949.664956794,
  "xmax": 1700350.0464872352,
  "ymax": 1868749.664956794,
  "spatialReference": {
   "wkid": 103490,
   "latestWkid": 103490
  }
 },
 "initialExtent": {
  "xmin": 1553750.0464872352,
  "ymin": 1661949.664956794,
  "xmax": 1700350.0464872352,
  "ymax": 1868749.664956794,
  "spatialReference": {
   "wkid": 103490,
   "latestWkid": 103490
  }
 },
 "fullExtent": {
  "xmin": 1553750.0464872352,
  "ymin": 1661949.664956794,
  "xmax": 1700350.0464872352,
  "ymax": 1868749.664956794,
  "spatialReference": {
   "wkid": 103490,
   "latestWkid": 103490
  }
 },
 "sortableFields": "",
 "bandCount": 6,
 "pixelType": "U8",
 "minValues": [
  0,
  0,
  0,
  0,
  0,
  0
 ],
 "maxValues": [
  255,
  255,
  255,
  255,
  255,
  255
 ],
 "meanValues": [
  77.70020570179668,
  65.99204616263506,
  74.72794122983547,
  52.56640362964138,
  78.50935766918299,
  61.63936296724842
 ],
 "stdvValues": [
  18.187038985179555,
  19.424516721736055,
  26.82860959554868,
  10.89001751329377,
  29.564861330553544,
  26.27082816330823
 ],
 "serviceProperties": "Center<\/MosaicMethod>First<\/MosaicOperator>true<\/SortAscending><\/LockImageID><\/TileOrderField>0<\/TileOrderBase>0.000000<\/AvgImageSpacingX>0.000000<\/AvgImageSpacingY>0.0<\/ViewPointX>0.0<\/ViewPointY>0.0<\/ViewPointDefShiftX>0.0<\/ViewPointDefShiftY>JPEG<\/CompressionMethod>75<\/CompressionQuality>0.010000<\/CompressionTolerance>Nearest<\/SamplingMethod><\/ImageServiceProperties><\/ImageServer>",
 "allowedFields": "",
 "hasMultidimensions": false,
 "pixelSizeX": 100,
 "pixelSizeY": 100,
 "meanPixelSize": 30.480060960121925,
 "datasetFormat": "FGDBR",
 "uncompressedSize": 18190128,
 "blockWidth": 128,
 "blockHeight": 128,
 "compressionType": "LZ77",
 "bandNames": [
  "Band_1",
  "Band_2",
  "Band_3",
  "Band_4",
  "Band_5",
  "Band_6"
 ],
 "allowCopy": true,
 "allowAnalysis": true,
 "itemAccess": false,
 "inspectionCapabilities": "",
 "minPixelSize": 0,
 "maxPixelSize": 0,
 "copyrightText": "",
 "serviceDataType": "esriImageServiceDataTypeGeneric",
 "serviceSourceType": "esriImageServiceSourceTypeDataset",
 "objectIdField": "",
 "fields": [],
 "capabilities": "Image,Metadata,Mensuration",
 "defaultMosaicMethod": "Center",
 "allowedMosaicMethods": "",
 "sortField": "",
 "sortValue": null,
 "sortAscending": true,
 "mosaicOperator": "First",
 "defaultCompressionQuality": 75,
 "defaultResamplingMethod": "Nearest",
 "maxImageHeight": 4100,
 "maxImageWidth": 15000,
 "allowRasterFunction": true,
 "rasterFunctionInfos": [
  {
   "name": "None",
   "description": "",
   "help": ""
  }
 ],
 "rasterTypeInfos": [
  {
   "name": "Raster Dataset",
   "description": "Supports all ArcGIS Raster Datasets",
   "help": ""
  }
 ],
 "mensurationCapabilities": "Basic",
 "hasHistograms": true,
 "hasColormap": false,
 "hasRasterAttributeTable": false,
 "minScale": 0,
 "maxScale": 0,
 "exportTilesAllowed": false,
 "supportsStatistics": false,
 "supportsAdvancedQueries": false,
 "editFieldsInfo": null,
 "ownershipBasedAccessControlForRasters": null,
 "allowComputeTiePoints": false,
 "useStandardizedQueries": true,
 "advancedQueryCapabilities": {
  "useStandardizedQueries": true,
  "supportsStatistics": false,
  "supportsOrderBy": false,
  "supportsDistinct": false,
  "supportsPagination": false
 },
 "spatialReference": {
  "wkid": 103490,
  "latestWkid": 103490
 }
}
