View In:
ArcGIS JavaScript
ArcGIS Online Map Viewer
ArcGIS Earth
Service Description: USDA USFS Southwestern Region Contract # AG-8371-C-10-0011 Delivery # AG-8371-D-11-0088 DIGITAL PHOTOGRAPHY ACQUISITION, LAS CONCHAS FIRE, NEW MEXICO Project Coordinate System: UTM Zone 13, NAD83, NAVD88, Meters Acquisition Dates: 9/19/2011, 9/20/2011, 9/22/2011, 9/23/2011 Abstract: This dataset consists of seamlines generated for the ortho mosaic process of the following digital orthophoto project. Wilson & Company collected and processed multi-spectral (red, green, blue, near-infrared) digital aerial imagery of the Las Conchas Fire that burned in the Santa Fe National Forest in the Jemez Mountains of central New Mexico in the summer of 2011. The Area of Interest (AOI) is 632,000 acres and is larger than the actual burn acreage of approximately 150,000 acres that lies within the AOI. Aerial imagery was collected with a frame - based Z/I Digital Mapping Camera at an average elevation of 4,500 feet above ground; generating an average ground sample distance (gsd) of 0.45 feet. This aerial imagery was used to create natural color and false color infrared digital orthophotos of the AOI at a re-sampled gsd of 1 foot with a horizontal accuracy of +/- 6m.. The imagery will support the Forest Service Burned Area Emergency Response (BAER) program that addresses landscape damage due to the fire, with the goal of protecting life, property, water quality, and deteriorated ecosystems from further damage now that the fire is out.
Name: imagery/Orthoimagery_1ft_2011_post_las_conchas_fire
Description: USDA USFS Southwestern Region Contract # AG-8371-C-10-0011 Delivery # AG-8371-D-11-0088 DIGITAL PHOTOGRAPHY ACQUISITION, LAS CONCHAS FIRE, NEW MEXICO Project Coordinate System: UTM Zone 13, NAD83, NAVD88, Meters Acquisition Dates: 9/19/2011, 9/20/2011, 9/22/2011, 9/23/2011 Abstract: This dataset consists of seamlines generated for the ortho mosaic process of the following digital orthophoto project. Wilson & Company collected and processed multi-spectral (red, green, blue, near-infrared) digital aerial imagery of the Las Conchas Fire that burned in the Santa Fe National Forest in the Jemez Mountains of central New Mexico in the summer of 2011. The Area of Interest (AOI) is 632,000 acres and is larger than the actual burn acreage of approximately 150,000 acres that lies within the AOI. Aerial imagery was collected with a frame - based Z/I Digital Mapping Camera at an average elevation of 4,500 feet above ground; generating an average ground sample distance (gsd) of 0.45 feet. This aerial imagery was used to create natural color and false color infrared digital orthophotos of the AOI at a re-sampled gsd of 1 foot with a horizontal accuracy of +/- 6m.. The imagery will support the Forest Service Burned Area Emergency Response (BAER) program that addresses landscape damage due to the fire, with the goal of protecting life, property, water quality, and deteriorated ecosystems from further damage now that the fire is out.
Single Fused Map Cache: false
Extent:
XMin: 1614999.1912645064
YMin: 1772000.5619319826
XMax: 1644999.1912645064
YMax: 1786000.5619319826
Spatial Reference: 103490
(103490)
LatestVCSWkid(0)
Initial Extent:
XMin: 1614999.1912645064
YMin: 1772000.5619319826
XMax: 1644999.1912645064
YMax: 1786000.5619319826
Spatial Reference: 103490
(103490)
LatestVCSWkid(0)
Full Extent:
XMin: 1614999.1912645064
YMin: 1772000.5619319826
XMax: 1644999.1912645064
YMax: 1786000.5619319826
Spatial Reference: 103490
(103490)
LatestVCSWkid(0)
Pixel Size X: 1.0
Pixel Size Y: 1.0
Band Count: 3
Pixel Type: U8
RasterFunction Infos: {"rasterFunctionInfos": [{
"name": "None",
"description": "",
"help": ""
}]}
Mensuration Capabilities: None
Inspection Capabilities:
Has Histograms: true
Has Colormap: false
Has Multi Dimensions : false
Rendering Rule:
Min Scale: 0
Max Scale: 0
Copyright Text:
Service Data Type: esriImageServiceDataTypeRGB
Min Values: 1, 1, 1
Max Values: 254, 254, 254
Mean Values: 95.6568081723957, 96.734223066052, 86.61447259771309
Standard Deviation Values: 63.26399923127961, 60.3902329046543, 50.42016425065568
Object ID Field: OBJECTID
Fields:
-
OBJECTID
(
type: esriFieldTypeOID, alias: OBJECTID
)
-
Shape
(
type: esriFieldTypeGeometry, alias: Shape
)
-
Name
(
type: esriFieldTypeString, alias: Name, length: 200
)
-
MinPS
(
type: esriFieldTypeDouble, alias: MinPS
)
-
MaxPS
(
type: esriFieldTypeDouble, alias: MaxPS
)
-
LowPS
(
type: esriFieldTypeDouble, alias: LowPS
)
-
HighPS
(
type: esriFieldTypeDouble, alias: HighPS
)
-
Category
(
type: esriFieldTypeInteger, alias: Category
, Coded Values:
[0: Unknown]
, [1: Primary]
, [2: Overview]
, ...6 more...
)
-
Tag
(
type: esriFieldTypeString, alias: Tag, length: 100
)
-
GroupName
(
type: esriFieldTypeString, alias: GroupName, length: 100
)
-
ProductName
(
type: esriFieldTypeString, alias: ProductName, length: 100
)
-
CenterX
(
type: esriFieldTypeDouble, alias: CenterX
)
-
CenterY
(
type: esriFieldTypeDouble, alias: CenterY
)
-
ZOrder
(
type: esriFieldTypeInteger, alias: ZOrder
)
-
Shape_Length
(
type: esriFieldTypeDouble, alias: Shape_Length
)
-
Shape_Area
(
type: esriFieldTypeDouble, alias: Shape_Area
)
Default Mosaic Method: Northwest
Allowed Mosaic Methods: NorthWest,Center,LockRaster,ByAttribute,Nadir,Viewpoint,Seamline,None
SortField:
SortValue: null
Mosaic Operator: First
Default Compression Quality: 75
Default Resampling Method: Nearest
Max Record Count: 1000
Max Image Height: 4100
Max Image Width: 15000
Max Download Image Count: 20
Max Mosaic Image Count: 20
Allow Raster Function: true
Allow Copy: true
Allow Analysis: true
Allow Compute TiePoints: false
Supports Statistics: true
Supports Advanced Queries: true
Use StandardizedQueries: true
Raster Type Infos:
Name: Raster Dataset
Description: Supports all ArcGIS Raster Datasets
Help:
Has Raster Attribute Table: false
Edit Fields Info: null
Ownership Based AccessControl For Rasters: null
Child Resources:
Info
Histograms
Statistics
Key Properties
Legend
Raster Function Infos
Supported Operations:
Export Image
Query
Identify
Compute Histograms
Compute Statistics Histograms
Get Samples
Compute Class Statistics
Query GPS Info
Find Images
Image to Map
Map to Image
Measure from Image
Image to Map Multiray
Query Boundary
Compute Pixel Location
Compute Angles
Validate
Project