{
 "currentVersion": 11.5,
 "serviceDescription": "USDA USFS Southwestern Region Contract # AG-8371-C-10-0011 Delivery # AG-8371-D-11-0088 DIGITAL PHOTOGRAPHY ACQUISITION, LAS CONCHAS FIRE, NEW MEXICO Project Coordinate System: UTM Zone 13, NAD83, NAVD88, Meters Acquisition Dates: 9/19/2011, 9/20/2011, 9/22/2011, 9/23/2011 Abstract: This dataset consists of seamlines generated for the ortho mosaic process of the following digital orthophoto project. Wilson & Company collected and processed multi-spectral (red, green, blue, near-infrared) digital aerial imagery of the Las Conchas Fire that burned in the Santa Fe National Forest in the Jemez Mountains of central New Mexico in the summer of 2011. The Area of Interest (AOI) is 632,000 acres and is larger than the actual burn acreage of approximately 150,000 acres that lies within the AOI. Aerial imagery was collected with a frame - based Z/I Digital Mapping Camera at an average elevation of 4,500 feet above ground; generating an average ground sample distance (gsd) of 0.45 feet. This aerial imagery was used to create natural color and false color infrared digital orthophotos of the AOI at a re-sampled gsd of 1 foot with a horizontal accuracy of +/- 6m.. The imagery will support the Forest Service Burned Area Emergency Response (BAER) program that addresses landscape damage due to the fire, with the goal of protecting life, property, water quality, and deteriorated ecosystems from further damage now that the fire is out.",
 "serviceItemId": "435509bfe98e4cb4bc0301014a54c9c1",
 "name": "imagery/Orthoimagery_1ft_2011_post_las_conchas_fire",
 "description": "USDA USFS Southwestern Region Contract # AG-8371-C-10-0011 Delivery # AG-8371-D-11-0088 DIGITAL PHOTOGRAPHY ACQUISITION, LAS CONCHAS FIRE, NEW MEXICO Project Coordinate System: UTM Zone 13, NAD83, NAVD88, Meters Acquisition Dates: 9/19/2011, 9/20/2011, 9/22/2011, 9/23/2011 Abstract: This dataset consists of seamlines generated for the ortho mosaic process of the following digital orthophoto project. Wilson & Company collected and processed multi-spectral (red, green, blue, near-infrared) digital aerial imagery of the Las Conchas Fire that burned in the Santa Fe National Forest in the Jemez Mountains of central New Mexico in the summer of 2011. The Area of Interest (AOI) is 632,000 acres and is larger than the actual burn acreage of approximately 150,000 acres that lies within the AOI. Aerial imagery was collected with a frame - based Z/I Digital Mapping Camera at an average elevation of 4,500 feet above ground; generating an average ground sample distance (gsd) of 0.45 feet. This aerial imagery was used to create natural color and false color infrared digital orthophotos of the AOI at a re-sampled gsd of 1 foot with a horizontal accuracy of +/- 6m.. The imagery will support the Forest Service Burned Area Emergency Response (BAER) program that addresses landscape damage due to the fire, with the goal of protecting life, property, water quality, and deteriorated ecosystems from further damage now that the fire is out.",
 "extent": {
  "xmin": 1614999.1912645064,
  "ymin": 1772000.5619319826,
  "xmax": 1644999.1912645064,
  "ymax": 1786000.5619319826,
  "spatialReference": {
   "wkid": 103490,
   "latestWkid": 103490
  }
 },
 "initialExtent": {
  "xmin": 1614999.1912645064,
  "ymin": 1772000.5619319826,
  "xmax": 1644999.1912645064,
  "ymax": 1786000.5619319826,
  "spatialReference": {
   "wkid": 103490,
   "latestWkid": 103490
  }
 },
 "fullExtent": {
  "xmin": 1614999.1912645064,
  "ymin": 1772000.5619319826,
  "xmax": 1644999.1912645064,
  "ymax": 1786000.5619319826,
  "spatialReference": {
   "wkid": 103490,
   "latestWkid": 103490
  }
 },
 "sortableFields": "",
 "bandCount": 3,
 "pixelType": "U8",
 "minValues": [
  1,
  1,
  1
 ],
 "maxValues": [
  254,
  254,
  254
 ],
 "meanValues": [
  95.6568081723957,
  96.734223066052,
  86.61447259771309
 ],
 "stdvValues": [
  63.26399923127961,
  60.3902329046543,
  50.42016425065568
 ],
 "serviceProperties": "NorthWest<\/MosaicMethod>First<\/MosaicOperator>true<\/SortAscending><\/LockImageID>Name<\/TileOrderField>0<\/TileOrderBase>600.000000<\/AvgImageSpacingX>300.000000<\/AvgImageSpacingY>0.0<\/ViewPointX>0.0<\/ViewPointY>0.0<\/ViewPointDefShiftX>0.0<\/ViewPointDefShiftY>JPEG<\/CompressionMethod>75<\/CompressionQuality>0.010000<\/CompressionTolerance>Nearest<\/SamplingMethod><\/ImageServiceProperties><\/ImageServer>",
 "allowedFields": "Name,MinPS,MaxPS,LowPS,HighPS,Tag,GroupName,ProductName,CenterX,CenterY,ZOrder,Shape_Length,Shape_Area",
 "hasMultidimensions": false,
 "pixelSizeX": 1,
 "pixelSizeY": 1,
 "meanPixelSize": 0.30480060960121924,
 "datasetFormat": "AMD",
 "uncompressedSize": 1260000000,
 "blockWidth": 2048,
 "blockHeight": 256,
 "compressionType": "None",
 "bandNames": [
  "Red",
  "Green",
  "Blue"
 ],
 "allowCopy": true,
 "allowAnalysis": true,
 "itemAccess": false,
 "inspectionCapabilities": "",
 "minPixelSize": 0,
 "maxPixelSize": 0,
 "copyrightText": "",
 "serviceDataType": "esriImageServiceDataTypeRGB",
 "serviceSourceType": "esriImageServiceSourceTypeMosaicDataset",
 "objectIdField": "OBJECTID",
 "fields": [
  {
   "name": "OBJECTID",
   "type": "esriFieldTypeOID",
   "alias": "OBJECTID",
   "domain": null
  },
  {
   "name": "Shape",
   "type": "esriFieldTypeGeometry",
   "alias": "Shape",
   "domain": null
  },
  {
   "name": "Name",
   "type": "esriFieldTypeString",
   "alias": "Name",
   "domain": null,
   "length": 200
  },
  {
   "name": "MinPS",
   "type": "esriFieldTypeDouble",
   "alias": "MinPS",
   "domain": null
  },
  {
   "name": "MaxPS",
   "type": "esriFieldTypeDouble",
   "alias": "MaxPS",
   "domain": null
  },
  {
   "name": "LowPS",
   "type": "esriFieldTypeDouble",
   "alias": "LowPS",
   "domain": null
  },
  {
   "name": "HighPS",
   "type": "esriFieldTypeDouble",
   "alias": "HighPS",
   "domain": null
  },
  {
   "name": "Category",
   "type": "esriFieldTypeInteger",
   "alias": "Category",
   "domain": {
    "type": "codedValue",
    "name": "MosaicCatalogItemCategoryDomain",
    "description": "Catalog item categories.",
    "codedValues": [
     {
      "name": "Unknown",
      "code": 0
     },
     {
      "name": "Primary",
      "code": 1
     },
     {
      "name": "Overview",
      "code": 2
     },
     {
      "name": "Unprocessed Overview",
      "code": 3
     },
     {
      "name": "Partial Overview",
      "code": 4
     },
     {
      "name": "Inactive",
      "code": 5
     },
     {
      "name": "Uploaded",
      "code": 253
     },
     {
      "name": "Incomplete",
      "code": 254
     },
     {
      "name": "Custom",
      "code": 255
     }
    ],
    "mergePolicy": "esriMPTDefaultValue",
    "splitPolicy": "esriSPTDefaultValue"
   }
  },
  {
   "name": "Tag",
   "type": "esriFieldTypeString",
   "alias": "Tag",
   "domain": null,
   "length": 100
  },
  {
   "name": "GroupName",
   "type": "esriFieldTypeString",
   "alias": "GroupName",
   "domain": null,
   "length": 100
  },
  {
   "name": "ProductName",
   "type": "esriFieldTypeString",
   "alias": "ProductName",
   "domain": null,
   "length": 100
  },
  {
   "name": "CenterX",
   "type": "esriFieldTypeDouble",
   "alias": "CenterX",
   "domain": null
  },
  {
   "name": "CenterY",
   "type": "esriFieldTypeDouble",
   "alias": "CenterY",
   "domain": null
  },
  {
   "name": "ZOrder",
   "type": "esriFieldTypeInteger",
   "alias": "ZOrder",
   "domain": null
  },
  {
   "name": "Shape_Length",
   "type": "esriFieldTypeDouble",
   "alias": "Shape_Length",
   "domain": null
  },
  {
   "name": "Shape_Area",
   "type": "esriFieldTypeDouble",
   "alias": "Shape_Area",
   "domain": null
  }
 ],
 "capabilities": "Image,Metadata,Catalog",
 "defaultMosaicMethod": "Northwest",
 "allowedMosaicMethods": "NorthWest,Center,LockRaster,ByAttribute,Nadir,Viewpoint,Seamline,None",
 "sortField": "",
 "sortValue": null,
 "sortAscending": true,
 "mosaicOperator": "First",
 "maxDownloadSizeLimit": 2048,
 "defaultCompressionQuality": 75,
 "defaultResamplingMethod": "Nearest",
 "maxImageHeight": 4100,
 "maxImageWidth": 15000,
 "maxRecordCount": 1000,
 "maxDownloadImageCount": 20,
 "maxMosaicImageCount": 20,
 "allowRasterFunction": true,
 "rasterFunctionInfos": [
  {
   "name": "None",
   "description": "",
   "help": ""
  }
 ],
 "rasterTypeInfos": [
  {
   "name": "Raster Dataset",
   "description": "Supports all ArcGIS Raster Datasets",
   "help": ""
  }
 ],
 "mensurationCapabilities": "None",
 "hasHistograms": true,
 "hasColormap": false,
 "hasRasterAttributeTable": false,
 "minScale": 0,
 "maxScale": 0,
 "exportTilesAllowed": false,
 "supportsStatistics": true,
 "supportsAdvancedQueries": true,
 "editFieldsInfo": null,
 "ownershipBasedAccessControlForRasters": null,
 "allowComputeTiePoints": false,
 "useStandardizedQueries": true,
 "advancedQueryCapabilities": {
  "useStandardizedQueries": true,
  "supportsStatistics": true,
  "supportsOrderBy": true,
  "supportsDistinct": true,
  "supportsPagination": true
 },
 "spatialReference": {
  "wkid": 103490,
  "latestWkid": 103490
 }
}
