View In:
ArcGIS JavaScript
ArcGIS Online Map Viewer
ArcGIS Earth
Service Description: This is a mosaic of aerial imagery collected October 30 and November 2 1962. This was scanned from a print provided by Limbaugh Engineering and Aerial Surveys Inc. The pixel resolution is 1 foot, with a scale of 1:7200. The imagery is semi-controlled, so in some places the horizontal error may be as much as 25'. The scanned image was georeferenced against both marked survey monuments and sites that are obviously visible in both this imagery and the 2022 Pictometry data.
Name: imagery/Aerial_imagery_Limbaugh_1ft_1962
Description: This is a mosaic of aerial imagery collected October 30 and November 2 1962. This was scanned from a print provided by Limbaugh Engineering and Aerial Surveys Inc. The pixel resolution is 1 foot, with a scale of 1:7200. The imagery is semi-controlled, so in some places the horizontal error may be as much as 25'. The scanned image was georeferenced against both marked survey monuments and sites that are obviously visible in both this imagery and the 2022 Pictometry data.
Single Fused Map Cache: false
Extent:
XMin: 1615500.0000000075
YMin: 1772700.000000015
XMax: 1639300.0000000075
YMax: 1789000.000000015
Spatial Reference: 103490
(103490)
LatestVCSWkid(0)
Initial Extent:
XMin: 1615500.0000000075
YMin: 1772700.000000015
XMax: 1639300.0000000075
YMax: 1789000.000000015
Spatial Reference: 103490
(103490)
LatestVCSWkid(0)
Full Extent:
XMin: 1615500.0000000075
YMin: 1772700.000000015
XMax: 1639300.0000000075
YMax: 1789000.000000015
Spatial Reference: 103490
(103490)
LatestVCSWkid(0)
Pixel Size X: 1.0
Pixel Size Y: 1.0
Band Count: 3
Pixel Type: U8
RasterFunction Infos: {"rasterFunctionInfos": [{
"name": "None",
"description": "",
"help": ""
}]}
Mensuration Capabilities: Basic
Inspection Capabilities:
Has Histograms: false
Has Colormap: false
Has Multi Dimensions : false
Rendering Rule:
Min Scale: 0
Max Scale: 0
Copyright Text:
Service Data Type: esriImageServiceDataTypeThematic
Min Values: N/A
Max Values: N/A
Mean Values: N/A
Standard Deviation Values: N/A
Object ID Field:
Fields:
None
Default Mosaic Method: Center
Allowed Mosaic Methods:
SortField:
SortValue: null
Mosaic Operator: First
Default Compression Quality: 75
Default Resampling Method: Nearest
Max Record Count: null
Max Image Height: 4100
Max Image Width: 15000
Max Download Image Count: null
Max Mosaic Image Count: null
Allow Raster Function: true
Allow Copy: true
Allow Analysis: true
Allow Compute TiePoints: false
Supports Statistics: false
Supports Advanced Queries: false
Use StandardizedQueries: true
Raster Type Infos:
Name: Raster Dataset
Description: Supports all ArcGIS Raster Datasets
Help:
Has Raster Attribute Table: false
Edit Fields Info: null
Ownership Based AccessControl For Rasters: null
Child Resources:
Info
Statistics
Key Properties
Legend
Raster Function Infos
Supported Operations:
Export Image
Identify
Measure
Compute Histograms
Compute Statistics Histograms
Get Samples
Compute Class Statistics
Query Boundary
Compute Pixel Location
Compute Angles
Validate
Project