{
 "currentVersion": 11.5,
 "serviceDescription": "This is a mosaic of aerial imagery collected October 30 and November 2 1962. This was scanned from a print provided by Limbaugh Engineering and Aerial Surveys Inc. The pixel resolution is 1 foot, with a scale of 1:7200. The imagery is semi-controlled, so in some places the horizontal error may be as much as 25'. The scanned image was georeferenced against both marked survey monuments and sites that are obviously visible in both this imagery and the 2022 Pictometry data.\n",
 "serviceItemId": "1e5f13b94bd74fd390f99a5e57471ca3",
 "name": "imagery/Aerial_imagery_Limbaugh_1ft_1962",
 "description": "This is a mosaic of aerial imagery collected October 30 and November 2 1962. This was scanned from a print provided by Limbaugh Engineering and Aerial Surveys Inc. The pixel resolution is 1 foot, with a scale of 1:7200. The imagery is semi-controlled, so in some places the horizontal error may be as much as 25'. The scanned image was georeferenced against both marked survey monuments and sites that are obviously visible in both this imagery and the 2022 Pictometry data.\n",
 "extent": {
  "xmin": 1615500.0000000075,
  "ymin": 1772700.000000015,
  "xmax": 1639300.0000000075,
  "ymax": 1789000.000000015,
  "spatialReference": {
   "wkid": 103490,
   "latestWkid": 103490
  }
 },
 "initialExtent": {
  "xmin": 1615500.0000000075,
  "ymin": 1772700.000000015,
  "xmax": 1639300.0000000075,
  "ymax": 1789000.000000015,
  "spatialReference": {
   "wkid": 103490,
   "latestWkid": 103490
  }
 },
 "fullExtent": {
  "xmin": 1615500.0000000075,
  "ymin": 1772700.000000015,
  "xmax": 1639300.0000000075,
  "ymax": 1789000.000000015,
  "spatialReference": {
   "wkid": 103490,
   "latestWkid": 103490
  }
 },
 "sortableFields": "",
 "bandCount": 3,
 "pixelType": "U8",
 "minValues": [],
 "maxValues": [],
 "meanValues": [],
 "stdvValues": [],
 "serviceProperties": "Center<\/MosaicMethod>First<\/MosaicOperator>true<\/SortAscending><\/LockImageID><\/TileOrderField>0<\/TileOrderBase>0.000000<\/AvgImageSpacingX>0.000000<\/AvgImageSpacingY>0.0<\/ViewPointX>0.0<\/ViewPointY>0.0<\/ViewPointDefShiftX>0.0<\/ViewPointDefShiftY>JPEG<\/CompressionMethod>75<\/CompressionQuality>0.010000<\/CompressionTolerance>Nearest<\/SamplingMethod><\/ImageServiceProperties><\/ImageServer>",
 "allowedFields": "",
 "hasMultidimensions": false,
 "pixelSizeX": 1,
 "pixelSizeY": 1,
 "meanPixelSize": 0.30480060960121924,
 "datasetFormat": "TIFF",
 "uncompressedSize": 1163820000,
 "blockWidth": 23800,
 "blockHeight": 1,
 "compressionType": "None",
 "bandNames": [
  "Band_1"
 ],
 "allowCopy": true,
 "allowAnalysis": true,
 "itemAccess": false,
 "inspectionCapabilities": "",
 "noDataValue": 256,
 "noDataValues": [
  256,
  256,
  256
 ],
 "minPixelSize": 0,
 "maxPixelSize": 0,
 "copyrightText": "",
 "serviceDataType": "esriImageServiceDataTypeThematic",
 "serviceSourceType": "esriImageServiceSourceTypeDataset",
 "objectIdField": "",
 "fields": [],
 "capabilities": "Image,Metadata,Mensuration",
 "defaultMosaicMethod": "Center",
 "allowedMosaicMethods": "",
 "sortField": "",
 "sortValue": null,
 "sortAscending": true,
 "mosaicOperator": "First",
 "defaultCompressionQuality": 75,
 "defaultResamplingMethod": "Nearest",
 "maxImageHeight": 4100,
 "maxImageWidth": 15000,
 "allowRasterFunction": true,
 "rasterFunctionInfos": [
  {
   "name": "None",
   "description": "",
   "help": ""
  }
 ],
 "rasterTypeInfos": [
  {
   "name": "Raster Dataset",
   "description": "Supports all ArcGIS Raster Datasets",
   "help": ""
  }
 ],
 "mensurationCapabilities": "Basic",
 "hasHistograms": false,
 "hasColormap": false,
 "hasRasterAttributeTable": false,
 "minScale": 0,
 "maxScale": 0,
 "exportTilesAllowed": false,
 "supportsStatistics": false,
 "supportsAdvancedQueries": false,
 "editFieldsInfo": null,
 "ownershipBasedAccessControlForRasters": null,
 "allowComputeTiePoints": false,
 "useStandardizedQueries": true,
 "advancedQueryCapabilities": {
  "useStandardizedQueries": true,
  "supportsStatistics": false,
  "supportsOrderBy": false,
  "supportsDistinct": false,
  "supportsPagination": false
 },
 "spatialReference": {
  "wkid": 103490,
  "latestWkid": 103490
 }
}
