View In:
ArcGIS JavaScript
ArcGIS Online Map Viewer
ArcGIS Earth
Service Description: This soil burn severity dataset was derived from Sentinel 2 data and field validated by a Forest Service Burned Area Emergency Response (BAER) team. It is based upon an initial Burned Area Reflectance Classification (BARC) dataset created by analyzing satellite imagery. A pre-fire and post-fire Sentinel 2 scene were processed to develop a differenced Normalized Burn Ratio (dNBR) image. The dNBR image attempts to portray the variation of burn severity within a fire and captures the combined effects of the fire to vegetation and soil components of the ecosytem. The preliminary BARC dataset was assessed by a Forest Service BAER team and modified, if necessary, based on field conditions.
Name: fire/Fire_soil_burn_severity_Cerro_Pelado_2022
Description: This soil burn severity dataset was derived from Sentinel 2 data and field validated by a Forest Service Burned Area Emergency Response (BAER) team. It is based upon an initial Burned Area Reflectance Classification (BARC) dataset created by analyzing satellite imagery. A pre-fire and post-fire Sentinel 2 scene were processed to develop a differenced Normalized Burn Ratio (dNBR) image. The dNBR image attempts to portray the variation of burn severity within a fire and captures the combined effects of the fire to vegetation and soil components of the ecosytem. The preliminary BARC dataset was assessed by a Forest Service BAER team and modified, if necessary, based on field conditions.
Single Fused Map Cache: false
Extent:
XMin: 1533108.6553937374
YMin: 1696218.0949079574
XMax: 1601710.8803937696
YMax: 1766690.3949079912
Spatial Reference: 103490
(103490)
LatestVCSWkid(0)
Initial Extent:
XMin: 1533108.6553937374
YMin: 1696218.0949079574
XMax: 1601710.8803937696
YMax: 1766690.3949079912
Spatial Reference: 103490
(103490)
LatestVCSWkid(0)
Full Extent:
XMin: 1533108.6553937374
YMin: 1696218.0949079574
XMax: 1601710.8803937696
YMax: 1766690.3949079912
Spatial Reference: 103490
(103490)
LatestVCSWkid(0)
Pixel Size X: 98.42500000004623
Pixel Size Y: 98.42500000004722
Band Count: 1
Pixel Type: S8
RasterFunction Infos: {"rasterFunctionInfos": [{
"name": "None",
"description": "",
"help": ""
}]}
Mensuration Capabilities: Basic
Inspection Capabilities:
Has Histograms: true
Has Colormap: false
Has Multi Dimensions : false
Rendering Rule:
Min Scale: 0
Max Scale: 0
Copyright Text: USDA Forest Service
Service Data Type: esriImageServiceDataTypeGeneric
Min Values: 0
Max Values: 4
Mean Values: 0.7280788663375087
Standard Deviation Values: 1.1674830739805806
Object ID Field:
Fields:
None
Default Mosaic Method: Center
Allowed Mosaic Methods:
SortField:
SortValue: null
Mosaic Operator: First
Default Compression Quality: 75
Default Resampling Method: Nearest
Max Record Count: null
Max Image Height: 4100
Max Image Width: 15000
Max Download Image Count: null
Max Mosaic Image Count: null
Allow Raster Function: true
Allow Copy: true
Allow Analysis: true
Allow Compute TiePoints: false
Supports Statistics: false
Supports Advanced Queries: false
Use StandardizedQueries: true
Raster Type Infos:
Name: Raster Dataset
Description: Supports all ArcGIS Raster Datasets
Help:
Has Raster Attribute Table: true
Edit Fields Info: null
Ownership Based AccessControl For Rasters: null
Child Resources:
Info
Raster Attribute Table
Histograms
Statistics
Key Properties
Legend
Raster Function Infos
Supported Operations:
Export Image
Identify
Measure
Compute Histograms
Compute Statistics Histograms
Get Samples
Compute Class Statistics
Query Boundary
Compute Pixel Location
Compute Angles
Validate
Project