{ "currentVersion": 11.5, "serviceDescription": "

This soil burn severity dataset was derived from Sentinel 2 data and field validated by a Forest Service Burned Area Emergency Response (BAER) team. It is based upon an initial Burned Area Reflectance Classification (BARC) dataset created by analyzing satellite imagery. A pre-fire and post-fire Sentinel 2 scene were processed to develop a differenced Normalized Burn Ratio (dNBR) image. The dNBR image attempts to portray the variation of burn severity within a fire and captures the combined effects of the fire to vegetation and soil components of the ecosytem. The preliminary BARC dataset was assessed by a Forest Service BAER team and modified, if necessary, based on field conditions.<\/SPAN><\/P><\/DIV><\/DIV>", "serviceItemId": "b1ba3e9c503f4c478a4bb091128b8b9c", "name": "fire/Fire_soil_burn_severity_Cerro_Pelado_2022", "description": "

This soil burn severity dataset was derived from Sentinel 2 data and field validated by a Forest Service Burned Area Emergency Response (BAER) team. It is based upon an initial Burned Area Reflectance Classification (BARC) dataset created by analyzing satellite imagery. A pre-fire and post-fire Sentinel 2 scene were processed to develop a differenced Normalized Burn Ratio (dNBR) image. The dNBR image attempts to portray the variation of burn severity within a fire and captures the combined effects of the fire to vegetation and soil components of the ecosytem. The preliminary BARC dataset was assessed by a Forest Service BAER team and modified, if necessary, based on field conditions.<\/SPAN><\/P><\/DIV><\/DIV>", "extent": { "xmin": 1533108.6553937374, "ymin": 1696218.0949079574, "xmax": 1601710.8803937696, "ymax": 1766690.3949079912, "spatialReference": { "wkid": 103490, "latestWkid": 103490 } }, "initialExtent": { "xmin": 1533108.6553937374, "ymin": 1696218.0949079574, "xmax": 1601710.8803937696, "ymax": 1766690.3949079912, "spatialReference": { "wkid": 103490, "latestWkid": 103490 } }, "fullExtent": { "xmin": 1533108.6553937374, "ymin": 1696218.0949079574, "xmax": 1601710.8803937696, "ymax": 1766690.3949079912, "spatialReference": { "wkid": 103490, "latestWkid": 103490 } }, "sortableFields": "", "bandCount": 1, "pixelType": "S8", "minValues": [ 0 ], "maxValues": [ 4 ], "meanValues": [ 0.7280788663375087 ], "stdvValues": [ 1.1674830739805806 ], "serviceProperties": "Center<\/MosaicMethod>First<\/MosaicOperator>true<\/SortAscending><\/LockImageID><\/TileOrderField>0<\/TileOrderBase>0.000000<\/AvgImageSpacingX>0.000000<\/AvgImageSpacingY>0.0<\/ViewPointX>0.0<\/ViewPointY>0.0<\/ViewPointDefShiftX>0.0<\/ViewPointDefShiftY>JPEG<\/CompressionMethod>75<\/CompressionQuality>0.010000<\/CompressionTolerance>Nearest<\/SamplingMethod><\/ImageServiceProperties><\/ImageServer>", "allowedFields": "", "hasMultidimensions": false, "pixelSizeX": 98.42500000004623, "pixelSizeY": 98.42500000004722, "meanPixelSize": 30.000000000014246, "datasetFormat": "SDR", "uncompressedSize": 499052, "blockWidth": 128, "blockHeight": 128, "compressionType": "LZ77", "bandNames": [ "Band_1" ], "allowCopy": true, "allowAnalysis": true, "itemAccess": false, "inspectionCapabilities": "", "minPixelSize": 0, "maxPixelSize": 0, "copyrightText": "USDA Forest Service", "serviceDataType": "esriImageServiceDataTypeGeneric", "serviceSourceType": "esriImageServiceSourceTypeDataset", "objectIdField": "", "fields": [], "capabilities": "Image,Metadata,Mensuration", "defaultMosaicMethod": "Center", "allowedMosaicMethods": "", "sortField": "", "sortValue": null, "sortAscending": true, "mosaicOperator": "First", "defaultCompressionQuality": 75, "defaultResamplingMethod": "Nearest", "maxImageHeight": 4100, "maxImageWidth": 15000, "allowRasterFunction": true, "rasterFunctionInfos": [ { "name": "None", "description": "", "help": "" } ], "rasterTypeInfos": [ { "name": "Raster Dataset", "description": "Supports all ArcGIS Raster Datasets", "help": "" } ], "mensurationCapabilities": "Basic", "hasHistograms": true, "hasColormap": false, "hasRasterAttributeTable": true, "minScale": 0, "maxScale": 0, "exportTilesAllowed": false, "supportsStatistics": false, "supportsAdvancedQueries": false, "editFieldsInfo": null, "ownershipBasedAccessControlForRasters": null, "allowComputeTiePoints": false, "useStandardizedQueries": true, "advancedQueryCapabilities": { "useStandardizedQueries": true, "supportsStatistics": false, "supportsOrderBy": false, "supportsDistinct": false, "supportsPagination": false }, "spatialReference": { "wkid": 103490, "latestWkid": 103490 } }