View In:
ArcGIS JavaScript
ArcGIS Online Map Viewer
ArcGIS Earth
Service Description: USGS 7.5' topographic maps from 1953-1970
Name: topography/USGS_topos_24k_1953_1970
Description: USGS 7.5' topographic maps from 1953-1970
Single Fused Map Cache: false
Extent:
XMin: 1451308.5753612623
YMin: 1634462.8663118004
XMax: 1680068.895363211
YMax: 1868215.3463137916
Spatial Reference: 103490
(103490)
LatestVCSWkid(0)
Initial Extent:
XMin: 1451308.5753612623
YMin: 1634462.8663118004
XMax: 1680068.895363211
YMax: 1868215.3463137916
Spatial Reference: 103490
(103490)
LatestVCSWkid(0)
Full Extent:
XMin: 1451308.5753612623
YMin: 1634462.8663118004
XMax: 1680068.895363211
YMax: 1868215.3463137916
Spatial Reference: 103490
(103490)
LatestVCSWkid(0)
Pixel Size X: 6.560000000055879
Pixel Size Y: 6.560000000055879
Band Count: 3
Pixel Type: U8
RasterFunction Infos: {"rasterFunctionInfos": [{
"name": "None",
"description": "",
"help": ""
}]}
Mensuration Capabilities: Basic
Inspection Capabilities:
Has Histograms: true
Has Colormap: false
Has Multi Dimensions : false
Rendering Rule:
Min Scale: 0
Max Scale: 0
Copyright Text:
Service Data Type: esriImageServiceDataTypeRGB
Min Values: 1, 1, 1
Max Values: 255, 255, 255
Mean Values: 218.04014600306198, 230.31638177612376, 177.39746286102167
Standard Deviation Values: 33.99694574413597, 42.309467983285614, 54.3942761560741
Object ID Field:
Fields:
None
Default Mosaic Method: Center
Allowed Mosaic Methods:
SortField:
SortValue: null
Mosaic Operator: First
Default Compression Quality: 75
Default Resampling Method: Nearest
Max Record Count: null
Max Image Height: 4100
Max Image Width: 15000
Max Download Image Count: null
Max Mosaic Image Count: null
Allow Raster Function: true
Allow Copy: true
Allow Analysis: true
Allow Compute TiePoints: false
Supports Statistics: false
Supports Advanced Queries: false
Use StandardizedQueries: true
Raster Type Infos:
Name: Raster Dataset
Description: Supports all ArcGIS Raster Datasets
Help:
Has Raster Attribute Table: false
Edit Fields Info: null
Ownership Based AccessControl For Rasters: null
Child Resources:
Info
Histograms
Statistics
Key Properties
Legend
Raster Function Infos
Supported Operations:
Export Image
Identify
Measure
Compute Histograms
Compute Statistics Histograms
Get Samples
Compute Class Statistics
Query Boundary
Compute Pixel Location
Compute Angles
Validate
Project