View In:
ArcGIS JavaScript
ArcGIS Online Map Viewer
ArcGIS Earth
Service Description: This layer includes relevant scanned General Land Office (GLO) plat maps prior to the start of the Manhattan Project in what is now Los Alamos, NM. These maps are typically in the period from 1920-1941. The maps are provided electronically by the GLO from their website www.glorecords.blm.gov. The digital maps were converted to TIFFs and georectified to fit the modern public land survey data layer provided by RGIS.
Name: topography/USDOI_topos_31k_pre_1941
Description: This layer includes relevant scanned General Land Office (GLO) plat maps prior to the start of the Manhattan Project in what is now Los Alamos, NM. These maps are typically in the period from 1920-1941. The maps are provided electronically by the GLO from their website www.glorecords.blm.gov. The digital maps were converted to TIFFs and georectified to fit the modern public land survey data layer provided by RGIS.
Single Fused Map Cache: false
Extent:
XMin: 1609335.1922319517
YMin: 1766929.583213603
XMax: 1665495.1922319517
YMax: 1789884.583213603
Spatial Reference: 103490
(103490)
LatestVCSWkid(0)
Initial Extent:
XMin: 1609335.1922319517
YMin: 1766929.583213603
XMax: 1665495.1922319517
YMax: 1789884.583213603
Spatial Reference: 103490
(103490)
LatestVCSWkid(0)
Full Extent:
XMin: 1609335.1922319517
YMin: 1766929.583213603
XMax: 1665495.1922319517
YMax: 1789884.583213603
Spatial Reference: 103490
(103490)
LatestVCSWkid(0)
Pixel Size X: 5.0
Pixel Size Y: 5.0
Band Count: 3
Pixel Type: U8
RasterFunction Infos: {"rasterFunctionInfos": [{
"name": "None",
"description": "",
"help": ""
}]}
Mensuration Capabilities: Basic
Inspection Capabilities:
Has Histograms: true
Has Colormap: false
Has Multi Dimensions : false
Rendering Rule:
Min Scale: 0
Max Scale: 0
Copyright Text: USDOI - GLO, LACOGIS
Service Data Type: esriImageServiceDataTypeRGB
Min Values: 3, 1, 1
Max Values: 255, 255, 255
Mean Values: 213.70401166727783, 201.76199149349065, 186.17949072247035
Standard Deviation Values: 42.573011835097304, 48.091670700656906, 45.9684840560963
Object ID Field:
Fields:
None
Default Mosaic Method: Center
Allowed Mosaic Methods:
SortField:
SortValue: null
Mosaic Operator: First
Default Compression Quality: 75
Default Resampling Method: Nearest
Max Record Count: null
Max Image Height: 4100
Max Image Width: 15000
Max Download Image Count: null
Max Mosaic Image Count: null
Allow Raster Function: true
Allow Copy: true
Allow Analysis: true
Allow Compute TiePoints: false
Supports Statistics: false
Supports Advanced Queries: false
Use StandardizedQueries: true
Raster Type Infos:
Name: Raster Dataset
Description: Supports all ArcGIS Raster Datasets
Help:
Has Raster Attribute Table: false
Edit Fields Info: null
Ownership Based AccessControl For Rasters: null
Child Resources:
Info
Histograms
Statistics
Key Properties
Legend
Raster Function Infos
Supported Operations:
Export Image
Identify
Measure
Compute Histograms
Compute Statistics Histograms
Get Samples
Compute Class Statistics
Query Boundary
Compute Pixel Location
Compute Angles
Validate
Project