View In:
ArcGIS JavaScript
ArcGIS Online Map Viewer
ArcGIS Earth
Service Description: USGS topographic maps from 2020
Name: imagery/USGS_topos_24k_2020
Description: USGS topographic maps from 2020
Single Fused Map Cache: false
Extent:
XMin: 1447168.3968199522
YMin: 1627918.555298136
XMax: 1721776.2042831266
YMax: 1871371.7031843846
Spatial Reference: 103490
(103490)
LatestVCSWkid(0)
Initial Extent:
XMin: 1447168.3968199522
YMin: 1627918.555298136
XMax: 1721776.2042831266
YMax: 1871371.7031843846
Spatial Reference: 103490
(103490)
LatestVCSWkid(0)
Full Extent:
XMin: 1447168.3968199522
YMin: 1627918.555298136
XMax: 1721776.2042831266
YMax: 1871371.7031843846
Spatial Reference: 103490
(103490)
LatestVCSWkid(0)
Pixel Size X: 3.390136138159236
Pixel Size Y: 3.5023182743446966
Band Count: 3
Pixel Type: U8
RasterFunction Infos: {"rasterFunctionInfos": [{
"name": "None",
"description": "",
"help": ""
}]}
Mensuration Capabilities: Basic
Inspection Capabilities:
Has Histograms: true
Has Colormap: false
Has Multi Dimensions : false
Rendering Rule:
Min Scale: 0
Max Scale: 0
Copyright Text:
Service Data Type: esriImageServiceDataTypeRGB
Min Values: 0, 0, 0
Max Values: 255, 255, 255
Mean Values: 239.34301322414015, 240.57705736906212, 235.42118324999828
Standard Deviation Values: 25.18219138110867, 30.951837416748525, 36.82338396923189
Object ID Field:
Fields:
None
Default Mosaic Method: Center
Allowed Mosaic Methods:
SortField:
SortValue: null
Mosaic Operator: First
Default Compression Quality: 75
Default Resampling Method: Nearest
Max Record Count: null
Max Image Height: 4100
Max Image Width: 15000
Max Download Image Count: null
Max Mosaic Image Count: null
Allow Raster Function: true
Allow Copy: true
Allow Analysis: true
Allow Compute TiePoints: false
Supports Statistics: false
Supports Advanced Queries: false
Use StandardizedQueries: true
Raster Type Infos:
Name: Raster Dataset
Description: Supports all ArcGIS Raster Datasets
Help:
Has Raster Attribute Table: false
Edit Fields Info: null
Ownership Based AccessControl For Rasters: null
Child Resources:
Info
Histograms
Statistics
Key Properties
Legend
Raster Function Infos
Supported Operations:
Export Image
Identify
Measure
Compute Histograms
Compute Statistics Histograms
Get Samples
Compute Class Statistics
Query Boundary
Compute Pixel Location
Compute Angles
Validate
Project