View In:
ArcGIS JavaScript
ArcGIS Online Map Viewer
ArcGIS Earth
Service Description: This raster layer contains scanned USGS topographic maps from the turn of the 20th century for the area including Los Alamos and much of the surrounding area. This layer includes 4 quads which were mosaicked together:
Abiqui - 1918 (unfortunately this preliminary sheet is the only one USGS has in the collection for this quad)
Gallina - 1909
Jemez - 1892
Santa Clara - 1892 (Los Alamos lies within this quad)
Name: imagery/USGS_topos_125k_circa_1900
Description: This raster layer contains scanned USGS topographic maps from the turn of the 20th century for the area including Los Alamos and much of the surrounding area. This layer includes 4 quads which were mosaicked together:
Abiqui - 1918 (unfortunately this preliminary sheet is the only one USGS has in the collection for this quad)
Gallina - 1909
Jemez - 1892
Santa Clara - 1892 (Los Alamos lies within this quad)
Single Fused Map Cache: false
Extent:
XMin: 1417000.2291315843
YMin: 1637290.0995091442
XMax: 1714640.2291315843
YMax: 2002165.0995091442
Spatial Reference: 103490
(103490)
LatestVCSWkid(0)
Initial Extent:
XMin: 1417000.2291315843
YMin: 1637290.0995091442
XMax: 1714640.2291315843
YMax: 2002165.0995091442
Spatial Reference: 103490
(103490)
LatestVCSWkid(0)
Full Extent:
XMin: 1417000.2291315843
YMin: 1637290.0995091442
XMax: 1714640.2291315843
YMax: 2002165.0995091442
Spatial Reference: 103490
(103490)
LatestVCSWkid(0)
Pixel Size X: 35.0
Pixel Size Y: 35.0
Band Count: 3
Pixel Type: U8
RasterFunction Infos: {"rasterFunctionInfos": [{
"name": "None",
"description": "",
"help": ""
}]}
Mensuration Capabilities: Basic
Inspection Capabilities:
Has Histograms: false
Has Colormap: false
Has Multi Dimensions : false
Rendering Rule:
Min Scale: 0
Max Scale: 0
Copyright Text: USGS, LACOGIS
Service Data Type: esriImageServiceDataTypeRGB
Min Values: N/A
Max Values: N/A
Mean Values: N/A
Standard Deviation Values: N/A
Object ID Field:
Fields:
None
Default Mosaic Method: Center
Allowed Mosaic Methods:
SortField:
SortValue: null
Mosaic Operator: First
Default Compression Quality: 75
Default Resampling Method: Nearest
Max Record Count: null
Max Image Height: 4100
Max Image Width: 15000
Max Download Image Count: null
Max Mosaic Image Count: null
Allow Raster Function: true
Allow Copy: true
Allow Analysis: true
Allow Compute TiePoints: false
Supports Statistics: false
Supports Advanced Queries: false
Use StandardizedQueries: true
Raster Type Infos:
Name: Raster Dataset
Description: Supports all ArcGIS Raster Datasets
Help:
Has Raster Attribute Table: false
Edit Fields Info: null
Ownership Based AccessControl For Rasters: null
Child Resources:
Info
Statistics
Key Properties
Legend
Raster Function Infos
Supported Operations:
Export Image
Identify
Measure
Compute Histograms
Compute Statistics Histograms
Get Samples
Compute Class Statistics
Query Boundary
Compute Pixel Location
Compute Angles
Validate
Project