View In:
ArcGIS JavaScript
ArcGIS Online Map Viewer
ArcGIS Earth
Service Description: LandSat7 EMT+ acquisition date April 1, 2001. 6 bands.
Name: imagery/Satellite_imagery_LANDSAT_30m_2001
Description: LandSat7 EMT+ acquisition date April 1, 2001. 6 bands.
Single Fused Map Cache: false
Extent:
XMin: 1553750.0464872352
YMin: 1661949.664956794
XMax: 1700350.0464872352
YMax: 1868749.664956794
Spatial Reference: 103490
(103490)
LatestVCSWkid(0)
Initial Extent:
XMin: 1553750.0464872352
YMin: 1661949.664956794
XMax: 1700350.0464872352
YMax: 1868749.664956794
Spatial Reference: 103490
(103490)
LatestVCSWkid(0)
Full Extent:
XMin: 1553750.0464872352
YMin: 1661949.664956794
XMax: 1700350.0464872352
YMax: 1868749.664956794
Spatial Reference: 103490
(103490)
LatestVCSWkid(0)
Pixel Size X: 100.0
Pixel Size Y: 100.0
Band Count: 6
Pixel Type: U8
RasterFunction Infos: {"rasterFunctionInfos": [{
"name": "None",
"description": "",
"help": ""
}]}
Mensuration Capabilities: Basic
Inspection Capabilities:
Has Histograms: true
Has Colormap: false
Has Multi Dimensions : false
Rendering Rule:
Min Scale: 0
Max Scale: 0
Copyright Text:
Service Data Type: esriImageServiceDataTypeGeneric
Min Values: 0, 0, 0, 0, 0, 0
Max Values: 255, 255, 255, 255, 255, 255
Mean Values: 84.91883287987503, 74.15040142039454, 82.68514326285036, 56.01381183118385, 81.7128965843192, 67.24477442453318
Standard Deviation Values: 32.76425725168369, 33.57706202463467, 37.19150513081403, 19.51782902544277, 32.29837727374167, 30.323025936220777
Object ID Field:
Fields:
None
Default Mosaic Method: Center
Allowed Mosaic Methods:
SortField:
SortValue: null
Mosaic Operator: First
Default Compression Quality: 75
Default Resampling Method: Nearest
Max Record Count: null
Max Image Height: 4100
Max Image Width: 15000
Max Download Image Count: null
Max Mosaic Image Count: null
Allow Raster Function: true
Allow Copy: true
Allow Analysis: true
Allow Compute TiePoints: false
Supports Statistics: false
Supports Advanced Queries: false
Use StandardizedQueries: true
Raster Type Infos:
Name: Raster Dataset
Description: Supports all ArcGIS Raster Datasets
Help:
Has Raster Attribute Table: false
Edit Fields Info: null
Ownership Based AccessControl For Rasters: null
Child Resources:
Info
Histograms
Statistics
Key Properties
Legend
Raster Function Infos
Supported Operations:
Export Image
Identify
Measure
Compute Histograms
Compute Statistics Histograms
Get Samples
Compute Class Statistics
Query Boundary
Compute Pixel Location
Compute Angles
Validate
Project