View In:
ArcGIS JavaScript
ArcGIS Online Map Viewer
ArcGIS Earth
Service Description: Statewide mosiac of LandSat ETM+ dats
Name: imagery/Satellite_imagery_LANDSAT_100m_mosaic
Description: Statewide mosiac of LandSat ETM+ dats
Single Fused Map Cache: false
Extent:
XMin: 705721.7480384371
YMin: 90115.68066703808
XMax: 2669785.748038437
YMax: 2249339.680667038
Spatial Reference: 103490
(103490)
LatestVCSWkid(0)
Initial Extent:
XMin: 705721.7480384371
YMin: 90115.68066703808
XMax: 2669785.748038437
YMax: 2249339.680667038
Spatial Reference: 103490
(103490)
LatestVCSWkid(0)
Full Extent:
XMin: 705721.7480384371
YMin: 90115.68066703808
XMax: 2669785.748038437
YMax: 2249339.680667038
Spatial Reference: 103490
(103490)
LatestVCSWkid(0)
Pixel Size X: 328.0
Pixel Size Y: 328.0
Band Count: 3
Pixel Type: U8
RasterFunction Infos: {"rasterFunctionInfos": [{
"name": "None",
"description": "",
"help": ""
}]}
Mensuration Capabilities: Basic
Inspection Capabilities:
Has Histograms: true
Has Colormap: false
Has Multi Dimensions : false
Rendering Rule:
Min Scale: 0
Max Scale: 0
Copyright Text:
Service Data Type: esriImageServiceDataTypeRGB
Min Values: 1, 1, 1
Max Values: 255, 255, 255
Mean Values: 124.31282947098293, 122.97113809536327, 107.80204362496964
Standard Deviation Values: 42.74921694718594, 34.75665900470357, 35.55362630217777
Object ID Field:
Fields:
None
Default Mosaic Method: Center
Allowed Mosaic Methods:
SortField:
SortValue: null
Mosaic Operator: First
Default Compression Quality: 75
Default Resampling Method: Nearest
Max Record Count: null
Max Image Height: 4100
Max Image Width: 15000
Max Download Image Count: null
Max Mosaic Image Count: null
Allow Raster Function: true
Allow Copy: true
Allow Analysis: true
Allow Compute TiePoints: false
Supports Statistics: false
Supports Advanced Queries: false
Use StandardizedQueries: true
Raster Type Infos:
Name: Raster Dataset
Description: Supports all ArcGIS Raster Datasets
Help:
Has Raster Attribute Table: false
Edit Fields Info: null
Ownership Based AccessControl For Rasters: null
Child Resources:
Info
Histograms
Statistics
Key Properties
Legend
Raster Function Infos
Supported Operations:
Export Image
Identify
Measure
Compute Histograms
Compute Statistics Histograms
Get Samples
Compute Class Statistics
Query Boundary
Compute Pixel Location
Compute Angles
Validate
Project