View In:
ArcGIS JavaScript
ArcGIS Online Map Viewer
ArcGIS Earth
Service Description: Panchromatic satellite imagery collected by IRS satellites.
Name: imagery/Satellite_imagery_IRS_5m_1998
Description: Panchromatic satellite imagery collected by IRS satellites.
Single Fused Map Cache: false
Extent:
XMin: 1527649.150534802
YMin: 1682076.4971462435
XMax: 1716035.950534802
YMax: 1865641.6971462434
Spatial Reference: 103490
(103490)
LatestVCSWkid(0)
Initial Extent:
XMin: 1527649.150534802
YMin: 1682076.4971462435
XMax: 1716035.950534802
YMax: 1865641.6971462434
Spatial Reference: 103490
(103490)
LatestVCSWkid(0)
Full Extent:
XMin: 1527649.150534802
YMin: 1682076.4971462435
XMax: 1716035.950534802
YMax: 1865641.6971462434
Spatial Reference: 103490
(103490)
LatestVCSWkid(0)
Pixel Size X: 16.400000000000006
Pixel Size Y: 16.399999999999995
Band Count: 1
Pixel Type: U8
RasterFunction Infos: {"rasterFunctionInfos": [{
"name": "None",
"description": "",
"help": ""
}]}
Mensuration Capabilities: Basic
Inspection Capabilities:
Has Histograms: true
Has Colormap: false
Has Multi Dimensions : false
Rendering Rule:
Min Scale: 0
Max Scale: 0
Copyright Text:
Service Data Type: esriImageServiceDataTypeGeneric
Min Values: 0
Max Values: 255
Mean Values: 97.23768380185
Standard Deviation Values: 40.61546059269
Object ID Field:
Fields:
None
Default Mosaic Method: Center
Allowed Mosaic Methods:
SortField:
SortValue: null
Mosaic Operator: First
Default Compression Quality: 75
Default Resampling Method: Nearest
Max Record Count: null
Max Image Height: 4100
Max Image Width: 15000
Max Download Image Count: null
Max Mosaic Image Count: null
Allow Raster Function: true
Allow Copy: true
Allow Analysis: true
Allow Compute TiePoints: false
Supports Statistics: false
Supports Advanced Queries: false
Use StandardizedQueries: true
Raster Type Infos:
Name: Raster Dataset
Description: Supports all ArcGIS Raster Datasets
Help:
Has Raster Attribute Table: false
Edit Fields Info: null
Ownership Based AccessControl For Rasters: null
Child Resources:
Info
Histograms
Statistics
Key Properties
Legend
Raster Function Infos
Supported Operations:
Export Image
Identify
Measure
Compute Histograms
Compute Statistics Histograms
Get Samples
Compute Class Statistics
Query Boundary
Compute Pixel Location
Compute Angles
Validate
Project