View In:
ArcGIS JavaScript
ArcGIS Online Map Viewer
ArcGIS Earth
Service Description: Mosaic from DeLorme atlas
Name: imagery/Delorme_atlas_2020
Description: Mosaic from DeLorme atlas
Single Fused Map Cache: false
Extent:
XMin: -109.24999999999994
YMin: 31.299960537493728
XMax: -102.84988075123928
YMax: 37.10000000000019
Spatial Reference: 4326
(4326)
LatestVCSWkid(0)
Initial Extent:
XMin: -109.24999999999994
YMin: 31.299960537493728
XMax: -102.84988075123928
YMax: 37.10000000000019
Spatial Reference: 4326
(4326)
LatestVCSWkid(0)
Full Extent:
XMin: -109.24999999999994
YMin: 31.299960537493728
XMax: -102.84988075123928
YMax: 37.10000000000019
Spatial Reference: 4326
(4326)
LatestVCSWkid(0)
Pixel Size X: 1.2196743623052674E-4
Pixel Size Y: 1.2196743623052667E-4
Band Count: 3
Pixel Type: U8
RasterFunction Infos: {"rasterFunctionInfos": [{
"name": "None",
"description": "",
"help": ""
}]}
Mensuration Capabilities: Basic
Inspection Capabilities:
Has Histograms: true
Has Colormap: false
Has Multi Dimensions : false
Rendering Rule:
Min Scale: 0
Max Scale: 0
Copyright Text:
Service Data Type: esriImageServiceDataTypeRGB
Min Values: 15, 31, 21
Max Values: 255, 255, 255
Mean Values: 209.39352836518464, 206.43190899971444, 200.14106943158097
Standard Deviation Values: 34.04815111387826, 33.36323859147952, 35.069492777220674
Object ID Field:
Fields:
None
Default Mosaic Method: Center
Allowed Mosaic Methods:
SortField:
SortValue: null
Mosaic Operator: First
Default Compression Quality: 75
Default Resampling Method: Bilinear
Max Record Count: null
Max Image Height: 4100
Max Image Width: 15000
Max Download Image Count: null
Max Mosaic Image Count: null
Allow Raster Function: true
Allow Copy: true
Allow Analysis: true
Allow Compute TiePoints: false
Supports Statistics: false
Supports Advanced Queries: false
Use StandardizedQueries: true
Raster Type Infos:
Name: Raster Dataset
Description: Supports all ArcGIS Raster Datasets
Help:
Has Raster Attribute Table: false
Edit Fields Info: null
Ownership Based AccessControl For Rasters: null
Child Resources:
Info
Histograms
Statistics
Key Properties
Legend
Raster Function Infos
Supported Operations:
Export Image
Identify
Measure
Compute Histograms
Compute Statistics Histograms
Get Samples
Compute Class Statistics
Query Boundary
Compute Pixel Location
Compute Angles
Validate
Project