View In:
ArcGIS JavaScript
ArcGIS Online Map Viewer
ArcGIS Earth
Service Description: Aerial imagery from 1935 USDA flyovers.
Name: imagery/Aerial_imagery_USDA_12ft_1935
Description: Aerial imagery from 1935 USDA flyovers.
Single Fused Map Cache: false
Extent:
XMin: 1416436.0
YMin: 1637268.0
XMax: 1714888.0
YMax: 2002128.0
Spatial Reference: 103490
(103490)
LatestVCSWkid(0)
Initial Extent:
XMin: 1416436.0
YMin: 1637268.0
XMax: 1714888.0
YMax: 2002128.0
Spatial Reference: 103490
(103490)
LatestVCSWkid(0)
Full Extent:
XMin: 1416436.0
YMin: 1637268.0
XMax: 1714888.0
YMax: 2002128.0
Spatial Reference: 103490
(103490)
LatestVCSWkid(0)
Pixel Size X: 12.0
Pixel Size Y: 12.0
Band Count: 1
Pixel Type: U8
RasterFunction Infos: {"rasterFunctionInfos": [{
"name": "None",
"description": "",
"help": ""
}]}
Mensuration Capabilities: Basic
Inspection Capabilities:
Has Histograms: true
Has Colormap: false
Has Multi Dimensions : false
Rendering Rule:
Min Scale: 0
Max Scale: 0
Copyright Text:
Service Data Type: esriImageServiceDataTypeGeneric
Min Values: 0
Max Values: 255
Mean Values: 108.07188842773
Standard Deviation Values: 54.115420939483
Object ID Field:
Fields:
None
Default Mosaic Method: Center
Allowed Mosaic Methods:
SortField:
SortValue: null
Mosaic Operator: First
Default Compression Quality: 75
Default Resampling Method: Nearest
Max Record Count: null
Max Image Height: 4100
Max Image Width: 15000
Max Download Image Count: null
Max Mosaic Image Count: null
Allow Raster Function: true
Allow Copy: true
Allow Analysis: true
Allow Compute TiePoints: false
Supports Statistics: false
Supports Advanced Queries: false
Use StandardizedQueries: true
Raster Type Infos:
Name: Raster Dataset
Description: Supports all ArcGIS Raster Datasets
Help:
Has Raster Attribute Table: false
Edit Fields Info: null
Ownership Based AccessControl For Rasters: null
Child Resources:
Info
Histograms
Statistics
Key Properties
Legend
Raster Function Infos
Supported Operations:
Export Image
Identify
Measure
Compute Histograms
Compute Statistics Histograms
Get Samples
Compute Class Statistics
Query Boundary
Compute Pixel Location
Compute Angles
Validate
Project