This raster layer contains scanned USGS topographic maps from the turn of the 20th century for the area including Los Alamos and much of the surrounding area. This layer includes 4 quads which were mosaicked together:<\/SPAN><\/P>Abiqui - 1918 (unfortunately this preliminary sheet is the only one USGS has in the collection for this quad)<\/SPAN><\/P>Gallina - 1909<\/SPAN><\/P>Jemez - 1892<\/SPAN><\/P>Santa Clara - 1892 (Los Alamos lies within this quad)<\/SPAN><\/P><\/DIV><\/DIV><\/DIV>",
"serviceItemId": "c93e553b29874adbb4defef779497ce2",
"name": "topography/USGS_topos_125k_circa_1900",
"description": "This raster layer contains scanned USGS topographic maps from the turn of the 20th century for the area including Los Alamos and much of the surrounding area. This layer includes 4 quads which were mosaicked together:<\/SPAN><\/P>Abiqui - 1918 (unfortunately this preliminary sheet is the only one USGS has in the collection for this quad)<\/SPAN><\/P>Gallina - 1909<\/SPAN><\/P>Jemez - 1892<\/SPAN><\/P>Santa Clara - 1892 (Los Alamos lies within this quad)<\/SPAN><\/P><\/DIV><\/DIV><\/DIV>",
"extent": {
"xmin": 1417000.2291315843,
"ymin": 1637290.0995091442,
"xmax": 1714640.2291315843,
"ymax": 2002165.0995091442,
"spatialReference": {
"wkid": 103490,
"latestWkid": 103490
}
},
"initialExtent": {
"xmin": 1417000.2291315843,
"ymin": 1637290.0995091442,
"xmax": 1714640.2291315843,
"ymax": 2002165.0995091442,
"spatialReference": {
"wkid": 103490,
"latestWkid": 103490
}
},
"fullExtent": {
"xmin": 1417000.2291315843,
"ymin": 1637290.0995091442,
"xmax": 1714640.2291315843,
"ymax": 2002165.0995091442,
"spatialReference": {
"wkid": 103490,
"latestWkid": 103490
}
},
"sortableFields": "",
"bandCount": 3,
"pixelType": "U8",
"minValues": [],
"maxValues": [],
"meanValues": [],
"stdvValues": [],
"serviceProperties": "Center<\/MosaicMethod>First<\/MosaicOperator>true<\/SortAscending><\/LockImageID><\/TileOrderField>0<\/TileOrderBase>0.000000<\/AvgImageSpacingX>0.000000<\/AvgImageSpacingY>0.0<\/ViewPointX>0.0<\/ViewPointY>0.0<\/ViewPointDefShiftX>0.0<\/ViewPointDefShiftY>JPEG<\/CompressionMethod>75<\/CompressionQuality>0.010000<\/CompressionTolerance>Nearest<\/SamplingMethod><\/ImageServiceProperties><\/ImageServer>",
"allowedFields": "",
"hasMultidimensions": false,
"pixelSizeX": 35,
"pixelSizeY": 35,
"meanPixelSize": 10.668021336042674,
"datasetFormat": "FGDBR",
"uncompressedSize": 265962600,
"blockWidth": 128,
"blockHeight": 128,
"compressionType": "LZ77",
"bandNames": [
"Band_1"
],
"allowCopy": true,
"allowAnalysis": true,
"itemAccess": false,
"inspectionCapabilities": "",
"noDataValue": 256,
"noDataValues": [
256,
256,
256
],
"minPixelSize": 0,
"maxPixelSize": 0,
"copyrightText": "USGS, LACOGIS",
"serviceDataType": "esriImageServiceDataTypeRGB",
"serviceSourceType": "esriImageServiceSourceTypeDataset",
"objectIdField": "",
"fields": [],
"capabilities": "Image,Metadata,Mensuration",
"defaultMosaicMethod": "Center",
"allowedMosaicMethods": "",
"sortField": "",
"sortValue": null,
"sortAscending": true,
"mosaicOperator": "First",
"defaultCompressionQuality": 75,
"defaultResamplingMethod": "Nearest",
"maxImageHeight": 4100,
"maxImageWidth": 15000,
"allowRasterFunction": true,
"rasterFunctionInfos": [
{
"name": "None",
"description": "",
"help": ""
}
],
"rasterTypeInfos": [
{
"name": "Raster Dataset",
"description": "Supports all ArcGIS Raster Datasets",
"help": ""
}
],
"mensurationCapabilities": "Basic",
"hasHistograms": false,
"hasColormap": false,
"hasRasterAttributeTable": false,
"minScale": 0,
"maxScale": 0,
"exportTilesAllowed": false,
"supportsStatistics": false,
"supportsAdvancedQueries": false,
"editFieldsInfo": null,
"ownershipBasedAccessControlForRasters": null,
"allowComputeTiePoints": false,
"useStandardizedQueries": true,
"advancedQueryCapabilities": {
"useStandardizedQueries": true,
"supportsStatistics": false,
"supportsOrderBy": false,
"supportsDistinct": false,
"supportsPagination": false
},
"spatialReference": {
"wkid": 103490,
"latestWkid": 103490
}
}