<?xml version="1.0" encoding="UTF-8" standalone="no"?>
<metadata xml:lang="en">
<Esri>
<CreaDate>20190115</CreaDate>
<CreaTime>09005500</CreaTime>
<ArcGISFormat>1.0</ArcGISFormat>
<SyncOnce>FALSE</SyncOnce>
<DataProperties>
<itemProps>
<itemName Sync="TRUE">ned_10m</itemName>
<nativeExtBox>
<westBL Sync="TRUE">1350000.000000</westBL>
<eastBL Sync="TRUE">1900020.000000</eastBL>
<southBL Sync="TRUE">1549990.000000</southBL>
<northBL Sync="TRUE">2150020.000000</northBL>
<exTypeCode Sync="TRUE">1</exTypeCode>
</nativeExtBox>
</itemProps>
<coordRef>
<type Sync="TRUE">Projected</type>
<geogcsn Sync="TRUE">GCS_NAD_1983_CORS96</geogcsn>
<csUnits Sync="TRUE">Linear Unit: Foot_US (0.304801)</csUnits>
<projcsn Sync="TRUE">NAD_1983_CORS96_StatePlane_New_Mexico_Central_FIPS_3002_Ft_US</projcsn>
<peXml Sync="TRUE">&lt;ProjectedCoordinateSystem xsi:type='typens:ProjectedCoordinateSystem' xmlns:xsi='http://www.w3.org/2001/XMLSchema-instance' xmlns:xs='http://www.w3.org/2001/XMLSchema' xmlns:typens='http://www.esri.com/schemas/ArcGIS/10.4'&gt;&lt;WKT&gt;PROJCS[&amp;quot;NAD_1983_CORS96_StatePlane_New_Mexico_Central_FIPS_3002_Ft_US&amp;quot;,GEOGCS[&amp;quot;GCS_NAD_1983_CORS96&amp;quot;,DATUM[&amp;quot;D_NAD_1983_CORS96&amp;quot;,SPHEROID[&amp;quot;GRS_1980&amp;quot;,6378137.0,298.257222101]],PRIMEM[&amp;quot;Greenwich&amp;quot;,0.0],UNIT[&amp;quot;Degree&amp;quot;,0.0174532925199433]],PROJECTION[&amp;quot;Transverse_Mercator&amp;quot;],PARAMETER[&amp;quot;False_Easting&amp;quot;,1640416.666666667],PARAMETER[&amp;quot;False_Northing&amp;quot;,0.0],PARAMETER[&amp;quot;Central_Meridian&amp;quot;,-106.25],PARAMETER[&amp;quot;Scale_Factor&amp;quot;,0.9999],PARAMETER[&amp;quot;Latitude_Of_Origin&amp;quot;,31.0],UNIT[&amp;quot;Foot_US&amp;quot;,0.3048006096012192],AUTHORITY[&amp;quot;Esri&amp;quot;,103490]]&lt;/WKT&gt;&lt;XOrigin&gt;-16806300&lt;/XOrigin&gt;&lt;YOrigin&gt;-44067200&lt;/YOrigin&gt;&lt;XYScale&gt;137255279.03396165&lt;/XYScale&gt;&lt;ZOrigin&gt;-100000&lt;/ZOrigin&gt;&lt;ZScale&gt;10000&lt;/ZScale&gt;&lt;MOrigin&gt;-100000&lt;/MOrigin&gt;&lt;MScale&gt;10000&lt;/MScale&gt;&lt;XYTolerance&gt;0.0032808333333333331&lt;/XYTolerance&gt;&lt;ZTolerance&gt;0.001&lt;/ZTolerance&gt;&lt;MTolerance&gt;0.001&lt;/MTolerance&gt;&lt;HighPrecision&gt;true&lt;/HighPrecision&gt;&lt;WKID&gt;103490&lt;/WKID&gt;&lt;LatestWKID&gt;103490&lt;/LatestWKID&gt;&lt;/ProjectedCoordinateSystem&gt;</peXml>
</coordRef>
<RasterProperties>
<General>
<PixelDepth Sync="TRUE">32</PixelDepth>
<HasColormap Sync="TRUE">FALSE</HasColormap>
<CompressionType Sync="TRUE">None</CompressionType>
<NumBands Sync="TRUE">1</NumBands>
<Format Sync="TRUE">AMD</Format>
<HasPyramids Sync="TRUE">TRUE</HasPyramids>
<SourceType Sync="TRUE">continuous</SourceType>
<PixelType Sync="TRUE">floating point</PixelType>
<NoDataValue Sync="TRUE">
</NoDataValue>
</General>
<Properties>
<MaxImageHeight Sync="TRUE">4100</MaxImageHeight>
<MaxImageWidth Sync="TRUE">15000</MaxImageWidth>
<MaxRecordCount Sync="TRUE">1000</MaxRecordCount>
<MaxDownloadImageCount Sync="TRUE">20</MaxDownloadImageCount>
<MaxDownloadSizeLimit Sync="TRUE">2048</MaxDownloadSizeLimit>
<MaxMosaicImageCount Sync="TRUE">20</MaxMosaicImageCount>
<DefaultCompressionQuality Sync="TRUE">75</DefaultCompressionQuality>
<DefaultCompressionTolerance Sync="TRUE">0.01</DefaultCompressionTolerance>
<BlendWidth Sync="TRUE">10</BlendWidth>
<ViewpointSpacingX Sync="TRUE">600</ViewpointSpacingX>
<ViewpointSpacingY Sync="TRUE">300</ViewpointSpacingY>
<AllowedItemMetadata Sync="TRUE">Basic</AllowedItemMetadata>
<DefaultResamplingMethod Sync="TRUE">1</DefaultResamplingMethod>
<AllowedMosaicMethods Sync="TRUE">NorthWest,Center,LockRaster,ByAttribute,Nadir,Viewpoint,Seamline,None</AllowedMosaicMethods>
<AllowedCompressions Sync="TRUE">JPEG,None,LZ77,LERC</AllowedCompressions>
<AllowedMensurationCapabilities Sync="TRUE">None</AllowedMensurationCapabilities>
<AvailableMensurationCapabilities Sync="TRUE">None,Basic,Base-Top Height,Top-Top Shadow Height,Base-Top Shadow Height,3D</AvailableMensurationCapabilities>
<ClipToBoundary Sync="TRUE">-1</ClipToBoundary>
<FootprintMayContainNoData Sync="TRUE">-1</FootprintMayContainNoData>
<CellSizeTolerance Sync="TRUE">0.8</CellSizeTolerance>
<MinimumPixelContribution Sync="TRUE">1</MinimumPixelContribution>
<AvailableMosaicMethods Sync="TRUE">NorthWest,Center,LockRaster,ByAttribute,Nadir,Viewpoint,Seamline,None</AvailableMosaicMethods>
<AvailableCompressionMethods Sync="TRUE">None,JPEG,LZ77,LERC</AvailableCompressionMethods>
<AvailableItemMetadataLevels Sync="TRUE">None,Basic,Full</AvailableItemMetadataLevels>
<ConfigKeyword Sync="TRUE">
</ConfigKeyword>
<BandDefinitionKeyword Sync="TRUE">NONE</BandDefinitionKeyword>
<AllowedFields Sync="TRUE">Name,MinPS,MaxPS,LowPS,HighPS,Tag,GroupName,ProductName,CenterX,CenterY,ZOrder,Shape_Length,Shape_Area</AllowedFields>
<MaxCellSize Sync="TRUE">121500</MaxCellSize>
<LowCellSize Sync="TRUE">30</LowCellSize>
<HighCellSize Sync="TRUE">2430</HighCellSize>
<TimeStamp.RemoveItems Sync="TRUE">43480.6758938079</TimeStamp.RemoveItems>
<ApplyColorCorrection Sync="TRUE">0</ApplyColorCorrection>
<TimeValueFormat Sync="TRUE">
</TimeValueFormat>
<EndTimeFieldName Sync="TRUE">
</EndTimeFieldName>
<StartTimeFieldName Sync="TRUE">
</StartTimeFieldName>
<TimeIntervalUnits Sync="TRUE">
</TimeIntervalUnits>
<TimeInterval Sync="TRUE">
</TimeInterval>
<MosaicOperator Sync="TRUE">1</MosaicOperator>
<BlendWidthUnits Sync="TRUE">1</BlendWidthUnits>
<UseTime Sync="TRUE">0</UseTime>
<SortAscending Sync="TRUE">-1</SortAscending>
<ClipToFootprint Sync="TRUE">0</ClipToFootprint>
<SortField Sync="TRUE">Name</SortField>
<SortValue Sync="TRUE">0</SortValue>
<Unit Sync="TRUE">esriFeet</Unit>
</Properties>
<Functions Sync="TRUE">
<Function Description="Convert values from one unit to another unit." Name="Unit Conversion Function">
<Arguments>
<Raster>MosaicFunction.OutputRaster</Raster>
<FromUnit>9</FromUnit>
<ToUnit>3</ToUnit>
</Arguments>
</Function>
<Function Description="Performs on-the-fly mosaic on a raster catalog." Name="Mosaic Function">
</Function>
</Functions>
</RasterProperties>
</DataProperties>
<SyncDate>20190115</SyncDate>
<SyncTime>09452800</SyncTime>
<ModDate>20190115</ModDate>
<ModTime>09452800</ModTime>
<scaleRange>
<minScale>150000000</minScale>
<maxScale>5000</maxScale>
</scaleRange>
</Esri>
<mdLang>
<languageCode value="eng">
</languageCode>
<countryCode Sync="TRUE" value="USA">
</countryCode>
</mdLang>
<mdChar>
<CharSetCd value="004">
</CharSetCd>
</mdChar>
<mdHrLv>
<ScopeCd value="005">
</ScopeCd>
</mdHrLv>
<mdContact>
<rpOrgName>U.S. Geological Survey</rpOrgName>
<rpCntInfo>
<cntPhone>
<voiceNum>1-888-ASK-USGS (1-888-275-8747)</voiceNum>
</cntPhone>
<cntAddress addressType="both">
<delPoint>12201 Sunrise Valley Drive</delPoint>
<delPoint>USGS National Geospatial Program Office</delPoint>
<city>Reston</city>
<adminArea>VA</adminArea>
<postCode>20192</postCode>
<country>US</country>
</cntAddress>
<cntHours>Monday through Friday 8:00 AM to 4:00 PM Eastern Time Zone USA</cntHours>
<cntInstr>Please visit http://www.usgs.gov/ask/ to contact us.</cntInstr>
</rpCntInfo>
<role>
<RoleCd value="007">
</RoleCd>
</role>
</mdContact>
<mdStanName>ArcGIS Metadata</mdStanName>
<mdStanVer>1.0</mdStanVer>
<distInfo>
<distributor>
<distorCont>
<rpOrgName>U.S. Geological Survey</rpOrgName>
<rpCntInfo>
<cntPhone>
<voiceNum>1-888-ASK-USGS (1-888-275-8747)</voiceNum>
</cntPhone>
<cntAddress addressType="both">
<delPoint>USGS National Geospatial Program Office</delPoint>
<delPoint>12201 Sunrise Valley Drive</delPoint>
<city>Reston</city>
<adminArea>VA</adminArea>
<postCode>20192</postCode>
<country>US</country>
</cntAddress>
<cntHours>Monday through Friday 8:00 AM to 4:00 PM Eastern Time Zone USA</cntHours>
<cntInstr>Please visit http://www.usgs.gov/ask/ to contact us.</cntInstr>
</rpCntInfo>
<role>
<RoleCd value="005">
</RoleCd>
</role>
</distorCont>
<distorOrdPrc>
<resFees>NONE</resFees>
</distorOrdPrc>
<distorFormat>
<formatName>IMG</formatName>
</distorFormat>
<distorTran>
<transSize>306.364231</transSize>
<onLineSrc>
<linkage>ftp://rockyftp.cr.usgs.gov/vdelivery/Datasets/Staged/NED/13/IMG/n36w107.zip</linkage>
</onLineSrc>
</distorTran>
</distributor>
<distTranOps>
<onLineSrc>
<linkage>http://ned.usgs.gov/</linkage>
</onLineSrc>
<onLineSrc>
<linkage>http://nationalmap.gov/viewer.html</linkage>
</onLineSrc>
</distTranOps>
<distFormat>
<formatVer>10.1</formatVer>
</distFormat>
</distInfo>
<dataIdInfo>
<idCitation>
<resTitle Sync="TRUE">ned_10m</resTitle>
<date>
<pubDate>2013-01-01</pubDate>
</date>
<citRespParty>
<rpOrgName>U.S. Geological Survey</rpOrgName>
<role>
<RoleCd value="006">
</RoleCd>
</role>
</citRespParty>
<citRespParty>
<rpOrgName>U.S. Geological Survey</rpOrgName>
<rpCntInfo>
<cntAddress>
<delPoint>Reston, VA</delPoint>
</cntAddress>
</rpCntInfo>
<role>
<RoleCd value="010">
</RoleCd>
</role>
</citRespParty>
<presForm>
<PresFormCd value="005">
</PresFormCd>
</presForm>
<presForm>
<fgdcGeoform>raster digital data</fgdcGeoform>
</presForm>
</idCitation>
<idAbs>&lt;DIV STYLE="text-align:Left;"&gt;&lt;DIV&gt;&lt;DIV&gt;&lt;P&gt;&lt;SPAN&gt;This is a subset of the National Elevation Dataset (NED) is 1/3 arc-second resolution. The National Elevation Dataset (NED) serves the elevation layer of The National Map, and provides basic elevation information for earth science studies and mapping applications in the United States. Scientists and resource managers use NED data for global change research, hydrologic modeling, resource monitoring, mapping and visualization, and many other applications. The NED is an elevation dataset that consists of seamless layers and a high resolution layer. Each of these layers are composed of the best available raster elevation data of the conterminous United States, Alaska, Hawaii, territorial islands, Mexico and Canada. The NED is updated continually as new data become available. All NED data are in the public domain. The NED are derived from diverse source data that are processed to a common coordinate system and unit of vertical measure. These data are distributed in geographic coordinates in units of decimal degrees, and in conformance with the North American Datum of 1983 (NAD 83). All elevation values are in meters and, over the continental United States, are referenced to the North American Vertical Datum of 1988 (NAVD 88). The vertical reference will vary in other areas. NED data are available nationally (except for Alaska) at resolutions of 1 arc-second (approx. 30 meters) and 1/3 arc-second (approx. 10 meters), and in limited areas at 1/9 arc-second (approx. 3 meters). In most of Alaska, only lower resolution source data are available. As a result, most NED data for Alaska are at 2-arc-second (approx. 60 meters) grid spacing. Part of Alaska is available at the 1- and 1/3-arc-second resolution from IFSAR collections starting in 2010. Plans are in place for collection of statewide IFSAR in Alaska through 2016.&lt;/SPAN&gt;&lt;/P&gt;&lt;/DIV&gt;&lt;/DIV&gt;&lt;/DIV&gt;</idAbs>
<idPurp>The NED serves as the elevation layer of The National Map, and provides basic elevation information for earth science studies and mapping applications in the...</idPurp>
<idCredit>Acknowledgement of the originating agencies would be appreciated in products derived from these data.</idCredit>
<idStatus>
<ProgCd value="007">
</ProgCd>
</idStatus>
<resMaint>
<maintFreq>
<MaintFreqCd value="009">
</MaintFreqCd>
</maintFreq>
</resMaint>
<graphOver>
<bgFileName>ftp://rockyftp.cr.usgs.gov/vdelivery/Datasets/Staged/NED/13/IMG/imgn36w107_13_thumb.jpg</bgFileName>
<bgFileDesc>Thumbnail JPG image</bgFileDesc>
<bgFileType>JPEG</bgFileType>
</graphOver>
<placeKeys>
<thesaName>
<resTitle>Geographic Names Information System</resTitle>
</thesaName>
<keyword>United States</keyword>
<keyword>US</keyword>
</placeKeys>
<themeKeys>
<thesaName>
<resTitle>ISO 19115 Topic Category</resTitle>
</thesaName>
<keyword>elevation</keyword>
</themeKeys>
<themeKeys>
<thesaName>
<resTitle>NGDA Portfolio Themes</resTitle>
</thesaName>
<keyword>Elevation</keyword>
</themeKeys>
<themeKeys>
<thesaName>
<resTitle>National Elevation Dataset (NED)</resTitle>
</thesaName>
<keyword>Mapping</keyword>
<keyword>NED</keyword>
<keyword>Digital Elevation Model</keyword>
<keyword>High Resolution</keyword>
<keyword>USGS</keyword>
<keyword>Grid</keyword>
<keyword>Digital Terrain Model</keyword>
<keyword>Topography</keyword>
<keyword>Hydro-Flattened</keyword>
<keyword>DEM</keyword>
<keyword>Interferometric Synthetic Aperture Radar</keyword>
<keyword>Elevation</keyword>
<keyword>1/3 arc-second DEM</keyword>
<keyword>LIght Detection And Ranging</keyword>
<keyword>Cartography</keyword>
<keyword>LIDAR</keyword>
<keyword>Bare Earth</keyword>
<keyword>IFSAR</keyword>
<keyword>Digital Mapping</keyword>
<keyword>GIS</keyword>
<keyword>Topographic Surface</keyword>
<keyword>1-degree DEM</keyword>
<keyword>Geodata</keyword>
<keyword>Terrain Elevation</keyword>
<keyword>U.S. Geological Survey</keyword>
<keyword>National Elevation Dataset</keyword>
<keyword>Raster</keyword>
</themeKeys>
<searchKeys>
<keyword>Mapping</keyword>
<keyword>NED</keyword>
<keyword>Digital Elevation Model</keyword>
<keyword>High Resolution</keyword>
<keyword>USGS</keyword>
<keyword>Grid</keyword>
<keyword>Digital Terrain Model</keyword>
<keyword>Topography</keyword>
<keyword>Hydro-Flattened</keyword>
<keyword>DEM</keyword>
<keyword>Interferometric Synthetic Aperture Radar</keyword>
<keyword>Elevation</keyword>
<keyword>1/3 arc-second DEM</keyword>
<keyword>LIght Detection And Ranging</keyword>
<keyword>Elevation</keyword>
<keyword>Cartography</keyword>
<keyword>LIDAR</keyword>
<keyword>Bare Earth</keyword>
<keyword>IFSAR</keyword>
<keyword>Digital Mapping</keyword>
<keyword>elevation</keyword>
<keyword>GIS</keyword>
<keyword>Topographic Surface</keyword>
<keyword>1-degree DEM</keyword>
<keyword>Geodata</keyword>
<keyword>United States</keyword>
<keyword>Terrain Elevation</keyword>
<keyword>U.S. Geological Survey</keyword>
<keyword>National Elevation Dataset</keyword>
<keyword>US</keyword>
<keyword>Raster</keyword>
</searchKeys>
<resConst>
<LegConsts>
<useLimit>Although these data have been processed successfully on a computer system at the U.S. Geological Survey, no warranty, expressed or implied, is made by either regarding the utility of the data on any system, nor shall the act of distribution constitute any such warranty. The USGS will warranty the delivery of this product in computer-readable format and will offer appropriate adjustment of credit when the product is determined unreadable by correctly adjusted computer peripherals, or when the physical medium is delivered in damaged condition. Requests for adjustments of credit must be made within 90 days from the date of this shipment from the ordering site.</useLimit>
<othConsts>None. Any downloading and use of these data signifies a user's agreement to comprehension and compliance of the USGS Standard Disclaimer. Insure all portions of metadata are read and clearly understood before using these data in order to protect both user and USGS interests.</othConsts>
</LegConsts>
</resConst>
<resConst>
<Consts>
<useLimit>&lt;DIV STYLE="text-align:Left;"&gt;&lt;DIV&gt;&lt;DIV&gt;&lt;P&gt;&lt;SPAN&gt;There is no guarantee or warranty concerning the accuracy of the data. Users should be aware that temporal changes may have occurred since these data were collected and that some parts of these data may no longer represent actual surface conditions. Users should not use these data for critical applications without a full awareness of its limitations. Acknowledgement of the originating agencies would be appreciated in products derived from these data. Any user who modifies the data is obligated to describe the types of modifications they perform. User specifically agrees not to misrepresent the data, nor to imply that changes made were approved or endorsed by the USGS. Please refer to http://www.usgs.gov/privacy.html for the USGS disclaimer.&lt;/SPAN&gt;&lt;/P&gt;&lt;/DIV&gt;&lt;/DIV&gt;&lt;/DIV&gt;</useLimit>
</Consts>
</resConst>
<dataLang>
<languageCode value="eng">
</languageCode>
<countryCode Sync="TRUE" value="USA">
</countryCode>
</dataLang>
<dataExt>
<geoEle>
<GeoBndBox>
<westBL>-107.0005555556</westBL>
<eastBL>-105.9994444445</eastBL>
<southBL>34.99944444444</southBL>
<northBL>36.00055555556</northBL>
</GeoBndBox>
</geoEle>
</dataExt>
<dataExt>
<exDesc>publication date</exDesc>
<tempEle>
<TempExtent>
<exTemp>
<TM_Period>
<tmBegin>1999-02-01</tmBegin>
<tmEnd>2013-11-01</tmEnd>
</TM_Period>
</exTemp>
</TempExtent>
</tempEle>
<geoEle>
</geoEle>
</dataExt>
<suppInfo>This tile of the National Elevation Dataset (NED) is 1/3 arc-second resolution, Image file format, and covers a one degree block. The geographic area of coverage is described below in the Bounding Coordinates. Additional information for the NED may be found on http://ned.usgs.gov/. Data may be downloaded through The National Map Viewer: http://nationalmap.gov/viewer.html. Direct links for direct access by automated services are provided in the Distribution section of this metadata.</suppInfo>
<tpCat>
<TopicCatCd value="006">
</TopicCatCd>
</tpCat>
<envirDesc Sync="TRUE"> Version 6.2 (Build 9200) ; Esri ArcGIS 10.4.1.5686</envirDesc>
<spatRpType>
<SpatRepTypCd Sync="TRUE" value="002">
</SpatRepTypCd>
</spatRpType>
<dataExt>
<geoEle>
<GeoBndBox esriExtentType="search">
<exTypeCode Sync="TRUE">1</exTypeCode>
<westBL Sync="TRUE">-107.243311</westBL>
<eastBL Sync="TRUE">-105.362068</eastBL>
<northBL Sync="TRUE">36.908596</northBL>
<southBL Sync="TRUE">35.256283</southBL>
</GeoBndBox>
</geoEle>
</dataExt>
</dataIdInfo>
<spatRepInfo>
<Georect>
<numDims Sync="TRUE">2</numDims>
<axisDimension type="001">
<dimSize Sync="TRUE">20001</dimSize>
<dimResol>
<value Sync="TRUE" uom="ftUS">30.000000</value>
</dimResol>
</axisDimension>
<axisDimension type="002">
<dimSize Sync="TRUE">18334</dimSize>
<dimResol>
<value Sync="TRUE" uom="ftUS">30.000000</value>
</dimResol>
</axisDimension>
<axisDimension type="003">
<dimSize>1</dimSize>
</axisDimension>
<cellGeo>
<CellGeoCd Sync="TRUE" value="002">
</CellGeoCd>
</cellGeo>
<tranParaAv Sync="TRUE">1</tranParaAv>
<chkPtAv Sync="TRUE">0</chkPtAv>
<cornerPts>
<pos Sync="TRUE">1350000.000000 1549990.000000</pos>
</cornerPts>
<cornerPts>
<pos Sync="TRUE">1350000.000000 2150020.000000</pos>
</cornerPts>
<cornerPts>
<pos Sync="TRUE">1900020.000000 2150020.000000</pos>
</cornerPts>
<cornerPts>
<pos Sync="TRUE">1900020.000000 1549990.000000</pos>
</cornerPts>
<centerPt>
<pos Sync="TRUE">1625010.000000 1850005.000000</pos>
</centerPt>
<ptInPixel>
<PixOrientCd Sync="TRUE" value="001">
</PixOrientCd>
</ptInPixel>
</Georect>
</spatRepInfo>
<refSysInfo>
<RefSystem>
<refSysID>
<identCode Sync="TRUE" code="103490">
</identCode>
<idCodeSpace Sync="TRUE">Esri</idCodeSpace>
<idVersion Sync="TRUE">10.0.0</idVersion>
</refSysID>
</RefSystem>
</refSysInfo>
<contInfo>
<ImgDesc>
<contentTyp>
<ContentTypCd Sync="TRUE" value="001">
</ContentTypCd>
</contentTyp>
<covDim>
<Band>
<dimDescrp Sync="TRUE">Band_1</dimDescrp>
<maxVal Sync="TRUE">13177.386719</maxVal>
<minVal Sync="TRUE">5021.116211</minVal>
<bitsPerVal Sync="TRUE">32</bitsPerVal>
<valUnit>
<UOM type="length">
</UOM>
</valUnit>
</Band>
</covDim>
</ImgDesc>
</contInfo>
<mdDateSt Sync="TRUE">20190115</mdDateSt>
</metadata>
