{
 "currentVersion": 11.5,
 "serviceDescription": "USGS topographic maps from 1953-1970.",
 "serviceItemId": "f87842b2c5ae459e8b9bd4ca2282e4b4",
 "name": "imagery/USGS_topos_24k_1953_1970",
 "description": "USGS topographic maps from 1953-1970.",
 "extent": {
  "xmin": 1451308.5753612623,
  "ymin": 1634462.8663118004,
  "xmax": 1680068.895363211,
  "ymax": 1868215.3463137916,
  "spatialReference": {
   "wkid": 103490,
   "latestWkid": 103490
  }
 },
 "initialExtent": {
  "xmin": 1451308.5753612623,
  "ymin": 1634462.8663118004,
  "xmax": 1680068.895363211,
  "ymax": 1868215.3463137916,
  "spatialReference": {
   "wkid": 103490,
   "latestWkid": 103490
  }
 },
 "fullExtent": {
  "xmin": 1451308.5753612623,
  "ymin": 1634462.8663118004,
  "xmax": 1680068.895363211,
  "ymax": 1868215.3463137916,
  "spatialReference": {
   "wkid": 103490,
   "latestWkid": 103490
  }
 },
 "sortableFields": "",
 "bandCount": 3,
 "pixelType": "U8",
 "minValues": [
  1,
  1,
  1
 ],
 "maxValues": [
  255,
  255,
  255
 ],
 "meanValues": [
  218.04014600306198,
  230.31638177612376,
  177.39746286102167
 ],
 "stdvValues": [
  33.99694574413597,
  42.309467983285614,
  54.3942761560741
 ],
 "serviceProperties": "Center<\/MosaicMethod>First<\/MosaicOperator>true<\/SortAscending><\/LockImageID><\/TileOrderField>0<\/TileOrderBase>0.000000<\/AvgImageSpacingX>0.000000<\/AvgImageSpacingY>0.0<\/ViewPointX>0.0<\/ViewPointY>0.0<\/ViewPointDefShiftX>0.0<\/ViewPointDefShiftY>JPEG<\/CompressionMethod>75<\/CompressionQuality>0.010000<\/CompressionTolerance>Nearest<\/SamplingMethod><\/ImageServiceProperties><\/ImageServer>",
 "allowedFields": "",
 "hasMultidimensions": false,
 "pixelSizeX": 6.560000000055879,
 "pixelSizeY": 6.560000000055879,
 "meanPixelSize": 1.9994919990010303,
 "datasetFormat": "FGDBR",
 "uncompressedSize": 3727781928,
 "blockWidth": 128,
 "blockHeight": 128,
 "compressionType": "LZ77",
 "bandNames": [
  "Band_1",
  "Band_2",
  "Band_3"
 ],
 "allowCopy": true,
 "allowAnalysis": true,
 "itemAccess": false,
 "inspectionCapabilities": "",
 "minPixelSize": 0,
 "maxPixelSize": 0,
 "copyrightText": "",
 "serviceDataType": "esriImageServiceDataTypeRGB",
 "serviceSourceType": "esriImageServiceSourceTypeDataset",
 "objectIdField": "",
 "fields": [],
 "capabilities": "Image,Metadata,Mensuration",
 "defaultMosaicMethod": "Center",
 "allowedMosaicMethods": "",
 "sortField": "",
 "sortValue": null,
 "sortAscending": true,
 "mosaicOperator": "First",
 "defaultCompressionQuality": 75,
 "defaultResamplingMethod": "Nearest",
 "maxImageHeight": 4100,
 "maxImageWidth": 15000,
 "allowRasterFunction": true,
 "rasterFunctionInfos": [
  {
   "name": "None",
   "description": "",
   "help": ""
  }
 ],
 "rasterTypeInfos": [
  {
   "name": "Raster Dataset",
   "description": "Supports all ArcGIS Raster Datasets",
   "help": ""
  }
 ],
 "mensurationCapabilities": "Basic",
 "hasHistograms": true,
 "hasColormap": false,
 "hasRasterAttributeTable": false,
 "minScale": 0,
 "maxScale": 0,
 "exportTilesAllowed": false,
 "supportsStatistics": false,
 "supportsAdvancedQueries": false,
 "editFieldsInfo": null,
 "ownershipBasedAccessControlForRasters": null,
 "allowComputeTiePoints": false,
 "useStandardizedQueries": true,
 "advancedQueryCapabilities": {
  "useStandardizedQueries": true,
  "supportsStatistics": false,
  "supportsOrderBy": false,
  "supportsDistinct": false,
  "supportsPagination": false
 },
 "spatialReference": {
  "wkid": 103490,
  "latestWkid": 103490
 }
}
