<?xml version="1.0" encoding="UTF-8" standalone="no"?>
<metadata xml:lang="en">
<Esri>
<CreaDate>20150113</CreaDate>
<CreaTime>11234400</CreaTime>
<ArcGISFormat>1.0</ArcGISFormat>
<SyncOnce>FALSE</SyncOnce>
<DataProperties>
<itemProps>
<itemName Sync="FALSE">usgs_topos_125k_circa_1900</itemName>
<imsContentType Sync="FALSE" export="False">004</imsContentType>
<nativeExtBox>
<westBL Sync="TRUE">1417000.229132</westBL>
<eastBL Sync="TRUE">1714640.229132</eastBL>
<southBL Sync="TRUE">1637290.099509</southBL>
<northBL Sync="TRUE">2002165.099509</northBL>
<exTypeCode Sync="TRUE">1</exTypeCode>
</nativeExtBox>
</itemProps>
<coordRef>
<type Sync="TRUE">Projected</type>
<geogcsn Sync="TRUE">GCS_NAD_1983_CORS96</geogcsn>
<csUnits Sync="TRUE">Linear Unit: Foot_US (0.304801)</csUnits>
<projcsn Sync="TRUE">NAD_1983_CORS96_StatePlane_New_Mexico_Central_FIPS_3002_Ft_US</projcsn>
<peXml Sync="TRUE">&lt;ProjectedCoordinateSystem xsi:type='typens:ProjectedCoordinateSystem' xmlns:xsi='http://www.w3.org/2001/XMLSchema-instance' xmlns:xs='http://www.w3.org/2001/XMLSchema' xmlns:typens='http://www.esri.com/schemas/ArcGIS/10.1'&gt;&lt;WKT&gt;PROJCS[&amp;quot;NAD_1983_CORS96_StatePlane_New_Mexico_Central_FIPS_3002_Ft_US&amp;quot;,GEOGCS[&amp;quot;GCS_NAD_1983_CORS96&amp;quot;,DATUM[&amp;quot;D_NAD_1983_CORS96&amp;quot;,SPHEROID[&amp;quot;GRS_1980&amp;quot;,6378137.0,298.257222101]],PRIMEM[&amp;quot;Greenwich&amp;quot;,0.0],UNIT[&amp;quot;Degree&amp;quot;,0.0174532925199433]],PROJECTION[&amp;quot;Transverse_Mercator&amp;quot;],PARAMETER[&amp;quot;False_Easting&amp;quot;,1640416.666666667],PARAMETER[&amp;quot;False_Northing&amp;quot;,0.0],PARAMETER[&amp;quot;Central_Meridian&amp;quot;,-106.25],PARAMETER[&amp;quot;Scale_Factor&amp;quot;,0.9999],PARAMETER[&amp;quot;Latitude_Of_Origin&amp;quot;,31.0],UNIT[&amp;quot;Foot_US&amp;quot;,0.3048006096012192],AUTHORITY[&amp;quot;ESRI&amp;quot;,103490]]&lt;/WKT&gt;&lt;XOrigin&gt;-16806300&lt;/XOrigin&gt;&lt;YOrigin&gt;-44067200&lt;/YOrigin&gt;&lt;XYScale&gt;137255279.03396165&lt;/XYScale&gt;&lt;ZOrigin&gt;-100000&lt;/ZOrigin&gt;&lt;ZScale&gt;10000&lt;/ZScale&gt;&lt;MOrigin&gt;-100000&lt;/MOrigin&gt;&lt;MScale&gt;10000&lt;/MScale&gt;&lt;XYTolerance&gt;0.0032808333333333331&lt;/XYTolerance&gt;&lt;ZTolerance&gt;0.00020000000000000001&lt;/ZTolerance&gt;&lt;MTolerance&gt;0.00020000000000000001&lt;/MTolerance&gt;&lt;HighPrecision&gt;true&lt;/HighPrecision&gt;&lt;WKID&gt;103490&lt;/WKID&gt;&lt;LatestWKID&gt;103490&lt;/LatestWKID&gt;&lt;/ProjectedCoordinateSystem&gt;</peXml>
</coordRef>
</DataProperties>
<SyncDate>20150331</SyncDate>
<SyncTime>10272800</SyncTime>
<ModDate>20150331</ModDate>
<ModTime>10272800</ModTime>
<scaleRange>
<minScale>500000</minScale>
<maxScale>5000</maxScale>
</scaleRange>
<ArcGISProfile>FGDC</ArcGISProfile>
</Esri>
<dataIdInfo>
<envirDesc Sync="TRUE"> Version 6.2 (Build 9200) ; Esri ArcGIS 10.1.1.3143</envirDesc>
<dataLang>
<languageCode Sync="TRUE" value="eng">
</languageCode>
<countryCode Sync="TRUE" value="USA">
</countryCode>
</dataLang>
<idCitation>
<resTitle Sync="FALSE">Historical USGS Topographic maps, 30' quads, 1:125K scale, circa 1892-1918</resTitle>
<presForm>
<PresFormCd Sync="FALSE" value="003">
</PresFormCd>
</presForm>
<date>
<pubDate>1918-01-01T00:00:00</pubDate>
</date>
<citRespParty>
<rpIndName>US Geological Survey</rpIndName>
<rpOrgName>USGS</rpOrgName>
<role>
<RoleCd value="006">
</RoleCd>
</role>
</citRespParty>
</idCitation>
<spatRpType>
<SpatRepTypCd Sync="TRUE" value="002">
</SpatRepTypCd>
</spatRpType>
<dataExt>
<geoEle>
<GeoBndBox esriExtentType="search">
<exTypeCode Sync="TRUE">1</exTypeCode>
<westBL Sync="TRUE">-107.010162</westBL>
<eastBL Sync="TRUE">-105.997450</eastBL>
<northBL Sync="TRUE">36.502451</northBL>
<southBL Sync="TRUE">35.497717</southBL>
</GeoBndBox>
</geoEle>
<exDesc>The geographic extent is the four quads around Los Alamos - Abiqui, Gallina, Jemez, and Santa Clara.</exDesc>
<tempEle>
<TempExtent>
<exTemp>
<TM_Instant>
<tmPosition>1918-01-01T00:00:00</tmPosition>
</TM_Instant>
</exTemp>
</TempExtent>
</tempEle>
</dataExt>
<idPurp>This layer is intended to display the historic condition of the landscape at the turn of the 20th century.</idPurp>
<idAbs>&lt;DIV STYLE="text-align:Left;"&gt;&lt;DIV&gt;&lt;DIV&gt;&lt;P&gt;&lt;SPAN&gt;This raster layer contains scanned USGS topographic maps from the turn of the 20th century for the area including Los Alamos and much of the surrounding area. This layer includes 4 quads which were mosaicked together:&lt;/SPAN&gt;&lt;/P&gt;&lt;P&gt;&lt;SPAN&gt;Abiqui - 1918 (unfortunately this preliminary sheet is the only one USGS has in the collection for this quad)&lt;/SPAN&gt;&lt;/P&gt;&lt;P&gt;&lt;SPAN&gt;Gallina - 1909&lt;/SPAN&gt;&lt;/P&gt;&lt;P&gt;&lt;SPAN&gt;Jemez - 1892&lt;/SPAN&gt;&lt;/P&gt;&lt;P&gt;&lt;SPAN&gt;Santa Clara - 1892 (Los Alamos lies within this quad)&lt;/SPAN&gt;&lt;/P&gt;&lt;/DIV&gt;&lt;/DIV&gt;&lt;/DIV&gt;</idAbs>
<idCredit>USGS, LACOGIS</idCredit>
<searchKeys>
<keyword>Topography</keyword>
<keyword>history</keyword>
<keyword>New Mexico</keyword>
<keyword>Los Alamos</keyword>
<keyword>USGS</keyword>
</searchKeys>
<dataChar>
<CharSetCd value="004">
</CharSetCd>
</dataChar>
<idStatus>
<ProgCd value="001">
</ProgCd>
</idStatus>
<idPoC>
<rpIndName>US Geological Survey</rpIndName>
<rpOrgName>USGS</rpOrgName>
<role>
<RoleCd value="006">
</RoleCd>
</role>
<displayName>US Geological Survey</displayName>
</idPoC>
<resMaint>
<maintFreq>
<MaintFreqCd value="011">
</MaintFreqCd>
</maintFreq>
</resMaint>
<resConst>
<Consts>
<useLimit>&lt;DIV STYLE="text-align:Left;"&gt;&lt;DIV&gt;&lt;P&gt;&lt;SPAN&gt;These data are both coarse (1:125,000 scale) and old (circa 100 years ago), use them with that in mind.&lt;/SPAN&gt;&lt;/P&gt;&lt;/DIV&gt;&lt;/DIV&gt;</useLimit>
</Consts>
</resConst>
<tpCat>
<TopicCatCd value="006">
</TopicCatCd>
</tpCat>
<tpCat>
<TopicCatCd value="010">
</TopicCatCd>
</tpCat>
<tpCat>
<TopicCatCd value="012">
</TopicCatCd>
</tpCat>
<tpCat>
<TopicCatCd value="013">
</TopicCatCd>
</tpCat>
</dataIdInfo>
<mdLang>
<languageCode Sync="TRUE" value="eng">
</languageCode>
<countryCode Sync="TRUE" value="USA">
</countryCode>
</mdLang>
<distInfo>
<distFormat>
<formatName Sync="FALSE">Raster Dataset</formatName>
<formatVer>10.1</formatVer>
</distFormat>
</distInfo>
<mdHrLv>
<ScopeCd Sync="TRUE" value="005">
</ScopeCd>
</mdHrLv>
<mdHrLvName Sync="TRUE">dataset</mdHrLvName>
<refSysInfo>
<RefSystem>
<refSysID>
<identCode Sync="TRUE" code="103490">
</identCode>
<idCodeSpace Sync="TRUE">ESRI</idCodeSpace>
<idVersion Sync="TRUE">10.1.1</idVersion>
</refSysID>
</RefSystem>
</refSysInfo>
<spdoinfo>
<rastinfo>
<rasttype Sync="TRUE">Pixel</rasttype>
<rowcount Sync="TRUE">10425</rowcount>
<colcount Sync="TRUE">8504</colcount>
<rastxsz Sync="TRUE">35.000000</rastxsz>
<rastysz Sync="TRUE">35.000000</rastysz>
<rastbpp Sync="TRUE">8</rastbpp>
<vrtcount Sync="TRUE">1</vrtcount>
<rastorig Sync="TRUE">Upper Left</rastorig>
<rastcmap Sync="TRUE">TRUE</rastcmap>
<rastcomp Sync="TRUE">LZ77</rastcomp>
<rastband Sync="TRUE">1</rastband>
<rastdtyp Sync="TRUE">pixel codes</rastdtyp>
<rastifor Sync="TRUE">SDR</rastifor>
<rastplyr Sync="TRUE">TRUE</rastplyr>
</rastinfo>
</spdoinfo>
<spref>
<horizsys>
<planar>
<planci>
<plance Sync="TRUE">row and column</plance>
<coordrep>
<absres Sync="TRUE">35.000000</absres>
<ordres Sync="TRUE">35.000000</ordres>
</coordrep>
</planci>
</planar>
</horizsys>
</spref>
<mdDateSt Sync="TRUE">20150331</mdDateSt>
<mdChar>
<CharSetCd value="004">
</CharSetCd>
</mdChar>
<mdContact>
<rpIndName>Los Alamos County GIS </rpIndName>
<rpOrgName>LACOGIS</rpOrgName>
<role>
<RoleCd value="001">
</RoleCd>
</role>
<rpCntInfo>
<cntAddress addressType="postal">
<delPoint>1000 Central Ave</delPoint>
<city>Los Alamos</city>
<adminArea>NM</adminArea>
<postCode>87544</postCode>
</cntAddress>
<cntPhone>
<voiceNum tddtty="">505-662-8090</voiceNum>
</cntPhone>
</rpCntInfo>
</mdContact>
<dqInfo>
<dataLineage>
<statement>This layer originates as paper 30' quadrangles stored in the USGS archive. These paper maps were scanned and georeferenced by USGS and made available online at store.usgs.gov.
</statement>
<prcStep>
<stepDesc>LACOGIS staff downloaded the four quads as geoPDFs. GDAL software was used to convert the PDFs to 300dpi TIFF images, which were then clipped, masked, mosaicked, and converted to 8-bit images.</stepDesc>
<stepDateTm>2015-01-12T00:00:00</stepDateTm>
</prcStep>
</dataLineage>
<report dimension="horizontal" type="DQConcConsis">
<measDesc>These data meet the horizontal accuarcy consistent with 1:125,000 maps. Note that the topography and roads between the Gallina and Jemez quads on the west side do not match up. Those are artifacts of the original maps, not any geoprocessing.</measDesc>
<measId>
<identCode>1</identCode>
</measId>
</report>
<report dimension="" type="DQCompOm">
<measDesc>All four quads are present in this dataset.</measDesc>
<measId>
<identCode>1</identCode>
</measId>
</report>
</dqInfo>
</metadata>
