<?xml version="1.0" encoding="UTF-8" standalone="no"?>
<metadata xml:lang="en">
<Esri>
<CreaDate>20150304</CreaDate>
<CreaTime>10465500</CreaTime>
<ArcGISFormat>1.0</ArcGISFormat>
<ArcGISstyle>FGDC CSDGM Metadata</ArcGISstyle>
<SyncOnce>FALSE</SyncOnce>
<DataProperties>
<itemProps>
<itemName Sync="FALSE">usdoi_topos_31k_pre_1941</itemName>
<imsContentType Sync="TRUE" export="False">002</imsContentType>
<nativeExtBox>
<westBL Sync="TRUE">1609335.192232</westBL>
<eastBL Sync="TRUE">1665495.192232</eastBL>
<southBL Sync="TRUE">1766929.583214</southBL>
<northBL Sync="TRUE">1789884.583214</northBL>
<exTypeCode Sync="TRUE">1</exTypeCode>
</nativeExtBox>
</itemProps>
<coordRef>
<type Sync="TRUE">Projected</type>
<geogcsn Sync="TRUE">GCS_NAD_1983_CORS96</geogcsn>
<csUnits Sync="TRUE">Linear Unit: Foot_US (0.304801)</csUnits>
<projcsn Sync="TRUE">NAD_1983_CORS96_StatePlane_New_Mexico_Central_FIPS_3002_Ft_US</projcsn>
<peXml Sync="TRUE">&lt;ProjectedCoordinateSystem xsi:type='typens:ProjectedCoordinateSystem' xmlns:xsi='http://www.w3.org/2001/XMLSchema-instance' xmlns:xs='http://www.w3.org/2001/XMLSchema' xmlns:typens='http://www.esri.com/schemas/ArcGIS/10.1'&gt;&lt;WKT&gt;PROJCS[&amp;quot;NAD_1983_CORS96_StatePlane_New_Mexico_Central_FIPS_3002_Ft_US&amp;quot;,GEOGCS[&amp;quot;GCS_NAD_1983_CORS96&amp;quot;,DATUM[&amp;quot;D_NAD_1983_CORS96&amp;quot;,SPHEROID[&amp;quot;GRS_1980&amp;quot;,6378137.0,298.257222101]],PRIMEM[&amp;quot;Greenwich&amp;quot;,0.0],UNIT[&amp;quot;Degree&amp;quot;,0.0174532925199433]],PROJECTION[&amp;quot;Transverse_Mercator&amp;quot;],PARAMETER[&amp;quot;False_Easting&amp;quot;,1640416.666666667],PARAMETER[&amp;quot;False_Northing&amp;quot;,0.0],PARAMETER[&amp;quot;Central_Meridian&amp;quot;,-106.25],PARAMETER[&amp;quot;Scale_Factor&amp;quot;,0.9999],PARAMETER[&amp;quot;Latitude_Of_Origin&amp;quot;,31.0],UNIT[&amp;quot;Foot_US&amp;quot;,0.3048006096012192],AUTHORITY[&amp;quot;ESRI&amp;quot;,103490]]&lt;/WKT&gt;&lt;XOrigin&gt;-16806300&lt;/XOrigin&gt;&lt;YOrigin&gt;-44067200&lt;/YOrigin&gt;&lt;XYScale&gt;137255279.03396165&lt;/XYScale&gt;&lt;ZOrigin&gt;-100000&lt;/ZOrigin&gt;&lt;ZScale&gt;10000&lt;/ZScale&gt;&lt;MOrigin&gt;-100000&lt;/MOrigin&gt;&lt;MScale&gt;10000&lt;/MScale&gt;&lt;XYTolerance&gt;0.0032808333333333331&lt;/XYTolerance&gt;&lt;ZTolerance&gt;0.001&lt;/ZTolerance&gt;&lt;MTolerance&gt;0.001&lt;/MTolerance&gt;&lt;HighPrecision&gt;true&lt;/HighPrecision&gt;&lt;WKID&gt;103490&lt;/WKID&gt;&lt;LatestWKID&gt;103490&lt;/LatestWKID&gt;&lt;/ProjectedCoordinateSystem&gt;</peXml>
</coordRef>
</DataProperties>
<ModDate>20150331</ModDate>
<ModTime>10194700</ModTime>
<SyncDate>20150331</SyncDate>
<SyncTime>10194700</SyncTime>
<scaleRange>
<minScale>50000</minScale>
<maxScale>5000</maxScale>
</scaleRange>
<ArcGISProfile>FGDC</ArcGISProfile>
</Esri>
<mdDateSt Sync="TRUE">20150331</mdDateSt>
<dataIdInfo>
<envirDesc Sync="TRUE"> Version 6.2 (Build 9200) ; Esri ArcGIS 10.1.1.3143</envirDesc>
<dataLang>
<languageCode Sync="TRUE" value="eng">
</languageCode>
<countryCode Sync="TRUE" value="USA">
</countryCode>
</dataLang>
<idCitation>
<resTitle Sync="FALSE">US Dept. of Interior General Land Office plats, pre-1941</resTitle>
<presForm>
<PresFormCd Sync="TRUE" value="011">
</PresFormCd>
</presForm>
<date>
<pubDate>1940-01-01T00:00:00</pubDate>
</date>
<citRespParty>
<rpIndName>GIS Manager</rpIndName>
<rpOrgName>LACO GIS</rpOrgName>
<role>
<RoleCd value="006">
</RoleCd>
</role>
<rpCntInfo>
<cntAddress addressType="both">
<delPoint>1000 Central Ave</delPoint>
<city>Los Alamos</city>
<adminArea>NM</adminArea>
<postCode>87544</postCode>
</cntAddress>
<cntPhone>
<voiceNum tddtty="">505-663-1971</voiceNum>
</cntPhone>
</rpCntInfo>
</citRespParty>
</idCitation>
<spatRpType>
<SpatRepTypCd Sync="TRUE" value="002">
</SpatRepTypCd>
</spatRpType>
<dataExt>
<geoEle>
<GeoBndBox esriExtentType="search">
<exTypeCode Sync="TRUE">1</exTypeCode>
<westBL Sync="TRUE">-106.354975</westBL>
<eastBL Sync="TRUE">-106.165299</eastBL>
<northBL Sync="TRUE">35.919286</northBL>
<southBL Sync="TRUE">35.856176</southBL>
</GeoBndBox>
</geoEle>
<exDesc>The maps are from the period roughly 1920-1941. Specific mapping dates are as follows:
T19N R06E - August 3, 1940
T19N R07E - November 2, 1929</exDesc>
<tempEle>
<TempExtent>
<exTemp>
<TM_Instant>
<tmPosition>1940-01-01T00:00:00</tmPosition>
</TM_Instant>
</exTemp>
</TempExtent>
</tempEle>
</dataExt>
<idPurp>This layer is useful for providing historical context to current land conditions, such as seeing the routes of old roads, old land boundaries, and old...</idPurp>
<idAbs>&lt;DIV STYLE="text-align:Left;"&gt;&lt;DIV&gt;&lt;DIV&gt;&lt;P&gt;&lt;SPAN&gt;This layer includes relevant scanned General Land Office (GLO) plat maps prior to the start of the Manhattan Project in what is now Los Alamos, NM. These maps are typically in the period from 1920-1941. The maps are provided electronically by the GLO from their website www.glorecords.blm.gov. The digital maps were converted to TIFFs and georectified to fit the modern public land survey data layer provided by RGIS.&lt;/SPAN&gt;&lt;/P&gt;&lt;/DIV&gt;&lt;/DIV&gt;&lt;/DIV&gt;</idAbs>
<idCredit>USDOI - GLO, LACOGIS</idCredit>
<searchKeys>
<keyword>topography</keyword>
<keyword>land survey</keyword>
<keyword>history</keyword>
</searchKeys>
<dataChar>
<CharSetCd value="004">
</CharSetCd>
</dataChar>
<idStatus>
<ProgCd value="002">
</ProgCd>
</idStatus>
<resMaint>
<maintFreq>
<MaintFreqCd value="011">
</MaintFreqCd>
</maintFreq>
</resMaint>
<tpCat>
<TopicCatCd value="006">
</TopicCatCd>
</tpCat>
<tpCat>
<TopicCatCd value="008">
</TopicCatCd>
</tpCat>
<tpCat>
<TopicCatCd value="010">
</TopicCatCd>
</tpCat>
<tpCat>
<TopicCatCd value="015">
</TopicCatCd>
</tpCat>
<resConst>
<Consts>
<useLimit/>
</Consts>
</resConst>
</dataIdInfo>
<mdLang>
<languageCode Sync="TRUE" value="eng">
</languageCode>
<countryCode Sync="TRUE" value="USA">
</countryCode>
</mdLang>
<distInfo>
<distFormat>
<formatName Sync="FALSE">Raster Dataset</formatName>
<formatVer>10.1</formatVer>
</distFormat>
</distInfo>
<mdHrLv>
<ScopeCd Sync="TRUE" value="005">
</ScopeCd>
</mdHrLv>
<mdHrLvName Sync="TRUE">dataset</mdHrLvName>
<refSysInfo>
<RefSystem>
<refSysID>
<identCode Sync="TRUE" code="103490">
</identCode>
<idCodeSpace Sync="TRUE">ESRI</idCodeSpace>
<idVersion Sync="TRUE">10.1.1</idVersion>
</refSysID>
</RefSystem>
</refSysInfo>
<spdoinfo>
<rastinfo>
<rasttype Sync="TRUE">Pixel</rasttype>
<rowcount Sync="TRUE">4591</rowcount>
<colcount Sync="TRUE">11232</colcount>
<rastxsz Sync="TRUE">5.000000</rastxsz>
<rastysz Sync="TRUE">5.000000</rastysz>
<rastbpp Sync="TRUE">8</rastbpp>
<vrtcount Sync="TRUE">1</vrtcount>
<rastorig Sync="TRUE">Upper Left</rastorig>
<rastcmap Sync="TRUE">FALSE</rastcmap>
<rastcomp Sync="TRUE">LZ77</rastcomp>
<rastband Sync="TRUE">3</rastband>
<rastdtyp Sync="TRUE">pixel codes</rastdtyp>
<rastifor Sync="TRUE">SDR</rastifor>
<rastplyr Sync="TRUE">TRUE</rastplyr>
</rastinfo>
</spdoinfo>
<spref>
<horizsys>
<planar>
<planci>
<plance Sync="TRUE">row and column</plance>
<coordrep>
<absres Sync="TRUE">5.000000</absres>
<ordres Sync="TRUE">5.000000</ordres>
</coordrep>
</planci>
</planar>
</horizsys>
</spref>
<mdContact>
<rpIndName>GIS Manager</rpIndName>
<rpOrgName>LACO GIS</rpOrgName>
<role>
<RoleCd value="006">
</RoleCd>
</role>
<rpCntInfo>
<cntAddress addressType="both">
<delPoint>1000 Central Ave</delPoint>
<city>Los Alamos</city>
<adminArea>NM</adminArea>
<postCode>87544</postCode>
</cntAddress>
<cntPhone>
<voiceNum tddtty="">505-663-1971</voiceNum>
</cntPhone>
</rpCntInfo>
<displayName>GIS Manager</displayName>
</mdContact>
<mdChar>
<CharSetCd value="004">
</CharSetCd>
</mdChar>
<dqInfo>
<dataLineage>
<prcStep>
<stepDesc>The scanned maps are provided by USDOI - GLO at their website glorecords.blm.gov. They were downloaded as GeoPDFs or JPEG2000, depending on what was available. The maps were then convereted to GeoTIFF using GDAL_TRANSLATE. The TIFFs were then georectified using ArcGIS 10.3, using the public land survey as the reference data. The resulting TIFFs had a cell size of 6.6 feet, which was resampled to 5ft. and had the collars removed. Finally, the maps were mosaicked in ArcGIS.</stepDesc>
<stepDateTm>2015-03-04T00:00:00</stepDateTm>
</prcStep>
</dataLineage>
<report dimension="" type="DQConcConsis">
<measDesc>Overall completion was reviewed by looking at the mosaic tiles in ArcGIS, reviewing the seams for gaps or errors.</measDesc>
<measId>
<identCode>Completion</identCode>
</measId>
<measDateTm>2015-03-04T00:00:00</measDateTm>
</report>
<report dimension="" type="DQCompOm">
<measDesc>Tiles were reviewed for completeness.</measDesc>
<measId>
<identCode>Completeness</identCode>
</measId>
</report>
</dqInfo>
</metadata>
