<?xml version="1.0" encoding="UTF-8" standalone="no"?>
<metadata xml:lang="en">
<Esri>
<CreaDate>20240506</CreaDate>
<CreaTime>16270600</CreaTime>
<ArcGISFormat>1.0</ArcGISFormat>
<SyncOnce>FALSE</SyncOnce>
<DataProperties>
<itemProps>
<itemName Sync="TRUE">Orthoimagery_pictometry_6in_2010</itemName>
<nativeExtBox>
<westBL Sync="TRUE">1592999.999883</westBL>
<eastBL Sync="TRUE">1669559.999883</eastBL>
<southBL Sync="TRUE">1735280.000123</southBL>
<northBL Sync="TRUE">1796000.000123</northBL>
<exTypeCode Sync="TRUE">1</exTypeCode>
</nativeExtBox>
</itemProps>
<coordRef>
<type Sync="TRUE">Projected</type>
<geogcsn Sync="TRUE">GCS_NAD_1983_CORS96</geogcsn>
<csUnits Sync="TRUE">Linear Unit: Foot_US (0.304801)</csUnits>
<projcsn Sync="TRUE">NAD_1983_CORS96_StatePlane_New_Mexico_Central_FIPS_3002_Ft_US</projcsn>
<peXml Sync="TRUE">&lt;ProjectedCoordinateSystem xsi:type='typens:ProjectedCoordinateSystem' xmlns:xsi='http://www.w3.org/2001/XMLSchema-instance' xmlns:xs='http://www.w3.org/2001/XMLSchema' xmlns:typens='http://www.esri.com/schemas/ArcGIS/10.8'&gt;&lt;WKT&gt;PROJCS[&amp;quot;NAD_1983_CORS96_StatePlane_New_Mexico_Central_FIPS_3002_Ft_US&amp;quot;,GEOGCS[&amp;quot;GCS_NAD_1983_CORS96&amp;quot;,DATUM[&amp;quot;D_NAD_1983_CORS96&amp;quot;,SPHEROID[&amp;quot;GRS_1980&amp;quot;,6378137.0,298.257222101]],PRIMEM[&amp;quot;Greenwich&amp;quot;,0.0],UNIT[&amp;quot;Degree&amp;quot;,0.0174532925199433]],PROJECTION[&amp;quot;Transverse_Mercator&amp;quot;],PARAMETER[&amp;quot;False_Easting&amp;quot;,1640416.666666667],PARAMETER[&amp;quot;False_Northing&amp;quot;,0.0],PARAMETER[&amp;quot;Central_Meridian&amp;quot;,-106.25],PARAMETER[&amp;quot;Scale_Factor&amp;quot;,0.9999],PARAMETER[&amp;quot;Latitude_Of_Origin&amp;quot;,31.0],UNIT[&amp;quot;Foot_US&amp;quot;,0.3048006096012192],AUTHORITY[&amp;quot;Esri&amp;quot;,103490]]&lt;/WKT&gt;&lt;XOrigin&gt;-16806300&lt;/XOrigin&gt;&lt;YOrigin&gt;-44067200&lt;/YOrigin&gt;&lt;XYScale&gt;137255279.03396165&lt;/XYScale&gt;&lt;ZOrigin&gt;-100000&lt;/ZOrigin&gt;&lt;ZScale&gt;10000&lt;/ZScale&gt;&lt;MOrigin&gt;-100000&lt;/MOrigin&gt;&lt;MScale&gt;10000&lt;/MScale&gt;&lt;XYTolerance&gt;0.0032808333333333331&lt;/XYTolerance&gt;&lt;ZTolerance&gt;0.001&lt;/ZTolerance&gt;&lt;MTolerance&gt;0.001&lt;/MTolerance&gt;&lt;HighPrecision&gt;true&lt;/HighPrecision&gt;&lt;WKID&gt;103490&lt;/WKID&gt;&lt;LatestWKID&gt;103490&lt;/LatestWKID&gt;&lt;/ProjectedCoordinateSystem&gt;</peXml>
</coordRef>
<RasterProperties>
<General>
<PixelDepth Sync="TRUE">8</PixelDepth>
<HasColormap Sync="TRUE">FALSE</HasColormap>
<CompressionType Sync="TRUE">None</CompressionType>
<NumBands Sync="TRUE">3</NumBands>
<Format Sync="TRUE">AMD</Format>
<HasPyramids Sync="TRUE">TRUE</HasPyramids>
<SourceType Sync="TRUE">continuous</SourceType>
<PixelType Sync="TRUE">unsigned integer</PixelType>
<NoDataValue Sync="TRUE">
</NoDataValue>
</General>
<Properties>
<MaxImageHeight Sync="TRUE">4100</MaxImageHeight>
<MaxImageWidth Sync="TRUE">15000</MaxImageWidth>
<MaxRecordCount Sync="TRUE">1000</MaxRecordCount>
<MaxDownloadImageCount Sync="TRUE">20</MaxDownloadImageCount>
<MaxDownloadSizeLimit Sync="TRUE">2048</MaxDownloadSizeLimit>
<MaxMosaicImageCount Sync="TRUE">20</MaxMosaicImageCount>
<DefaultCompressionQuality Sync="TRUE">75</DefaultCompressionQuality>
<DefaultCompressionTolerance Sync="TRUE">0.01</DefaultCompressionTolerance>
<BlendWidth Sync="TRUE">10</BlendWidth>
<ViewpointSpacingX Sync="TRUE">600</ViewpointSpacingX>
<ViewpointSpacingY Sync="TRUE">300</ViewpointSpacingY>
<AllowedItemMetadata Sync="TRUE">Basic</AllowedItemMetadata>
<DefaultResamplingMethod Sync="TRUE">1</DefaultResamplingMethod>
<AllowedMosaicMethods Sync="TRUE">NorthWest,Center,LockRaster,ByAttribute,Nadir,Viewpoint,Seamline,None</AllowedMosaicMethods>
<AllowedCompressions Sync="TRUE">None,JPEG,LZ77,LERC</AllowedCompressions>
<AllowedMensurationCapabilities Sync="TRUE">None</AllowedMensurationCapabilities>
<AvailableMensurationCapabilities Sync="TRUE">None,Basic,Base-Top Height,Top-Top Shadow Height,Base-Top Shadow Height,3D</AvailableMensurationCapabilities>
<ClipToBoundary Sync="TRUE">-1</ClipToBoundary>
<FootprintMayContainNoData Sync="TRUE">-1</FootprintMayContainNoData>
<CellSizeTolerance Sync="TRUE">0.8</CellSizeTolerance>
<MinimumPixelContribution Sync="TRUE">1</MinimumPixelContribution>
<AvailableMosaicMethods Sync="TRUE">NorthWest,Center,LockRaster,ByAttribute,Nadir,Viewpoint,Seamline,None</AvailableMosaicMethods>
<AvailableCompressionMethods Sync="TRUE">None,JPEG,LZ77,LERC</AvailableCompressionMethods>
<AvailableItemMetadataLevels Sync="TRUE">None,Basic,Full</AvailableItemMetadataLevels>
<BandDefinitionKeyword Sync="TRUE">NaturalColor</BandDefinitionKeyword>
<_docversion_ Sync="TRUE">10</_docversion_>
<AllowedFields Sync="TRUE">Name,MinPS,MaxPS,LowPS,HighPS,Tag,GroupName,ProductName,CenterX,CenterY,ZOrder,Shape_Length,Shape_Area</AllowedFields>
<MaxCellSize Sync="TRUE">12150</MaxCellSize>
<LowCellSize Sync="TRUE">0.5</LowCellSize>
<HighCellSize Sync="TRUE">243</HighCellSize>
</Properties>
<Functions Sync="TRUE">
<Function Description="Performs on-the-fly mosaic on a raster catalog." Name="Mosaic Function">
</Function>
</Functions>
</RasterProperties>
</DataProperties>
<SyncDate>20240506</SyncDate>
<SyncTime>16441300</SyncTime>
<ModDate>20240506</ModDate>
<ModTime>16441300</ModTime>
</Esri>
<mdLang>
<languageCode value="eng">
</languageCode>
<countryCode Sync="TRUE" value="USA">
</countryCode>
</mdLang>
<mdChar>
<CharSetCd value="004">
</CharSetCd>
</mdChar>
<mdHrLv>
<ScopeCd value="005">
</ScopeCd>
</mdHrLv>
<mdContact>
<rpIndName>Katie Neal-Vacca</rpIndName>
<rpOrgName>Pictometry International Corp.</rpOrgName>
<rpPosName>Project Manager, Photogrammetric Production</rpPosName>
<rpCntInfo>
<cntPhone>
<voiceNum>585-486-0093</voiceNum>
<faxNum>585-486-0098</faxNum>
</cntPhone>
<cntAddress addressType="both">
<delPoint>100 Town Centre Drive</delPoint>
<delPoint>Suite A</delPoint>
<city>Rochester</city>
<adminArea>New York</adminArea>
<postCode>14623</postCode>
<country>US</country>
</cntAddress>
<cntHours>0900-1700 EST</cntHours>
</rpCntInfo>
<role>
<RoleCd value="007">
</RoleCd>
</role>
</mdContact>
<mdStanName>ArcGIS Metadata</mdStanName>
<mdStanVer>1.0</mdStanVer>
<distInfo>
<distributor>
<distorCont>
<rpIndName>Thom S. Salter</rpIndName>
<rpOrgName>Pictometry International Corp.</rpOrgName>
<rpPosName>Director, Photogrammetric Production</rpPosName>
<rpCntInfo>
<cntPhone>
<voiceNum>585-486-0093</voiceNum>
<faxNum>585-486-0098</faxNum>
</cntPhone>
<cntAddress addressType="both">
<delPoint>Suite A</delPoint>
<delPoint>100 Town Centre Drive</delPoint>
<city>Rochester</city>
<adminArea>New York</adminArea>
<postCode>14623</postCode>
<country>US</country>
</cntAddress>
<cntHours>0900-1700 EST</cntHours>
</rpCntInfo>
<role>
<RoleCd value="005">
</RoleCd>
</role>
</distorCont>
<distorOrdPrc>
<resFees>$TBD</resFees>
</distorOrdPrc>
<distorFormat>
<formatName>TIFF</formatName>
</distorFormat>
<distorTran>
<transSize>0.277</transSize>
<offLineMed>
<medName>
<MedNameCd value="001">
</MedNameCd>
</medName>
<medDensity>1</medDensity>
<medDenUnits>percent</medDenUnits>
</offLineMed>
</distorTran>
</distributor>
<distTranOps>
<onLineSrc>
<linkage>withheld</linkage>
</onLineSrc>
</distTranOps>
</distInfo>
<dataIdInfo>
<idCitation>
<resTitle Sync="TRUE">Orthoimagery_pictometry_6in_2010</resTitle>
<date>
<pubDate>2010-05-17</pubDate>
</date>
<citRespParty>
<rpOrgName>Los Alamos</rpOrgName>
<role>
<RoleCd value="006">
</RoleCd>
</role>
</citRespParty>
<citRespParty>
<rpOrgName>New Mexico</rpOrgName>
<role>
<RoleCd value="006">
</RoleCd>
</role>
</citRespParty>
<presForm>
<PresFormCd Sync="TRUE" value="005">
</PresFormCd>
</presForm>
</idCitation>
<idAbs>The dataset consists of tiled orthogonal imagery produced from nadir images captured by Pictometry International during the period of July 14th, 2010 to August 18th, 2010 in Los Alamos, NM. Automatic aerial triangulation (AAT) was performed. The triangulated frames were rectified to a Pictometry Produced LiDAR derived DEM. Mosaicing was performed using an automatic seaming algorithm and manually edited to eliminate seams through elevated features where possible.The dates of collection range from 7-14-2010 to 8-8-2010.</idAbs>
<idPurp>The dataset was collected to be utilized in Orthorectification of the Ortho Mosaics and oblique delivery. Other uses expected.</idPurp>
<idStatus>
<ProgCd value="001">
</ProgCd>
</idStatus>
<idPoC>
<rpIndName>Thom S. Salter</rpIndName>
<rpOrgName>Pictometry International Corp.</rpOrgName>
<rpPosName>Director, Photogrammetric Production</rpPosName>
<rpCntInfo>
<cntPhone>
<voiceNum>585-486-0093</voiceNum>
<faxNum>585-486-0098</faxNum>
</cntPhone>
<cntAddress addressType="both">
<delPoint>Suite A</delPoint>
<delPoint>100 Town Centre Drive</delPoint>
<city>Rochester</city>
<adminArea>New York</adminArea>
<postCode>14623</postCode>
<country>US</country>
</cntAddress>
<cntHours>0900-1700 EST</cntHours>
</rpCntInfo>
<role>
<RoleCd value="007">
</RoleCd>
</role>
</idPoC>
<resMaint>
<maintFreq>
<MaintFreqCd value="012">
</MaintFreqCd>
</maintFreq>
</resMaint>
<placeKeys>
<keyword>New Mexico</keyword>
<keyword>Los Alamos</keyword>
<thesaName>
<resTitle>Geographic Names Index Service</resTitle>
</thesaName>
</placeKeys>
<tempKeys>
<keyword>Current</keyword>
</tempKeys>
<themeKeys>
<keyword>Pictometry AccuPlus</keyword>
<thesaName>
<resTitle>Pictometry International</resTitle>
</thesaName>
</themeKeys>
<themeKeys>
<keyword>Digital Orthophotography</keyword>
<thesaName>
<resTitle>EDI Thesaurus</resTitle>
</thesaName>
</themeKeys>
<searchKeys>
<keyword>New Mexico</keyword>
<keyword>Los Alamos</keyword>
<keyword>Digital Orthophotography</keyword>
<keyword>Pictometry AccuPlus</keyword>
<keyword>Current</keyword>
</searchKeys>
<resConst>
<LegConsts>
<useLimit>Distribution of this dataset is constrained by the existing license agreement between the Pictometry International Corp. and Los Alamos, NM.</useLimit>
<othConsts>Access to this data is constrained by the license agreements between Pictometry International and Los Alamos, NM.</othConsts>
</LegConsts>
</resConst>
<resConst>
<Consts>
<useLimit>Use of this data is constrained by the license agreements between Pictometry International and Los Alamos, NM.</useLimit>
</Consts>
</resConst>
<aggrInfo>
<aggrDSName>
<resTitle>NM Los Alamos Accuplus Project Summer 2010</resTitle>
<date>
<pubDate>2010-05-17</pubDate>
</date>
<citRespParty>
<rpOrgName>New Mexico</rpOrgName>
<role>
<RoleCd value="006">
</RoleCd>
</role>
</citRespParty>
<citRespParty>
<rpOrgName>Los Alamos</rpOrgName>
<role>
<RoleCd value="006">
</RoleCd>
</role>
</citRespParty>
<presForm>
<PresFormCd value="005">
</PresFormCd>
</presForm>
<presForm>
<fgdcGeoform>vector digital data</fgdcGeoform>
</presForm>
<citOnlineRes>
<linkage>withheld</linkage>
</citOnlineRes>
</aggrDSName>
<assocType>
<AscTypeCd value="001">
</AscTypeCd>
</assocType>
</aggrInfo>
<dataLang>
<languageCode value="eng">
</languageCode>
<countryCode Sync="TRUE" value="USA">
</countryCode>
</dataLang>
<dataExt>
<exDesc>ground condition</exDesc>
<tempEle>
<TempExtent>
<exTemp>
<TM_Period>
<tmBegin>2010-07-14</tmBegin>
<tmEnd>2010-08-18</tmEnd>
</TM_Period>
</exTemp>
</TempExtent>
</tempEle>
<geoEle>
</geoEle>
</dataExt>
<envirDesc Sync="TRUE"> Version 6.2 (Build 9200) ; Esri ArcGIS 10.9.1.28388</envirDesc>
<spatRpType>
<SpatRepTypCd Sync="TRUE" value="002">
</SpatRepTypCd>
</spatRpType>
<dataExt>
<geoEle>
<GeoBndBox esriExtentType="search">
<exTypeCode Sync="TRUE">1</exTypeCode>
<westBL Sync="TRUE">-106.410180</westBL>
<eastBL Sync="TRUE">-106.151550</eastBL>
<northBL Sync="TRUE">35.936087</northBL>
<southBL Sync="TRUE">35.769164</southBL>
</GeoBndBox>
</geoEle>
</dataExt>
<idCredit/>
</dataIdInfo>
<dqInfo>
<dqScope>
<scpLvl>
<ScopeCd value="005">
</ScopeCd>
</scpLvl>
</dqScope>
<report type="DQConcConsis">
<measDesc>Dataset is orthoimagery. Logical consistency is not applicable.</measDesc>
</report>
<report type="DQCompOm">
<measDesc>The 2010 Los Alamos, NM orthogonal data associated with this metadata file completely covers the project-specified boundary.</measDesc>
</report>
<dataLineage>
<prcStep>
<stepDesc>Mosaicing: Mosaiking was performed using Inpho's OrthoVista software and SeamEditor was employed for manual corrections.</stepDesc>
<stepDateTm date="unknown">
</stepDateTm>
<stepProc>
<rpIndName>Thom S. Salter</rpIndName>
<rpOrgName>Pictometry International Corp.</rpOrgName>
<rpPosName>Director, Photogrammetric Products</rpPosName>
<rpCntInfo>
<cntPhone>
<voiceNum>585-486-0093</voiceNum>
<faxNum>585-486-0098</faxNum>
</cntPhone>
<cntAddress addressType="both">
<delPoint>Suite A</delPoint>
<delPoint>100 Town Centre Drive</delPoint>
<city>Rochester</city>
<adminArea>New York</adminArea>
<postCode>14623</postCode>
<country>US</country>
</cntAddress>
<cntHours>0900-1700 EST</cntHours>
</rpCntInfo>
<role>
<RoleCd value="009">
</RoleCd>
</role>
</stepProc>
</prcStep>
<prcStep>
<stepDesc>Rectification: Ortho-rectification was performed using Inpho's OrthoMaster software. A LiDAR based DEM was used as the rectification surface.</stepDesc>
<stepDateTm date="unknown">
</stepDateTm>
<stepProc>
<rpIndName>Thom S. Salter</rpIndName>
<rpOrgName>Pictometry International Corp.</rpOrgName>
<rpPosName>Director, Photogrammetric Production</rpPosName>
<rpCntInfo>
<cntPhone>
<voiceNum>585-486-0093</voiceNum>
<faxNum>585-486-0098</faxNum>
</cntPhone>
<cntAddress addressType="both">
<delPoint>100 Town Centre Drive</delPoint>
<delPoint>Suite A</delPoint>
<city>Rochester</city>
<adminArea>New York</adminArea>
<postCode>14623</postCode>
<country>US</country>
</cntAddress>
<cntHours>0900-1700 EST</cntHours>
</rpCntInfo>
<role>
<RoleCd value="009">
</RoleCd>
</role>
</stepProc>
</prcStep>
<prcStep>
<stepDesc>AeroTriangulation: Imagery was aerotriangulated using Inpho's Match-AT software.</stepDesc>
<stepDateTm date="unknown">
</stepDateTm>
<stepProc>
<rpIndName>Thom S. Salter</rpIndName>
<rpOrgName>Pictometry International Corp.</rpOrgName>
<rpPosName>Director, Photogrammetric Production</rpPosName>
<rpCntInfo>
<cntPhone>
<voiceNum>585-486-0093</voiceNum>
<faxNum>585-486-0098</faxNum>
</cntPhone>
<cntAddress addressType="both">
<delPoint>Suite A</delPoint>
<delPoint>100 Town Centre Drive</delPoint>
<city>Rochester</city>
<adminArea>New York</adminArea>
<postCode>14623</postCode>
<country>US</country>
</cntAddress>
<cntHours>0900-1700 EST</cntHours>
</rpCntInfo>
<role>
<RoleCd value="009">
</RoleCd>
</role>
</stepProc>
</prcStep>
<prcStep>
<stepDesc>GPS/INS processing: Data was post-processed using NGS CORS base station data.</stepDesc>
<stepDateTm date="unknown">
</stepDateTm>
<stepProc>
<rpIndName>Thom S. Salter</rpIndName>
<rpOrgName>Pictometry International Corp.</rpOrgName>
<rpPosName>Director, Photogrammetric Production</rpPosName>
<rpCntInfo>
<cntPhone>
<voiceNum>585-486-0093</voiceNum>
<faxNum>585-486-0098</faxNum>
</cntPhone>
<cntAddress addressType="both">
<delPoint>100 Town Centre Drive</delPoint>
<delPoint>Suite A</delPoint>
<city>Rochester</city>
<adminArea>New York</adminArea>
<postCode>14623</postCode>
<country>US</country>
</cntAddress>
<cntHours>0900-1700 EST</cntHours>
</rpCntInfo>
<role>
<RoleCd value="009">
</RoleCd>
</role>
</stepProc>
</prcStep>
<dataSource>
<srcDesc>N/A</srcDesc>
<srcMedName>
<MedNameCd value="031">
</MedNameCd>
</srcMedName>
<srcCitatn>
<resTitle>NM Los Alamos Accuplus Project Summer 2010</resTitle>
<resAltTitle>disc</resAltTitle>
<date>
<pubDate>2010-05-17</pubDate>
</date>
<citRespParty>
<rpOrgName>Los Alamos</rpOrgName>
<role>
<RoleCd value="006">
</RoleCd>
</role>
</citRespParty>
<citRespParty>
<rpOrgName>New Mexico</rpOrgName>
<role>
<RoleCd value="006">
</RoleCd>
</role>
</citRespParty>
<presForm>
<PresFormCd value="005">
</PresFormCd>
</presForm>
<presForm>
<fgdcGeoform>vector digital data</fgdcGeoform>
</presForm>
<citOnlineRes>
<linkage>withheld</linkage>
</citOnlineRes>
</srcCitatn>
<srcExt>
<exDesc>ground condition</exDesc>
<tempEle>
<TempExtent>
<exTemp>
<TM_Period>
<tmBegin>2010-07-14</tmBegin>
<tmEnd>2010-08-18</tmEnd>
</TM_Period>
</exTemp>
</TempExtent>
</tempEle>
</srcExt>
</dataSource>
</dataLineage>
</dqInfo>
<eainfo>
<detailed Name="NMLOSA10_Delivery_Area-for_metadata">
<enttyp>
<enttypl>NMLOSA10_Delivery_Area-for_metadata</enttypl>
<enttypt>Feature Class</enttypt>
<enttypc>418</enttypc>
<enttypd>NM Los Alamos Accuplus Flight Tiling Scheme</enttypd>
<enttypds>Pictometry International Corp.</enttypds>
</enttyp>
<attr>
<attrlabl>FID</attrlabl>
<attrdef>Internal feature number.</attrdef>
<attrdefs>ESRI</attrdefs>
<attrdomv>
<udom>Sequential unique whole numbers that are automatically generated.</udom>
</attrdomv>
</attr>
<attr>
<attrlabl>Shape</attrlabl>
<attrdef>Feature geometry.</attrdef>
<attrdefs>ESRI</attrdefs>
<attrdomv>
<udom>Coordinates defining the features.</udom>
</attrdomv>
</attr>
<attr>
<attrlabl>TILELABEL_</attrlabl>
<attrdef>Tile Name</attrdef>
<attrdefs>Pictometry International Corp.</attrdefs>
<attrdomv>
<udom>Coordinates defining the features.</udom>
</attrdomv>
</attr>
</detailed>
</eainfo>
<refSysInfo>
<RefSystem>
<refSysID>
<identCode Sync="TRUE" code="103490">
</identCode>
<idCodeSpace Sync="TRUE">Esri</idCodeSpace>
<idVersion Sync="TRUE">10.0.0</idVersion>
</refSysID>
</RefSystem>
</refSysInfo>
<spatRepInfo>
<Georect>
<cellGeo>
<CellGeoCd Sync="TRUE" value="002">
</CellGeoCd>
</cellGeo>
<numDims Sync="TRUE">2</numDims>
<tranParaAv Sync="TRUE">1</tranParaAv>
<chkPtAv Sync="TRUE">0</chkPtAv>
<cornerPts>
<pos Sync="TRUE">1592999.999883 1735280.000123</pos>
</cornerPts>
<cornerPts>
<pos Sync="TRUE">1592999.999883 1796000.000123</pos>
</cornerPts>
<cornerPts>
<pos Sync="TRUE">1669559.999883 1796000.000123</pos>
</cornerPts>
<cornerPts>
<pos Sync="TRUE">1669559.999883 1735280.000123</pos>
</cornerPts>
<centerPt>
<pos Sync="TRUE">1631279.999883 1765640.000123</pos>
</centerPt>
<axisDimension type="002">
<dimSize Sync="TRUE">153120</dimSize>
<dimResol>
<value Sync="TRUE" uom="ftUS">0.500000</value>
</dimResol>
</axisDimension>
<axisDimension type="001">
<dimSize Sync="TRUE">121440</dimSize>
<dimResol>
<value Sync="TRUE" uom="ftUS">0.500000</value>
</dimResol>
</axisDimension>
<ptInPixel>
<PixOrientCd Sync="TRUE" value="001">
</PixOrientCd>
</ptInPixel>
</Georect>
</spatRepInfo>
<contInfo>
<ImgDesc>
<contentTyp>
<ContentTypCd Sync="TRUE" value="001">
</ContentTypCd>
</contentTyp>
<covDim>
<Band>
<dimDescrp Sync="TRUE">Red</dimDescrp>
<maxVal Sync="TRUE">255.000000</maxVal>
<minVal Sync="TRUE">0.000000</minVal>
<bitsPerVal Sync="TRUE">8</bitsPerVal>
<valUnit>
<UOM type="length">
</UOM>
</valUnit>
</Band>
<Band>
<dimDescrp Sync="TRUE">Green</dimDescrp>
<maxVal Sync="TRUE">255.000000</maxVal>
<minVal Sync="TRUE">0.000000</minVal>
<bitsPerVal Sync="TRUE">8</bitsPerVal>
<valUnit>
<UOM type="length">
</UOM>
</valUnit>
</Band>
<Band>
<dimDescrp Sync="TRUE">Blue</dimDescrp>
<maxVal Sync="TRUE">255.000000</maxVal>
<minVal Sync="TRUE">0.000000</minVal>
<bitsPerVal Sync="TRUE">8</bitsPerVal>
<valUnit>
<UOM type="length">
</UOM>
</valUnit>
</Band>
</covDim>
</ImgDesc>
</contInfo>
<mdDateSt Sync="TRUE">20240506</mdDateSt>
</metadata>
