{
 "currentVersion": 11.5,
 "serviceDescription": "A Digital Orthophoto Quarter-Quadrangle (DOQQ) is a raster image in which displacement in the image caused by sensor orientation and terrain relief has been removed. An orthophoto combines the image characteristics of a photograph with the geometric qualities of a map. The geographic extent of the DOQQ is equivalent to a quarter of a 7.5-minute map (3.75 minutes of latitude and longitude) with overedge. The overedge ranges from a minimum of 300 meters to a maximum of 600 meters beyond the extremes of the NAD83 datum 3.75-minute latitude and longitude boundaries. DOQQs are produced with a 1-meter ground sample distance (GSD) and are cast on the Universal Transverse Mercator (UTM) projection on the North American Datum of 1983 (NAD83). Each DOQQ is produced to meet a National Map Accuracy Standard (NMAS) for 1:12000 scale maps (10.16 meters radial error at a 90% probability). The 2005 DOQQs were derived from the NM Statewide Orthophotography Project source imagery flown at 35,000 feet above average ground using multiple source images for each DOQQ. NM Statewide Orthophotography Project imagery was flown during the irrigation season, hence leaf-on for deciduous vegetation. The imagery that was used to create this DOQQ was flown 10-45 minutes outside of the flying time for optimal sun angle.\n\nThe 2005 DOQQs are available in two formats. These metadata describe both file types. The GeoTIFFs are uncompressed files, and due to file size limitations, are not available for downloading from the Resource Geographic Information System Program (RGIS) website. Therefore, they are available only through the custom order process described in the Distribution section of these metadata. The Enhanced Compressed Wavelet (ECW) files have been created from the GeoTIFFs and are a 1:15 compression of the GeoTIFF file. The compression creates a smaller file size that can be downloaded easily from the RGIS website and are readily available.\n\nRGIS provides these geographic data \"as is\" and makes no guarantee or warranty concerning the accuracy of information contained in the geographic data. RGIS further makes no warranties, either expressed or implied as to any other matter whatsoever, including, without limitation, the condition of the product, or its fitness for any particular purpose. The burden for determining fitness for use lies entirely with the user. Although these data have been processed successfully on computers of BHI and served by RGIS, no warranty, expressed or implied, is made by RGIS or BHI regarding the use of these data on any other system, nor does the fact of distribution constitute or imply any such warranty. In no event shall RGIS or BHI have any liability whatsoever for payment of any consequential, incidental, indirect, special, or tort damages of any kind, including, but not limited to, any loss of profits arising out of use of or reliance on the geographic data or arising out of the delivery, installation, operation, or support by RGIS.\n\nAll tagged data and image files are validated using commercial GIS software to ensure proper loading before being archived. This validation procedure ensures correct physical format and field values for tagged elements. Seamlines and the tile edges are visually inspected.\n\nOrthorectified images are visually inspected for completeness to ensure that no gaps or image misplacements exist within the 3.75-minute image area or the overedge coverage. DOQQs are cloud-free imagery. DOQQs are produced with overedge coverage, ranging from a minimum of 300 meters to a maximum of 600 meters beyond the extremes of the NAD83 datum 3.75-minute latitude and longitude boundaries. The resulting DOQQ is a rectangle whose size may vary in relation to adjoining DOQQs.\n\nSource images are collected with a digital sensor with 4096 brightness values (12 bit) per band. Each image's histogram is clipped at high and low values to increase contrast, and then a digital dodge is performed in order to reduce vignetting of brightness and darkness trends across the frame. Radiometry is verified by visual inspection of the digital orthophoto. Where possible, radiometry is verified by visual inspection of the digital orthophoto with the original unrectified image. Slight systematic radiometric differences may exist between adjacent orthoimage files; these are due primarily to differences in source image capture dates and sun angles along flight lines. These differences can be observed in an image's general lightness or darkness when it is compared to adjacent orthoimage file coverages. Tonal balancing may be performed over a group of images during the mosaicking process which may serve to lighten or darken adjacent images for better color tone matching.\n\nThe DOQQ horizontal positional accuracy and the assurance of that accuracy depend, in part, on the accuracy of the data inputs to the rectification process (elevation data, aerotriangulation control and methods, camera calibration, scanner calibration, and source imagery parameters). DOQQs are produced to meet NMAS requirements for 1:12000-scale products. Quality control consisted of the contractor checking elevation data against current project control points for vertical discrepancies, and the U.S. Geological Survey checking orthorectified images against GPS collected roads and previous editions of the same DOQQ.\n\nThe DOQQ's have not been field checked by a third party for objective accuracy against ground features, but over 90% of permanent identifiable locations in the image have been sampled and found to adhere to within 3.0 meters of preexisting linework and imagery.\n\nAirborne GPS/IMU data were collected in flight as images were captured and post-processed and network adjusted.\n\nImages were orthorectified to remove distortions caused by changes in the elevation of the terrain. The orthorectification process used an exponential interpolation method and a ground elevation sampling interval of four pixels.\n\nBefore orthorectification, each image has its histogram clipped to provide an optimum contrast. All three bands (red, green, and blue) are clipped at the same values to preserve relative color values. Each image is resampled to 256 brightness values (8 bits) per band.\n\nImages were electronically dodged to even out lightness and darkness values across each frame. The dodging used a kernel size of 15 pixels, and a maximum shift of 35 brightness values (out of 256) in either the negative or positive direction.\n\nRaw image data was captured using an Intergraph Digital Mapping Camera (DMC) having a focal length of 120mm, an effective charge coupled device (CCD) array size of 168mm across track (left to right) by 95mm along track (top to bottom), and a pixel size in its panchromatic band of 12 by 12 microns. Output images were created using post-processing software which removes lens distortion and pan-sharpens color data with a panchromatic image taken at the same instant.\n\nImages were tonally balanced and color corrected individually. A global tilt was performed across large areas in order to minimize obvious color changes between adjacent images. Seamlines were created automatically via a best path algorithm, and orthomosaics created. Tiles were cut for each DOQQ.\n\nImages were checked for gaps, smears caused by missing surface, and these were fixed and re-created. Non-surface features such as bridges warped by the orthorectification or excessive building lean were patched in with versions from unrectified photos. Obvious color differences that remained between source images were feathered.\n\nControl panels were laid down and their positions recorded with static GPS. Positions were then corrected and network adjusted.\n\nAirborne GPS positions were computed by 3001, Inc. and used as control in the aerotriangulation process.\n\nRaw image data was captured using an Intergraph Digital Mapping Camera (DMC) having a focal length of 120mm, an effective charge coupled device (CCD) array size of 168mm across track (left to right) by 95mm along track (top to bottom), and a pixel size in its panchromatic band of 12 by 12 microns.\n\nAerotriangulation provides the exterior orientation parameters ( X, Y, Z, omega, phi, kappa) for input to the orthorectification process.\n\n",
 "serviceItemId": "0ff888860e2149949524bb20cc9a5667",
 "name": "imagery/Orthoimagery_NMDOQQ_1m_2005",
 "description": "A Digital Orthophoto Quarter-Quadrangle (DOQQ) is a raster image in which displacement in the image caused by sensor orientation and terrain relief has been removed. An orthophoto combines the image characteristics of a photograph with the geometric qualities of a map. The geographic extent of the DOQQ is equivalent to a quarter of a 7.5-minute map (3.75 minutes of latitude and longitude) with overedge. The overedge ranges from a minimum of 300 meters to a maximum of 600 meters beyond the extremes of the NAD83 datum 3.75-minute latitude and longitude boundaries. DOQQs are produced with a 1-meter ground sample distance (GSD) and are cast on the Universal Transverse Mercator (UTM) projection on the North American Datum of 1983 (NAD83). Each DOQQ is produced to meet a National Map Accuracy Standard (NMAS) for 1:12000 scale maps (10.16 meters radial error at a 90% probability). The 2005 DOQQs were derived from the NM Statewide Orthophotography Project source imagery flown at 35,000 feet above average ground using multiple source images for each DOQQ. NM Statewide Orthophotography Project imagery was flown during the irrigation season, hence leaf-on for deciduous vegetation. The imagery that was used to create this DOQQ was flown 10-45 minutes outside of the flying time for optimal sun angle.\n\nThe 2005 DOQQs are available in two formats. These metadata describe both file types. The GeoTIFFs are uncompressed files, and due to file size limitations, are not available for downloading from the Resource Geographic Information System Program (RGIS) website. Therefore, they are available only through the custom order process described in the Distribution section of these metadata. The Enhanced Compressed Wavelet (ECW) files have been created from the GeoTIFFs and are a 1:15 compression of the GeoTIFF file. The compression creates a smaller file size that can be downloaded easily from the RGIS website and are readily available.\n\nRGIS provides these geographic data \"as is\" and makes no guarantee or warranty concerning the accuracy of information contained in the geographic data. RGIS further makes no warranties, either expressed or implied as to any other matter whatsoever, including, without limitation, the condition of the product, or its fitness for any particular purpose. The burden for determining fitness for use lies entirely with the user. Although these data have been processed successfully on computers of BHI and served by RGIS, no warranty, expressed or implied, is made by RGIS or BHI regarding the use of these data on any other system, nor does the fact of distribution constitute or imply any such warranty. In no event shall RGIS or BHI have any liability whatsoever for payment of any consequential, incidental, indirect, special, or tort damages of any kind, including, but not limited to, any loss of profits arising out of use of or reliance on the geographic data or arising out of the delivery, installation, operation, or support by RGIS.\n\nAll tagged data and image files are validated using commercial GIS software to ensure proper loading before being archived. This validation procedure ensures correct physical format and field values for tagged elements. Seamlines and the tile edges are visually inspected.\n\nOrthorectified images are visually inspected for completeness to ensure that no gaps or image misplacements exist within the 3.75-minute image area or the overedge coverage. DOQQs are cloud-free imagery. DOQQs are produced with overedge coverage, ranging from a minimum of 300 meters to a maximum of 600 meters beyond the extremes of the NAD83 datum 3.75-minute latitude and longitude boundaries. The resulting DOQQ is a rectangle whose size may vary in relation to adjoining DOQQs.\n\nSource images are collected with a digital sensor with 4096 brightness values (12 bit) per band. Each image's histogram is clipped at high and low values to increase contrast, and then a digital dodge is performed in order to reduce vignetting of brightness and darkness trends across the frame. Radiometry is verified by visual inspection of the digital orthophoto. Where possible, radiometry is verified by visual inspection of the digital orthophoto with the original unrectified image. Slight systematic radiometric differences may exist between adjacent orthoimage files; these are due primarily to differences in source image capture dates and sun angles along flight lines. These differences can be observed in an image's general lightness or darkness when it is compared to adjacent orthoimage file coverages. Tonal balancing may be performed over a group of images during the mosaicking process which may serve to lighten or darken adjacent images for better color tone matching.\n\nThe DOQQ horizontal positional accuracy and the assurance of that accuracy depend, in part, on the accuracy of the data inputs to the rectification process (elevation data, aerotriangulation control and methods, camera calibration, scanner calibration, and source imagery parameters). DOQQs are produced to meet NMAS requirements for 1:12000-scale products. Quality control consisted of the contractor checking elevation data against current project control points for vertical discrepancies, and the U.S. Geological Survey checking orthorectified images against GPS collected roads and previous editions of the same DOQQ.\n\nThe DOQQ's have not been field checked by a third party for objective accuracy against ground features, but over 90% of permanent identifiable locations in the image have been sampled and found to adhere to within 3.0 meters of preexisting linework and imagery.\n\nAirborne GPS/IMU data were collected in flight as images were captured and post-processed and network adjusted.\n\nImages were orthorectified to remove distortions caused by changes in the elevation of the terrain. The orthorectification process used an exponential interpolation method and a ground elevation sampling interval of four pixels.\n\nBefore orthorectification, each image has its histogram clipped to provide an optimum contrast. All three bands (red, green, and blue) are clipped at the same values to preserve relative color values. Each image is resampled to 256 brightness values (8 bits) per band.\n\nImages were electronically dodged to even out lightness and darkness values across each frame. The dodging used a kernel size of 15 pixels, and a maximum shift of 35 brightness values (out of 256) in either the negative or positive direction.\n\nRaw image data was captured using an Intergraph Digital Mapping Camera (DMC) having a focal length of 120mm, an effective charge coupled device (CCD) array size of 168mm across track (left to right) by 95mm along track (top to bottom), and a pixel size in its panchromatic band of 12 by 12 microns. Output images were created using post-processing software which removes lens distortion and pan-sharpens color data with a panchromatic image taken at the same instant.\n\nImages were tonally balanced and color corrected individually. A global tilt was performed across large areas in order to minimize obvious color changes between adjacent images. Seamlines were created automatically via a best path algorithm, and orthomosaics created. Tiles were cut for each DOQQ.\n\nImages were checked for gaps, smears caused by missing surface, and these were fixed and re-created. Non-surface features such as bridges warped by the orthorectification or excessive building lean were patched in with versions from unrectified photos. Obvious color differences that remained between source images were feathered.\n\nControl panels were laid down and their positions recorded with static GPS. Positions were then corrected and network adjusted.\n\nAirborne GPS positions were computed by 3001, Inc. and used as control in the aerotriangulation process.\n\nRaw image data was captured using an Intergraph Digital Mapping Camera (DMC) having a focal length of 120mm, an effective charge coupled device (CCD) array size of 168mm across track (left to right) by 95mm along track (top to bottom), and a pixel size in its panchromatic band of 12 by 12 microns.\n\nAerotriangulation provides the exterior orientation parameters ( X, Y, Z, omega, phi, kappa) for input to the orthorectification process.\n\n",
 "extent": {
  "xmin": 1528578.116587747,
  "ymin": 1681903.712151968,
  "xmax": 1715326.430510084,
  "ymax": 1865774.735244736,
  "spatialReference": {
   "wkid": 103490,
   "latestWkid": 103490
  }
 },
 "initialExtent": {
  "xmin": 1528578.116587747,
  "ymin": 1681903.712151968,
  "xmax": 1715326.430510084,
  "ymax": 1865774.735244736,
  "spatialReference": {
   "wkid": 103490,
   "latestWkid": 103490
  }
 },
 "fullExtent": {
  "xmin": 1528578.116587747,
  "ymin": 1681903.712151968,
  "xmax": 1715326.430510084,
  "ymax": 1865774.735244736,
  "spatialReference": {
   "wkid": 103490,
   "latestWkid": 103490
  }
 },
 "sortableFields": "",
 "bandCount": 3,
 "pixelType": "U8",
 "minValues": [
  0,
  0,
  0
 ],
 "maxValues": [
  255,
  255,
  255
 ],
 "meanValues": [
  84.3624717549866,
  89.88055949209028,
  92.89547871330386
 ],
 "stdvValues": [
  40.02427822039565,
  35.0562695047476,
  30.317760586915774
 ],
 "serviceProperties": "NorthWest<\/MosaicMethod>First<\/MosaicOperator>true<\/SortAscending><\/LockImageID>Name<\/TileOrderField>0<\/TileOrderBase>600.000000<\/AvgImageSpacingX>300.000000<\/AvgImageSpacingY>0.0<\/ViewPointX>0.0<\/ViewPointY>0.0<\/ViewPointDefShiftX>0.0<\/ViewPointDefShiftY>JPEG<\/CompressionMethod>75<\/CompressionQuality>0.010000<\/CompressionTolerance>Nearest<\/SamplingMethod><\/ImageServiceProperties><\/ImageServer>",
 "allowedFields": "Name,MinPS,MaxPS,LowPS,HighPS,Tag,GroupName,ProductName,CenterX,CenterY,ZOrder,Shape_Length,Shape_Area",
 "hasMultidimensions": false,
 "pixelSizeX": 3.2808333290408993,
 "pixelSizeY": 3.2808333290408993,
 "meanPixelSize": 0.9999999986916637,
 "datasetFormat": "AMD",
 "uncompressedSize": 9570241572,
 "blockWidth": 2048,
 "blockHeight": 256,
 "compressionType": "None",
 "bandNames": [
  "Red",
  "Green",
  "Blue"
 ],
 "allowCopy": true,
 "allowAnalysis": true,
 "itemAccess": false,
 "inspectionCapabilities": "",
 "minPixelSize": 0,
 "maxPixelSize": 0,
 "copyrightText": "",
 "serviceDataType": "esriImageServiceDataTypeRGB",
 "serviceSourceType": "esriImageServiceSourceTypeMosaicDataset",
 "objectIdField": "OBJECTID",
 "fields": [
  {
   "name": "OBJECTID",
   "type": "esriFieldTypeOID",
   "alias": "OBJECTID",
   "domain": null
  },
  {
   "name": "Shape",
   "type": "esriFieldTypeGeometry",
   "alias": "Shape",
   "domain": null
  },
  {
   "name": "Name",
   "type": "esriFieldTypeString",
   "alias": "Name",
   "domain": null,
   "length": 200
  },
  {
   "name": "MinPS",
   "type": "esriFieldTypeDouble",
   "alias": "MinPS",
   "domain": null
  },
  {
   "name": "MaxPS",
   "type": "esriFieldTypeDouble",
   "alias": "MaxPS",
   "domain": null
  },
  {
   "name": "LowPS",
   "type": "esriFieldTypeDouble",
   "alias": "LowPS",
   "domain": null
  },
  {
   "name": "HighPS",
   "type": "esriFieldTypeDouble",
   "alias": "HighPS",
   "domain": null
  },
  {
   "name": "Category",
   "type": "esriFieldTypeInteger",
   "alias": "Category",
   "domain": {
    "type": "codedValue",
    "name": "MosaicCatalogItemCategoryDomain",
    "description": "Catalog item categories.",
    "codedValues": [
     {
      "name": "Unknown",
      "code": 0
     },
     {
      "name": "Primary",
      "code": 1
     },
     {
      "name": "Overview",
      "code": 2
     },
     {
      "name": "Unprocessed Overview",
      "code": 3
     },
     {
      "name": "Partial Overview",
      "code": 4
     },
     {
      "name": "Inactive",
      "code": 5
     },
     {
      "name": "Uploaded",
      "code": 253
     },
     {
      "name": "Incomplete",
      "code": 254
     },
     {
      "name": "Custom",
      "code": 255
     }
    ],
    "mergePolicy": "esriMPTDefaultValue",
    "splitPolicy": "esriSPTDefaultValue"
   }
  },
  {
   "name": "Tag",
   "type": "esriFieldTypeString",
   "alias": "Tag",
   "domain": null,
   "length": 100
  },
  {
   "name": "GroupName",
   "type": "esriFieldTypeString",
   "alias": "GroupName",
   "domain": null,
   "length": 100
  },
  {
   "name": "ProductName",
   "type": "esriFieldTypeString",
   "alias": "ProductName",
   "domain": null,
   "length": 100
  },
  {
   "name": "CenterX",
   "type": "esriFieldTypeDouble",
   "alias": "CenterX",
   "domain": null
  },
  {
   "name": "CenterY",
   "type": "esriFieldTypeDouble",
   "alias": "CenterY",
   "domain": null
  },
  {
   "name": "ZOrder",
   "type": "esriFieldTypeInteger",
   "alias": "ZOrder",
   "domain": null
  },
  {
   "name": "Shape_Length",
   "type": "esriFieldTypeDouble",
   "alias": "Shape_Length",
   "domain": null
  },
  {
   "name": "Shape_Area",
   "type": "esriFieldTypeDouble",
   "alias": "Shape_Area",
   "domain": null
  }
 ],
 "capabilities": "Image,Metadata,Catalog",
 "defaultMosaicMethod": "Northwest",
 "allowedMosaicMethods": "NorthWest,Center,LockRaster,ByAttribute,Nadir,Viewpoint,Seamline,None",
 "sortField": "",
 "sortValue": null,
 "sortAscending": true,
 "mosaicOperator": "First",
 "maxDownloadSizeLimit": 2048,
 "defaultCompressionQuality": 75,
 "defaultResamplingMethod": "Nearest",
 "maxImageHeight": 4100,
 "maxImageWidth": 15000,
 "maxRecordCount": 1000,
 "maxDownloadImageCount": 20,
 "maxMosaicImageCount": 20,
 "allowRasterFunction": true,
 "rasterFunctionInfos": [
  {
   "name": "None",
   "description": "A No-Op Function.",
   "help": ""
  }
 ],
 "rasterTypeInfos": [
  {
   "name": "Raster Dataset",
   "description": "Supports all ArcGIS Raster Datasets",
   "help": ""
  }
 ],
 "mensurationCapabilities": "None",
 "hasHistograms": true,
 "hasColormap": false,
 "hasRasterAttributeTable": false,
 "minScale": 0,
 "maxScale": 0,
 "exportTilesAllowed": false,
 "supportsStatistics": true,
 "supportsAdvancedQueries": true,
 "editFieldsInfo": null,
 "ownershipBasedAccessControlForRasters": null,
 "allowComputeTiePoints": false,
 "useStandardizedQueries": true,
 "advancedQueryCapabilities": {
  "useStandardizedQueries": true,
  "supportsStatistics": true,
  "supportsOrderBy": true,
  "supportsDistinct": true,
  "supportsPagination": true
 },
 "spatialReference": {
  "wkid": 103490,
  "latestWkid": 103490
 }
}
