<?xml version="1.0" encoding="UTF-8" standalone="no"?>
<metadata xml:lang="en">
<Esri>
<CreaDate>20190207</CreaDate>
<CreaTime>09274200</CreaTime>
<ArcGISFormat>1.0</ArcGISFormat>
<ArcGISstyle>FGDC CSDGM Metadata</ArcGISstyle>
<SyncOnce>FALSE</SyncOnce>
<DataProperties>
<itemProps>
<itemName Sync="TRUE">Orthoimagery_NAIP_1m_2016</itemName>
<nativeExtBox>
<westBL Sync="TRUE">411480.823000</westBL>
<eastBL Sync="TRUE">579121.231433</eastBL>
<southBL Sync="TRUE">472440.774151</southBL>
<northBL Sync="TRUE">655321.310600</northBL>
<exTypeCode Sync="TRUE">1</exTypeCode>
</nativeExtBox>
</itemProps>
<coordRef>
<type Sync="TRUE">Projected</type>
<geogcsn Sync="TRUE">GCS_NAD_1983_CORS96</geogcsn>
<csUnits Sync="TRUE">Linear Unit: Meter (1.000000)</csUnits>
<projcsn Sync="TRUE">NAD_1983_CORS96_StatePlane_New_Mexico_Central_FIPS_3002</projcsn>
<peXml Sync="TRUE">&lt;ProjectedCoordinateSystem xsi:type='typens:ProjectedCoordinateSystem' xmlns:xsi='http://www.w3.org/2001/XMLSchema-instance' xmlns:xs='http://www.w3.org/2001/XMLSchema' xmlns:typens='http://www.esri.com/schemas/ArcGIS/10.4'&gt;&lt;WKT&gt;PROJCS[&amp;quot;NAD_1983_CORS96_StatePlane_New_Mexico_Central_FIPS_3002&amp;quot;,GEOGCS[&amp;quot;GCS_NAD_1983_CORS96&amp;quot;,DATUM[&amp;quot;D_NAD_1983_CORS96&amp;quot;,SPHEROID[&amp;quot;GRS_1980&amp;quot;,6378137.0,298.257222101]],PRIMEM[&amp;quot;Greenwich&amp;quot;,0.0],UNIT[&amp;quot;Degree&amp;quot;,0.0174532925199433]],PROJECTION[&amp;quot;Transverse_Mercator&amp;quot;],PARAMETER[&amp;quot;False_Easting&amp;quot;,500000.0],PARAMETER[&amp;quot;False_Northing&amp;quot;,0.0],PARAMETER[&amp;quot;Central_Meridian&amp;quot;,-106.25],PARAMETER[&amp;quot;Scale_Factor&amp;quot;,0.9999],PARAMETER[&amp;quot;Latitude_Of_Origin&amp;quot;,31.0],UNIT[&amp;quot;Meter&amp;quot;,1.0],AUTHORITY[&amp;quot;Esri&amp;quot;,103487]]&lt;/WKT&gt;&lt;XOrigin&gt;-5122600&lt;/XOrigin&gt;&lt;YOrigin&gt;-13431700&lt;/YOrigin&gt;&lt;XYScale&gt;450310428.58990461&lt;/XYScale&gt;&lt;ZOrigin&gt;-100000&lt;/ZOrigin&gt;&lt;ZScale&gt;10000&lt;/ZScale&gt;&lt;MOrigin&gt;-100000&lt;/MOrigin&gt;&lt;MScale&gt;10000&lt;/MScale&gt;&lt;XYTolerance&gt;0.001&lt;/XYTolerance&gt;&lt;ZTolerance&gt;0.001&lt;/ZTolerance&gt;&lt;MTolerance&gt;0.001&lt;/MTolerance&gt;&lt;HighPrecision&gt;true&lt;/HighPrecision&gt;&lt;WKID&gt;103487&lt;/WKID&gt;&lt;LatestWKID&gt;103487&lt;/LatestWKID&gt;&lt;/ProjectedCoordinateSystem&gt;</peXml>
</coordRef>
<RasterProperties>
<General>
<PixelDepth Sync="TRUE">8</PixelDepth>
<HasColormap Sync="TRUE">FALSE</HasColormap>
<CompressionType Sync="TRUE">None</CompressionType>
<NumBands Sync="TRUE">3</NumBands>
<Format Sync="TRUE">AMD</Format>
<HasPyramids Sync="TRUE">TRUE</HasPyramids>
<SourceType Sync="TRUE">continuous</SourceType>
<PixelType Sync="TRUE">unsigned integer</PixelType>
<NoDataValue Sync="TRUE">
</NoDataValue>
</General>
<Properties>
<MaxImageHeight Sync="TRUE">4100</MaxImageHeight>
<MaxImageWidth Sync="TRUE">15000</MaxImageWidth>
<MaxRecordCount Sync="TRUE">1000</MaxRecordCount>
<MaxDownloadImageCount Sync="TRUE">20</MaxDownloadImageCount>
<MaxDownloadSizeLimit Sync="TRUE">2048</MaxDownloadSizeLimit>
<MaxMosaicImageCount Sync="TRUE">20</MaxMosaicImageCount>
<DefaultCompressionQuality Sync="TRUE">75</DefaultCompressionQuality>
<DefaultCompressionTolerance Sync="TRUE">0.01</DefaultCompressionTolerance>
<BlendWidth Sync="TRUE">10</BlendWidth>
<ViewpointSpacingX Sync="TRUE">600</ViewpointSpacingX>
<ViewpointSpacingY Sync="TRUE">300</ViewpointSpacingY>
<AllowedItemMetadata Sync="TRUE">Basic</AllowedItemMetadata>
<DefaultResamplingMethod Sync="TRUE">1</DefaultResamplingMethod>
<AllowedMosaicMethods Sync="TRUE">NorthWest,Center,LockRaster,ByAttribute,Nadir,Viewpoint,Seamline,None</AllowedMosaicMethods>
<AllowedCompressions Sync="TRUE">JPEG,LZ77,LERC</AllowedCompressions>
<AllowedMensurationCapabilities Sync="TRUE">None</AllowedMensurationCapabilities>
<AvailableMensurationCapabilities Sync="TRUE">None,Basic,Base-Top Height,Top-Top Shadow Height,Base-Top Shadow Height,3D</AvailableMensurationCapabilities>
<ClipToBoundary Sync="TRUE">-1</ClipToBoundary>
<FootprintMayContainNoData Sync="TRUE">-1</FootprintMayContainNoData>
<CellSizeTolerance Sync="TRUE">0.8</CellSizeTolerance>
<MinimumPixelContribution Sync="TRUE">1</MinimumPixelContribution>
<AvailableMosaicMethods Sync="TRUE">NorthWest,Center,LockRaster,ByAttribute,Nadir,Viewpoint,Seamline,None</AvailableMosaicMethods>
<AvailableCompressionMethods Sync="TRUE">None,JPEG,LZ77,LERC</AvailableCompressionMethods>
<AvailableItemMetadataLevels Sync="TRUE">None,Basic,Full</AvailableItemMetadataLevels>
<ConfigKeyword Sync="TRUE">
</ConfigKeyword>
<BandDefinitionKeyword Sync="TRUE">NaturalColor</BandDefinitionKeyword>
<AllowedFields Sync="TRUE">Name,MinPS,MaxPS,LowPS,HighPS,Tag,GroupName,ProductName,CenterX,CenterY,ZOrder,Shape_Length,Shape_Area</AllowedFields>
<MaxCellSize Sync="TRUE">2623733.40106681</MaxCellSize>
<LowCellSize Sync="TRUE">0.999745999491996</LowCellSize>
<HighCellSize Sync="TRUE">52474.6680213361</HighCellSize>
<ApplyColorCorrection Sync="TRUE">0</ApplyColorCorrection>
<TimeValueFormat Sync="TRUE">
</TimeValueFormat>
<EndTimeFieldName Sync="TRUE">
</EndTimeFieldName>
<StartTimeFieldName Sync="TRUE">
</StartTimeFieldName>
<TimeIntervalUnits Sync="TRUE">
</TimeIntervalUnits>
<TimeInterval Sync="TRUE">
</TimeInterval>
<MosaicOperator Sync="TRUE">1</MosaicOperator>
<BlendWidthUnits Sync="TRUE">1</BlendWidthUnits>
<UseTime Sync="TRUE">0</UseTime>
<SortAscending Sync="TRUE">-1</SortAscending>
<ClipToFootprint Sync="TRUE">0</ClipToFootprint>
<SortField Sync="TRUE">Name</SortField>
<SortValue Sync="TRUE">0</SortValue>
</Properties>
<Functions Sync="TRUE">
<Function Description="Performs on-the-fly mosaic on a raster catalog." Name="Mosaic Function">
</Function>
</Functions>
</RasterProperties>
</DataProperties>
<SyncDate>20190207</SyncDate>
<SyncTime>10325300</SyncTime>
<ModDate>20190207</ModDate>
<ModTime>10325300</ModTime>
<scaleRange>
<minScale>50000</minScale>
<maxScale>5000</maxScale>
</scaleRange>
</Esri>
<mdLang>
<languageCode value="eng">
</languageCode>
<countryCode Sync="TRUE" value="USA">
</countryCode>
</mdLang>
<mdChar>
<CharSetCd value="004">
</CharSetCd>
</mdChar>
<mdHrLv>
<ScopeCd value="005">
</ScopeCd>
</mdHrLv>
<mdContact>
<rpOrgName>USDA-FSA Aerial Photography Field Office</rpOrgName>
<rpCntInfo>
<cntPhone>
<voiceNum>801-844-2900</voiceNum>
</cntPhone>
<cntAddress addressType="both">
<delPoint>2222 West 2300 South</delPoint>
<city>Salt Lake City</city>
<adminArea>Utah</adminArea>
<postCode>84119-2020</postCode>
<country>US</country>
</cntAddress>
</rpCntInfo>
<role>
<RoleCd value="007">
</RoleCd>
</role>
</mdContact>
<mdDateSt Sync="TRUE">20190207</mdDateSt>
<mdStanName>ArcGIS Metadata</mdStanName>
<mdStanVer>1.0</mdStanVer>
<distInfo>
<distributor>
<distorCont>
<rpIndName>Supervisor Customer Services Section</rpIndName>
<rpOrgName>USDA-FSA Aerial Photography Field Office</rpOrgName>
<rpCntInfo>
<cntPhone>
<voiceNum>801-844-2922</voiceNum>
<faxNum>801-956-3653</faxNum>
</cntPhone>
<cntAddress addressType="both">
<delPoint>2222 West 2300 South</delPoint>
<city>Salt Lake City</city>
<adminArea>Utah</adminArea>
<postCode>84119-2020</postCode>
<country>US</country>
<eMailAdd>apfo.sales@slc.usda.gov</eMailAdd>
</cntAddress>
</rpCntInfo>
<role>
<RoleCd value="005">
</RoleCd>
</role>
</distorCont>
<distorOrdPrc>
<resFees>Contact the Aerial Photography Field Office for more information</resFees>
</distorOrdPrc>
<distorFormat>
<formatName>Compressed County Mosaic</formatName>
<formatInfo>Natural Color</formatInfo>
</distorFormat>
<distorTran>
<onLineSrc>
<linkage>withheld</linkage>
</onLineSrc>
</distorTran>
<distorTran>
<offLineMed>
<medName>
<MedNameCd value="031">
</MedNameCd>
</medName>
</offLineMed>
</distorTran>
<distorTran>
<offLineMed>
</offLineMed>
</distorTran>
<distorTran>
<offLineMed>
</offLineMed>
</distorTran>
<distorTran>
<offLineMed>
<medName>
<MedNameCd value="002">
</MedNameCd>
</medName>
<medFormat>
<MedFormCd value="004">
</MedFormCd>
</medFormat>
</offLineMed>
</distorTran>
<distorTran>
<onLineSrc>
<orDesc>Mosaicked County Image for Los Alamos, NM</orDesc>
</onLineSrc>
</distorTran>
</distributor>
</distInfo>
<dataIdInfo>
<idCitation>
<resTitle Sync="TRUE">Orthoimagery_NAIP_1m_2016</resTitle>
<date>
<pubDate>2016-08-16</pubDate>
</date>
<citRespParty>
<rpOrgName>USDA_FSA_APFO Aerial Photography Field Office</rpOrgName>
<rpCntInfo>
<cntAddress>
<delPoint>Salt Lake City, Utah</delPoint>
</cntAddress>
</rpCntInfo>
<role>
<RoleCd value="010">
</RoleCd>
</role>
</citRespParty>
<citRespParty>
<rpOrgName>USDA-FSA-APFO</rpOrgName>
<role>
<RoleCd value="006">
</RoleCd>
</role>
</citRespParty>
<presForm>
<PresFormCd Sync="TRUE" value="005">
</PresFormCd>
</presForm>
</idCitation>
<idAbs>This data set contains imagery from the National Agriculture Imagery Program (NAIP). The NAIP acquires digital ortho imagery during the agricultural growing seasons in the continental U.S.. A primary goal of the NAIP program is to enable availability of ortho imagery within one year of acquisition. The NAIP provides two main products: 1 meter ground sample distance (GSD) ortho imagery rectified to a horizontal accuracy within +/- 5 meters of reference digital ortho quarter quads (DOQQ's) from the National Digital Ortho Program (NDOP) or from the National Agriculture Imagery Program (NAIP); 1 meter or 60cm GSD ortho imagery rectified within +/- 6 meters to true ground. The tiling format of NAIP imagery is based on a 3.75' x 3.75' quarter quadrangle with a 300 pixel buffer on all four sides. The NAIP imagery is formatted to the UTM coordinate system using the North American Datum of 1983 (NAD83). The NAIP imagery may contain as much as 10% cloud cover per tile. This file was generated by compressing NAIP imagery that covers the county extent. Two types of compression may be used for NAIP imagery: MrSID and JPEG 2000. The target value for the compression ratio is 15:1 for the 1 meter imagery and 60:1 for the 60cm imagery.</idAbs>
<idPurp>The NAIP imagery is typically available for distribution within 60 days of the end of a flying season and is intended to provide current information of...</idPurp>
<idStatus>
<ProgCd value="001">
</ProgCd>
</idStatus>
<idPoC>
<rpOrgName>USDA-FSA Aerial Photography Field Office</rpOrgName>
<rpCntInfo>
<cntPhone>
<voiceNum>801-844-2922</voiceNum>
<faxNum>801-956-3653</faxNum>
</cntPhone>
<cntAddress addressType="both">
<delPoint>2222 West 2300 South</delPoint>
<city>Salt Lake City</city>
<adminArea>Utah</adminArea>
<postCode>84119-2020</postCode>
<country>US</country>
<eMailAdd>apfo.sales@slc.usda.gov</eMailAdd>
</cntAddress>
</rpCntInfo>
<role>
<RoleCd value="007">
</RoleCd>
</role>
</idPoC>
<resMaint>
<maintFreq>
<MaintFreqCd value="010">
</MaintFreqCd>
</maintFreq>
</resMaint>
<graphOver>
<bgFileName>withheld</bgFileName>
<bgFileDesc>None</bgFileDesc>
<bgFileType>None</bgFileType>
</graphOver>
<placeKeys>
<keyword>Los Alamos</keyword>
<keyword>Los Alamos CO NM FSA</keyword>
<keyword>35028</keyword>
<keyword>NM</keyword>
<thesaName>
<resTitle>Geographic Names Information System</resTitle>
</thesaName>
</placeKeys>
<themeKeys>
<keyword>Aerial Compliance</keyword>
<keyword>Digital Ortho Rectified Image</keyword>
<keyword>Quarter Quadrangle</keyword>
<keyword>NAIP</keyword>
<keyword>Compression</keyword>
<keyword>Ortho Rectification</keyword>
<keyword>farming</keyword>
<keyword>JPEG 2000</keyword>
<keyword>MrSID</keyword>
<keyword>Mosaic</keyword>
<keyword>Compliance</keyword>
</themeKeys>
<searchKeys>
<keyword>Aerial Compliance</keyword>
<keyword>Digital Ortho Rectified Image</keyword>
<keyword>Los Alamos</keyword>
<keyword>Quarter Quadrangle</keyword>
<keyword>NAIP</keyword>
<keyword>Compression</keyword>
<keyword>Ortho Rectification</keyword>
<keyword>Los Alamos CO NM FSA</keyword>
<keyword>farming</keyword>
<keyword>JPEG 2000</keyword>
<keyword>MrSID</keyword>
<keyword>Mosaic</keyword>
<keyword>35028</keyword>
<keyword>NM</keyword>
<keyword>Compliance</keyword>
</searchKeys>
<resConst>
<LegConsts>
<useLimit>In no event shall the creators, custodians, or distributors of this information be liable for any damages arising out of its use (or the inability to use it).</useLimit>
<othConsts>There are no limitations for access.</othConsts>
</LegConsts>
</resConst>
<resConst>
<Consts>
<useLimit>None, The USDA-FSA Aerial Photography Field Office asks to be credited in derived products. If defects are found in the NAIP imagery during the 1 year warranty period such as horizontal offsets, replacement imagery may be provided. Imagery containing defects that require the acquisition of new imagery, such as excessive cloud cover, specular reflectance, etc., will not be replaced within a NAIP project year.</useLimit>
</Consts>
</resConst>
<dataLang>
<languageCode value="eng">
</languageCode>
<countryCode Sync="TRUE" value="USA">
</countryCode>
</dataLang>
<tpCat>
<TopicCatCd value="001">
</TopicCatCd>
</tpCat>
<envirDesc Sync="TRUE"> Version 6.2 (Build 9200) ; Esri ArcGIS 10.4.1.5686</envirDesc>
<dataExt>
<exDesc>Photography Source Image Dates.</exDesc>
<tempEle>
<TempExtent>
<exTemp>
<TM_Instant>
<tmPosition>2016-01-01</tmPosition>
</TM_Instant>
</exTemp>
</TempExtent>
</tempEle>
<geoEle>
</geoEle>
</dataExt>
<dataExt>
<geoEle>
<GeoBndBox>
<westBL>-106.445552</westBL>
<eastBL>-106.119733</eastBL>
<southBL>35.74382</southBL>
<northBL>36.006167</northBL>
</GeoBndBox>
</geoEle>
</dataExt>
<spatRpType>
<SpatRepTypCd Sync="TRUE" value="002">
</SpatRepTypCd>
</spatRpType>
<dataExt>
<geoEle>
<GeoBndBox esriExtentType="search">
<exTypeCode Sync="TRUE">1</exTypeCode>
<westBL Sync="TRUE">-107.243310</westBL>
<eastBL Sync="TRUE">-105.362136</eastBL>
<northBL Sync="TRUE">36.908541</northBL>
<southBL Sync="TRUE">35.256308</southBL>
</GeoBndBox>
</geoEle>
</dataExt>
<idCredit/>
</dataIdInfo>
<dqInfo>
<dqScope>
<scpLvl>
<ScopeCd value="005">
</ScopeCd>
</scpLvl>
</dqScope>
<report type="DQConcConsis">
<measDesc>NAIP 3.75 minute tile file names are based on the USGS quadrangle naming convention.</measDesc>
</report>
<report type="DQCompOm">
<measDesc>None</measDesc>
</report>
<report dimension="horizontal" type="DQAbsExtPosAcc">
<measDesc>NAIP Specifications</measDesc>
</report>
<report dimension="vertical" type="DQAbsExtPosAcc">
<measDesc>N/A 2d only</measDesc>
</report>
<dataLineage>
<prcStep>
<stepDesc>Digital imagery was collected at a nominal GSD of 80cm or 40cm using nine Cessna 441 aircraft flying at an average flight height of 8400m AGL for 80cm acquistion and 4400m AGL for 40cm acquisition. Aircraft flew with Leica Geosystem's ADS100/SH100 digital sensors with firmware 4.54 or ADS100/SH120 digital sensors with firmware 4.54. Each sensor collected 12 image bands Red,Green,Blue and Near-infrared at each of three look angles; Backward 19 degrees, Forward 26 degrees and Nadir for the SH100. Backward 10 degrees, Forward 14 degrees, and Nadir for the SH120. The Nadir Green band was collected in high resolution mode effectively doubling the resolution for that band. The ADS100 spectral ranges are; Red 619-651nm,Green 525-585nm, Blue 435-495nm and Near-infrared at 808-882nm. The CCD arrays have a pixel size of 5.0 microns in a 20000x1 format at nadir; a 18000x1 format at the backward look angle and a 16000x1 format at the forward look angle. The CCD's have a dynamic range of 72db and the A/D converters have a resolution of 14bits. The ADS is a push-broom sensor the ground footprint of the imagery is approximately 8km wide at a nominal 40cm GSD and 16km wide at a nominal 80cm GSD by the length flightline. The maximum flightline length is limited to approximately 240km. The factory calibrations and IMU alignments for each sensor (Serial Numbers: 10511,10512,10514,10522, 10527,10530,10531,10534,10540,10554,12502 ) were tested and verified by in-situ test flights before the start of the project. The Leica MissionPro Flight Planning Software is used to develop the flight acquisition plans. Flight acquisition sub blocks are designed first to define the GNSS base station logistics, and to break the project up into manageable acquisition units. The flight acquisition sub blocks are designed based on the specified acquisition season, native UTM zone of the DOQQs, flight line length limitations (to ensure sufficient performance of the IMU solution) as well as air traffic restrictions in the area. Once the sub blocks have been delineated they are brought into MissionPro for flight line design. The design parameters used in MissionPro will be 30% lateral overlap and 40cm or 80cm resolution. The flight lines have been designed with a north/south orientation. The design takes into account the latitude of the state, which affects line spacing due to convergence as well as the terrain. SRTM elevation data is used in the MissionPro design to ensure the 50cm GSD is achieved over all types of terrain. The raw data was downloaded from the sensors after each flight using Leica XPro software. The imagery was then georeferenced using the 200Hz GPS/INS data creating an exterior orientation for each scan line (x/y/z/o/p/k). Leica Xpro APM software was used to automatically generate tiepoint measurements between the foward, nadir and backward look angles for each line and to tie all flight lines together. The resulting point data and exterior orientation data were used to perform a full bundle adjustment using ORIMA software. Blunders were removed, and additional tie points measured in weak areas to ensure a robust solution. Once the point data was clean and point coverage was acceptable, photo-identifiable GPS-surveyed ground control points were introduced into the block adjustment. The bundle adjustment process produces revised exterior orientation data for the sensor with GPS/INS, datum, and sensor calibration errors modeled and removed. Using the revised exterior orientation from the bundle adjustment, orthorectified image strips were created with Xpro software and the June 2014 USGS 10m NED DEM. The Xpro orthorectification software applies an atmospheric-BRDF radiometric correction to the imagery. This correction compensates for atmospheric absorption, solar illumination angle and bi-directional reflectance. The orthorectified strips were then overlaid with each other and the ground control to check accuracy. Once the accuracy of the orthorectified image strips were validated the strips were then imported into Inpho's OrthoVista 7.0 package which was used for the final radiometric balance, mosaic, and DOQQ sheet creation. The final DOQQ sheets, with a 300m buffer and a ground pixel resolution of 1m or 60cm were then combined and compressed to create the county wide CCMs.</stepDesc>
<stepDateTm>2016-08-16</stepDateTm>
</prcStep>
<dataSource>
<srcDesc>Mosaicked County Image</srcDesc>
<srcScale>
<rfDenom>12000</rfDenom>
</srcScale>
<srcCitatn>
<resTitle>Los Alamos, NM</resTitle>
<resAltTitle>MrSID Compressed Image</resAltTitle>
<date>
<pubDate>2016-08-16</pubDate>
</date>
<citRespParty>
<rpOrgName>USDA-FSA Aerial Photography Field Office</rpOrgName>
<role>
<RoleCd value="006">
</RoleCd>
</role>
</citRespParty>
</srcCitatn>
<srcExt>
<exDesc>Majority Aerial Photography Date</exDesc>
<tempEle>
<TempExtent>
<exTemp>
<TM_Instant>
<tmPosition>2016-01-01</tmPosition>
</TM_Instant>
</exTemp>
</TempExtent>
</tempEle>
</srcExt>
</dataSource>
</dataLineage>
</dqInfo>
<spatRepInfo>
<Georect>
<numDims Sync="TRUE">2</numDims>
<cellGeo>
<CellGeoCd Sync="TRUE" value="002">
</CellGeoCd>
</cellGeo>
<tranParaAv Sync="TRUE">1</tranParaAv>
<chkPtAv Sync="TRUE">0</chkPtAv>
<cornerPts>
<pos Sync="TRUE">411480.823000 472440.774151</pos>
</cornerPts>
<cornerPts>
<pos Sync="TRUE">411480.823000 655321.310600</pos>
</cornerPts>
<cornerPts>
<pos Sync="TRUE">579121.231433 655321.310600</pos>
</cornerPts>
<cornerPts>
<pos Sync="TRUE">579121.231433 472440.774151</pos>
</cornerPts>
<centerPt>
<pos Sync="TRUE">495301.027216 563881.042375</pos>
</centerPt>
<axisDimension type="002">
<dimSize Sync="TRUE">167683</dimSize>
<dimResol>
<value Sync="TRUE" uom="m">0.999746</value>
</dimResol>
</axisDimension>
<axisDimension type="001">
<dimSize Sync="TRUE">182927</dimSize>
<dimResol>
<value Sync="TRUE" uom="m">0.999746</value>
</dimResol>
</axisDimension>
<ptInPixel>
<PixOrientCd Sync="TRUE" value="001">
</PixOrientCd>
</ptInPixel>
</Georect>
</spatRepInfo>
<spatRepInfo>
<Indref>Los Alamos, NM</Indref>
<Georect>
<tranParaAv Sync="TRUE">1</tranParaAv>
<chkPtAv Sync="TRUE">0</chkPtAv>
<cornerPts>
<pos Sync="TRUE">411480.823000 472440.774151</pos>
</cornerPts>
<cornerPts>
<pos Sync="TRUE">411480.823000 655321.310600</pos>
</cornerPts>
<cornerPts>
<pos Sync="TRUE">579121.231433 655321.310600</pos>
</cornerPts>
<cornerPts>
<pos Sync="TRUE">579121.231433 472440.774151</pos>
</cornerPts>
<centerPt>
<pos Sync="TRUE">495301.027216 563881.042375</pos>
</centerPt>
<axisDimension type="002">
<dimSize Sync="TRUE">167683</dimSize>
<dimResol>
<value Sync="TRUE" uom="m">0.999746</value>
</dimResol>
</axisDimension>
<axisDimension type="001">
<dimSize Sync="TRUE">182927</dimSize>
<dimResol>
<value Sync="TRUE" uom="m">0.999746</value>
</dimResol>
</axisDimension>
<ptInPixel>
<PixOrientCd Sync="TRUE" value="001">
</PixOrientCd>
</ptInPixel>
</Georect>
</spatRepInfo>
<eainfo>
<overview>
<eaover>8-bit pixels per band, 3 band RGB represent brightness values 0 - 255</eaover>
<eadetcit>None</eadetcit>
</overview>
</eainfo>
<refSysInfo>
<RefSystem>
<refSysID>
<identCode Sync="TRUE" code="103487">
</identCode>
<idCodeSpace Sync="TRUE">Esri</idCodeSpace>
<idVersion Sync="TRUE">10.0.0</idVersion>
</refSysID>
</RefSystem>
</refSysInfo>
<contInfo>
<ImgDesc>
<contentTyp>
<ContentTypCd Sync="TRUE" value="001">
</ContentTypCd>
</contentTyp>
<covDim>
<Band>
<dimDescrp Sync="TRUE">Red</dimDescrp>
<maxVal Sync="TRUE">227.000000</maxVal>
<minVal Sync="TRUE">21.000000</minVal>
<bitsPerVal Sync="TRUE">8</bitsPerVal>
<valUnit>
<UOM type="length">
</UOM>
</valUnit>
</Band>
<Band>
<dimDescrp Sync="TRUE">Green</dimDescrp>
<maxVal Sync="TRUE">226.000000</maxVal>
<minVal Sync="TRUE">32.000000</minVal>
<bitsPerVal Sync="TRUE">8</bitsPerVal>
<valUnit>
<UOM type="length">
</UOM>
</valUnit>
</Band>
<Band>
<dimDescrp Sync="TRUE">Blue</dimDescrp>
<maxVal Sync="TRUE">221.000000</maxVal>
<minVal Sync="TRUE">35.000000</minVal>
<bitsPerVal Sync="TRUE">8</bitsPerVal>
<valUnit>
<UOM type="length">
</UOM>
</valUnit>
</Band>
</covDim>
</ImgDesc>
</contInfo>
</metadata>
