{
 "currentVersion": 11.5,
 "serviceDescription": "This mosaicked image covers approximately 140 square miles of the Los Alamos National Laboratory's occupied area. The image depicts color digital aerial photography acquired in the fall of 2008 during leaf-off conditions. Each orthorectified pixel is exactly one half foot square. Accuracy of this imagery is 1\"=200'. This high resolution imagery is to be used for internal purposes only.\n\nLens and terrain distortion have been removed and tonal differences between adjacent images have been minimized to form a mosaic of the entire project area. Orthorectified imagery is assumed to depict features at ground level, so above ground features may show some distortion from elevation. The only exceptions to this are bridges and elevated roads, which have been checked for distortion and manually replaced by their previous unrectified versions. Each orthorectified pixel is exactly one half foot square. Accuracy of this orthophotography was tested using National Spatial Data Infrastructure (NSDI) Chapter 3 process and conforms to American Society for Photogrammetry and Remote Sensing (ASPRS) Class I Standards for 1\"=200' horizontal mapping. Horizontal accuracy of all ground control visible in imagery shows a displacement of not more than two pixels (one foot) 95% of the time as tested. Color balance is consistent across the project.\n\nAerotriangulation results for all raw imagery was checked for horizontal accuracy. All visible control points were checked in orthorectified imagery for horizontal accuracy. All bridges were checked for warping during the orthorectification process and corrected. All imagery was checked for consistency of color balance across the entire project area. All frames were checked with total visual inspection at full resolution to determine quality and corrections of misplaced seamlines and other potential quality issues.\n\nSource images are collected with a digital sensor with 4096 brightness values (12 bit) per band. Each image's histogram is clipped at high and low values to increase contrast, and then a digital dodge is performed in order to reduce vignetting of brightness and darkness trends across the frame.\n\nThe horizontal positional accuracy and the assurance of that accuracy depend, in part, on the accuracy of the data inputs to the rectification process (elevation data, aerotriangulation control and methods, camera calibration, and source imagery parameters). These parameters are reviewed post orthorectification against the output imagery and initially validate the product is in compilance with ASPRS standards. Additionally, NSDI Part 3 Chapter 3 - (http://www.fgdc.gov/standards/projects/FGDC-standards-projects/accuracy/part3/chapter3) outlines process for determining horizontal RMSE and 95% confidence level for accuracy. Data deemed useful for this validation include independent higher accuracy geodetic control, GPS ground surveys, photogrammetric methods, and databases of hight accuracy point coordinates. Check point locations are generally distributed more densely in the vicinity of important features and more sparsely in areas that are of little or not interest. This data set has uniform positional accuracy thus the points are spaced so 20% of the check points are located in each quadrant of the dataset. A total of 20 points were selected and combined with project control data to achieve a 62 point sample of control visible within the final products. Bohannan Huston, Inc. selected the points used for the independent accuracy check. This data set has tested to a horizontal RMSE of 0.66 feet and a 95% confidence of 1.14 feet. Basic process steps included test point location determination of well defined features, field GPS real time kinematic measurement of selected points, comparison of the vector displacement from source control to location coordinates pulled from image interpretation, and finally an RMSE calculation of the check point sample to determine accuracy and confidence. Results for the NSDI Part 3 Chapter 3 horizontal accuracy test can be obtained from the Bohannan Huston, Inc. Product data tested 1.14 feet horizontal accuracy at 95% confidence level. Testing indicates that final product conforms to ASPRS Class 1 horizontal 1\"=100' specifications.\n\nASPRS Class 1 Mapping Standards for 1\"= 200' horizontal require an RMSE of 2.0' is achieved. Control points that were used to aerotriangulate the positions of the images at time of exposure were identified in the orthorectified images and found to be displaced not more than three pixels. All other ground features therefore should not be displaced from their true locations by more than an average of three pixels. Features not on the ground, such as building rooftops or trees, may be displaced. This accuracy specification was validated with NSDI processes defined in Part 3 Chapter 3 - National Standard for Spatial Data Accuracy.\n\nImages were mosaicked into large aggregate tiles and automatic seamlines were used to combine the most nadir components of individual images. OrthoVista software was used in this process.\n\nRaw image data was captured using an Intergraph DMC having a focal length of 120mm, an effective charge coupled device (CCD) array size of 165.888mm across track (left to right) by 92.16mm along track (top to bottom), and a pixel size in its panchromatic band of 12 by 12 microns. Output images were created using post-processing software which removes lens distortion and pan-sharpens color data with a panchromatic image taken at the same instant. Each image had its histogram clipped to optimize contrast, and was sliced to reduce it from a 12 bit image (4096 values per band) to an 8 bit image (256 values per band).\n\nGround Control targets (panels) were laid down at predetermined locations and their positions recorded with static GPS. Positions were then corrected and network adjusted via the federal government Online Positioning User System (OPUS) to the project coordinate system.\n\nImages were color balanced and color corrected individually to ensure color consistent between flight lines, times of day, and dates of capture.\n\nAggregate tiles were again tonally balanced and color corrected with entire project in view. A second global tilt was performed to minimize color changes across images. Tiles were cut from the mosaic for review.\n\nImages were orthorectified to remove distortions caused by changes in the elevation of the terrain. The orthorectification process used an exponential interpolation method and a ground elevation sampling interval of thirty two pixels. Intergraph ISBR was employed for the orthorectification.\n\nImages were aerotriangulated to finalize their external orientation. Intergraph ISAT and GeoMedia Pro were used to perform digital point matching/mensuration/block adjustments and quality control queries respectively. Final block adjustments were evaluated at sub pixel accuracy.\n\nThe rectified mosaicked imagery were cut into smaller based quarter tile sections approximately 3000ft by 2000ft tiles.\n\nImages were checked for gaps, smears caused by missing surface, and these were fixed and re-created. Above ground features such as bridges warped by the orthorectification or excessive building lean were patched in with versions from unrectified photos. Obvious color differences that remained between source images were feathered. Twenty percent of images selected at random were reviewed at full resolution for any other issues.\n\nRaw image data was captured using a Intergraph DMC camera having a focal length of 120mm, an effective charge coupled device (CCD) array size of 165.888mm across track (left to right) by 92.16mm along track (top to bottom), and a pixel size in its panchromatic band of 12 by 12 microns.\n",
 "serviceItemId": "5254b231ca8641888796fce8ac7800f4",
 "name": "imagery/Orthoimagery_6in_2008",
 "description": "This mosaicked image covers approximately 140 square miles of the Los Alamos National Laboratory's occupied area. The image depicts color digital aerial photography acquired in the fall of 2008 during leaf-off conditions. Each orthorectified pixel is exactly one half foot square. Accuracy of this imagery is 1\"=200'. This high resolution imagery is to be used for internal purposes only.\n\nLens and terrain distortion have been removed and tonal differences between adjacent images have been minimized to form a mosaic of the entire project area. Orthorectified imagery is assumed to depict features at ground level, so above ground features may show some distortion from elevation. The only exceptions to this are bridges and elevated roads, which have been checked for distortion and manually replaced by their previous unrectified versions. Each orthorectified pixel is exactly one half foot square. Accuracy of this orthophotography was tested using National Spatial Data Infrastructure (NSDI) Chapter 3 process and conforms to American Society for Photogrammetry and Remote Sensing (ASPRS) Class I Standards for 1\"=200' horizontal mapping. Horizontal accuracy of all ground control visible in imagery shows a displacement of not more than two pixels (one foot) 95% of the time as tested. Color balance is consistent across the project.\n\nAerotriangulation results for all raw imagery was checked for horizontal accuracy. All visible control points were checked in orthorectified imagery for horizontal accuracy. All bridges were checked for warping during the orthorectification process and corrected. All imagery was checked for consistency of color balance across the entire project area. All frames were checked with total visual inspection at full resolution to determine quality and corrections of misplaced seamlines and other potential quality issues.\n\nSource images are collected with a digital sensor with 4096 brightness values (12 bit) per band. Each image's histogram is clipped at high and low values to increase contrast, and then a digital dodge is performed in order to reduce vignetting of brightness and darkness trends across the frame.\n\nThe horizontal positional accuracy and the assurance of that accuracy depend, in part, on the accuracy of the data inputs to the rectification process (elevation data, aerotriangulation control and methods, camera calibration, and source imagery parameters). These parameters are reviewed post orthorectification against the output imagery and initially validate the product is in compilance with ASPRS standards. Additionally, NSDI Part 3 Chapter 3 - (http://www.fgdc.gov/standards/projects/FGDC-standards-projects/accuracy/part3/chapter3) outlines process for determining horizontal RMSE and 95% confidence level for accuracy. Data deemed useful for this validation include independent higher accuracy geodetic control, GPS ground surveys, photogrammetric methods, and databases of hight accuracy point coordinates. Check point locations are generally distributed more densely in the vicinity of important features and more sparsely in areas that are of little or not interest. This data set has uniform positional accuracy thus the points are spaced so 20% of the check points are located in each quadrant of the dataset. A total of 20 points were selected and combined with project control data to achieve a 62 point sample of control visible within the final products. Bohannan Huston, Inc. selected the points used for the independent accuracy check. This data set has tested to a horizontal RMSE of 0.66 feet and a 95% confidence of 1.14 feet. Basic process steps included test point location determination of well defined features, field GPS real time kinematic measurement of selected points, comparison of the vector displacement from source control to location coordinates pulled from image interpretation, and finally an RMSE calculation of the check point sample to determine accuracy and confidence. Results for the NSDI Part 3 Chapter 3 horizontal accuracy test can be obtained from the Bohannan Huston, Inc. Product data tested 1.14 feet horizontal accuracy at 95% confidence level. Testing indicates that final product conforms to ASPRS Class 1 horizontal 1\"=100' specifications.\n\nASPRS Class 1 Mapping Standards for 1\"= 200' horizontal require an RMSE of 2.0' is achieved. Control points that were used to aerotriangulate the positions of the images at time of exposure were identified in the orthorectified images and found to be displaced not more than three pixels. All other ground features therefore should not be displaced from their true locations by more than an average of three pixels. Features not on the ground, such as building rooftops or trees, may be displaced. This accuracy specification was validated with NSDI processes defined in Part 3 Chapter 3 - National Standard for Spatial Data Accuracy.\n\nImages were mosaicked into large aggregate tiles and automatic seamlines were used to combine the most nadir components of individual images. OrthoVista software was used in this process.\n\nRaw image data was captured using an Intergraph DMC having a focal length of 120mm, an effective charge coupled device (CCD) array size of 165.888mm across track (left to right) by 92.16mm along track (top to bottom), and a pixel size in its panchromatic band of 12 by 12 microns. Output images were created using post-processing software which removes lens distortion and pan-sharpens color data with a panchromatic image taken at the same instant. Each image had its histogram clipped to optimize contrast, and was sliced to reduce it from a 12 bit image (4096 values per band) to an 8 bit image (256 values per band).\n\nGround Control targets (panels) were laid down at predetermined locations and their positions recorded with static GPS. Positions were then corrected and network adjusted via the federal government Online Positioning User System (OPUS) to the project coordinate system.\n\nImages were color balanced and color corrected individually to ensure color consistent between flight lines, times of day, and dates of capture.\n\nAggregate tiles were again tonally balanced and color corrected with entire project in view. A second global tilt was performed to minimize color changes across images. Tiles were cut from the mosaic for review.\n\nImages were orthorectified to remove distortions caused by changes in the elevation of the terrain. The orthorectification process used an exponential interpolation method and a ground elevation sampling interval of thirty two pixels. Intergraph ISBR was employed for the orthorectification.\n\nImages were aerotriangulated to finalize their external orientation. Intergraph ISAT and GeoMedia Pro were used to perform digital point matching/mensuration/block adjustments and quality control queries respectively. Final block adjustments were evaluated at sub pixel accuracy.\n\nThe rectified mosaicked imagery were cut into smaller based quarter tile sections approximately 3000ft by 2000ft tiles.\n\nImages were checked for gaps, smears caused by missing surface, and these were fixed and re-created. Above ground features such as bridges warped by the orthorectification or excessive building lean were patched in with versions from unrectified photos. Obvious color differences that remained between source images were feathered. Twenty percent of images selected at random were reviewed at full resolution for any other issues.\n\nRaw image data was captured using a Intergraph DMC camera having a focal length of 120mm, an effective charge coupled device (CCD) array size of 165.888mm across track (left to right) by 92.16mm along track (top to bottom), and a pixel size in its panchromatic band of 12 by 12 microns.\n",
 "extent": {
  "xmin": 1591000.2926797196,
  "ymin": 1727999.6106404439,
  "xmax": 1669000.2926797196,
  "ymax": 1791999.6106404439,
  "spatialReference": {
   "wkid": 103490,
   "latestWkid": 103490
  }
 },
 "initialExtent": {
  "xmin": 1591000.2926797196,
  "ymin": 1727999.6106404439,
  "xmax": 1669000.2926797196,
  "ymax": 1791999.6106404439,
  "spatialReference": {
   "wkid": 103490,
   "latestWkid": 103490
  }
 },
 "fullExtent": {
  "xmin": 1591000.2926797196,
  "ymin": 1727999.6106404439,
  "xmax": 1669000.2926797196,
  "ymax": 1791999.6106404439,
  "spatialReference": {
   "wkid": 103490,
   "latestWkid": 103490
  }
 },
 "sortableFields": "",
 "bandCount": 3,
 "pixelType": "U8",
 "minValues": [
  0,
  0,
  0
 ],
 "maxValues": [
  255,
  255,
  255
 ],
 "meanValues": [
  117.15199582154703,
  118.84360019476996,
  101.84284948062137
 ],
 "stdvValues": [
  51.34171478612219,
  44.98269732964168,
  39.56689243875707
 ],
 "serviceProperties": "NorthWest<\/MosaicMethod>First<\/MosaicOperator>true<\/SortAscending><\/LockImageID>Name<\/TileOrderField>0<\/TileOrderBase>600.000000<\/AvgImageSpacingX>300.000000<\/AvgImageSpacingY>0.0<\/ViewPointX>0.0<\/ViewPointY>0.0<\/ViewPointDefShiftX>0.0<\/ViewPointDefShiftY>JPEG<\/CompressionMethod>75<\/CompressionQuality>0.010000<\/CompressionTolerance>Nearest<\/SamplingMethod><\/ImageServiceProperties><\/ImageServer>",
 "allowedFields": "Name,MinPS,MaxPS,LowPS,HighPS,Tag,GroupName,ProductName,CenterX,CenterY,ZOrder,Shape_Length,Shape_Area",
 "hasMultidimensions": false,
 "pixelSizeX": 1,
 "pixelSizeY": 1,
 "meanPixelSize": 0.30480060960121924,
 "datasetFormat": "AMD",
 "uncompressedSize": 14976000000,
 "blockWidth": 2048,
 "blockHeight": 256,
 "compressionType": "None",
 "bandNames": [
  "Red",
  "Green",
  "Blue"
 ],
 "allowCopy": true,
 "allowAnalysis": true,
 "itemAccess": false,
 "inspectionCapabilities": "",
 "minPixelSize": 0,
 "maxPixelSize": 0,
 "copyrightText": "",
 "serviceDataType": "esriImageServiceDataTypeRGB",
 "serviceSourceType": "esriImageServiceSourceTypeMosaicDataset",
 "objectIdField": "OBJECTID",
 "fields": [
  {
   "name": "OBJECTID",
   "type": "esriFieldTypeOID",
   "alias": "OBJECTID",
   "domain": null
  },
  {
   "name": "Shape",
   "type": "esriFieldTypeGeometry",
   "alias": "Shape",
   "domain": null
  },
  {
   "name": "Name",
   "type": "esriFieldTypeString",
   "alias": "Name",
   "domain": null,
   "length": 200
  },
  {
   "name": "MinPS",
   "type": "esriFieldTypeDouble",
   "alias": "MinPS",
   "domain": null
  },
  {
   "name": "MaxPS",
   "type": "esriFieldTypeDouble",
   "alias": "MaxPS",
   "domain": null
  },
  {
   "name": "LowPS",
   "type": "esriFieldTypeDouble",
   "alias": "LowPS",
   "domain": null
  },
  {
   "name": "HighPS",
   "type": "esriFieldTypeDouble",
   "alias": "HighPS",
   "domain": null
  },
  {
   "name": "Category",
   "type": "esriFieldTypeInteger",
   "alias": "Category",
   "domain": {
    "type": "codedValue",
    "name": "MosaicCatalogItemCategoryDomain",
    "description": "Catalog item categories.",
    "codedValues": [
     {
      "name": "Unknown",
      "code": 0
     },
     {
      "name": "Primary",
      "code": 1
     },
     {
      "name": "Overview",
      "code": 2
     },
     {
      "name": "Unprocessed Overview",
      "code": 3
     },
     {
      "name": "Partial Overview",
      "code": 4
     },
     {
      "name": "Inactive",
      "code": 5
     },
     {
      "name": "Uploaded",
      "code": 253
     },
     {
      "name": "Incomplete",
      "code": 254
     },
     {
      "name": "Custom",
      "code": 255
     }
    ],
    "mergePolicy": "esriMPTDefaultValue",
    "splitPolicy": "esriSPTDefaultValue"
   }
  },
  {
   "name": "Tag",
   "type": "esriFieldTypeString",
   "alias": "Tag",
   "domain": null,
   "length": 100
  },
  {
   "name": "GroupName",
   "type": "esriFieldTypeString",
   "alias": "GroupName",
   "domain": null,
   "length": 100
  },
  {
   "name": "ProductName",
   "type": "esriFieldTypeString",
   "alias": "ProductName",
   "domain": null,
   "length": 100
  },
  {
   "name": "CenterX",
   "type": "esriFieldTypeDouble",
   "alias": "CenterX",
   "domain": null
  },
  {
   "name": "CenterY",
   "type": "esriFieldTypeDouble",
   "alias": "CenterY",
   "domain": null
  },
  {
   "name": "ZOrder",
   "type": "esriFieldTypeInteger",
   "alias": "ZOrder",
   "domain": null
  },
  {
   "name": "Shape_Length",
   "type": "esriFieldTypeDouble",
   "alias": "Shape_Length",
   "domain": null
  },
  {
   "name": "Shape_Area",
   "type": "esriFieldTypeDouble",
   "alias": "Shape_Area",
   "domain": null
  }
 ],
 "capabilities": "Image,Metadata,Catalog",
 "defaultMosaicMethod": "Northwest",
 "allowedMosaicMethods": "NorthWest,Center,LockRaster,ByAttribute,Nadir,Viewpoint,Seamline,None",
 "sortField": "",
 "sortValue": null,
 "sortAscending": true,
 "mosaicOperator": "First",
 "maxDownloadSizeLimit": 2048,
 "defaultCompressionQuality": 75,
 "defaultResamplingMethod": "Nearest",
 "maxImageHeight": 4100,
 "maxImageWidth": 15000,
 "maxRecordCount": 1000,
 "maxDownloadImageCount": 20,
 "maxMosaicImageCount": 20,
 "allowRasterFunction": true,
 "rasterFunctionInfos": [
  {
   "name": "None",
   "description": "",
   "help": ""
  }
 ],
 "rasterTypeInfos": [
  {
   "name": "Raster Dataset",
   "description": "Supports all ArcGIS Raster Datasets",
   "help": ""
  }
 ],
 "mensurationCapabilities": "None",
 "hasHistograms": true,
 "hasColormap": false,
 "hasRasterAttributeTable": false,
 "minScale": 0,
 "maxScale": 0,
 "exportTilesAllowed": false,
 "supportsStatistics": true,
 "supportsAdvancedQueries": true,
 "editFieldsInfo": null,
 "ownershipBasedAccessControlForRasters": null,
 "allowComputeTiePoints": false,
 "useStandardizedQueries": true,
 "advancedQueryCapabilities": {
  "useStandardizedQueries": true,
  "supportsStatistics": true,
  "supportsOrderBy": true,
  "supportsDistinct": true,
  "supportsPagination": true
 },
 "spatialReference": {
  "wkid": 103490,
  "latestWkid": 103490
 }
}
