{
 "currentVersion": 11.5,
 "serviceDescription": "Los Alamos National Laboratory through the Regents of the University of California contracted and coordinated digital acquisition of six inch natural color digital orthophotography for an area covering approximately 140 square miles.The data were collected in July and August 2005. The bounding coordinates provided within the Spatial Domain section represent a rectangle in which the project is located. Data produced within this project boundary include orthophotography tiles base upon a modified grid tiling scheme defined by the client. Project tasks included: (1) Digital Aerial Imagery Acquisition Missing Planning; (2) Ground Control Surveys; (3) Digital Aerial Imagery Acquisition Mission; (4) Fully Analytical Aerial Triangulation; (5) Digital Terrain Model (DTM) Data Collection; (6) Final DTM Edit; and (7) Digital Orthorectified Imagery Generation. A total of 640 tiles of digital orthophotography were produced to cover the project area. Each final deliverable 0.5 foot resolution true color digital orthophotography tile measures 3000' x 2000'. Deliverables include: - 24-Bit True Color 0.5 foot resolution digital orthophotography tiles in GeoTIFF format - Associated tiff world files Digital True (Natural) Color aerial photography were acquired using an Intergraph Z/I Imaging DMC® (Digital Mapping Camera)-Serial # - DMC01-0002-proven accurate for photogrammetric mapping by the USGS digital sensor evaluation program at Stennis, Mississippi. The flight design achieved a nominal ground pixel resolution sufficient for developing 0.5 foot pixel orthophotography without oversampling. It was also designed with sufficient forward overlap and strip side laps to ensure total project area coverage according to the following flight specifications: Altitude: 4500' above mean terrain Focal Length: 120 mm (4.72\") Imagery Scale: 1 \"=950', (Photo Scale PS: 1:11,400) Conditions: Leaf Off, Cloud Free, Optimum Sun Angle Forward Overlap: 60% Sidelap: 30% Flight Lines: 24 Exposures: 1287 Control Panels: 6 In addition to airborne Global Positioning System (GPS) control and Inertial Measurement Unit (IMU) data, ground control points were acquired under the supervision of a registered surveyor at sufficient density and accuracy to support production of digital orthophotography to the specifications required. Control was collected in NM State Plane, Central Zone, NAD83, NAVD88, US Feet. Aerotriangulation was performed using industry-accepted procedures on approved softcopy workstation to support the horizontal accuracy requirements of the digital orthophotography-Root Mean Square Error (RMSE) of known ground points does not exceed 1 foot in x, y, or z. Surface data were constructed using industry-accepted procedures with sufficient density of points to support production of digital orthophotography according to the required specifications. Digital orthophotography was created using industry accepted procedures. The most nadir part of every image was used during Digital Orthorectification. Mosaic seam lines were created to ensure that joins do not cut hard detail where avoidable. Mosaic lines do not cross through above-ground structures unless unavoidable. Seams through or along streets were placed to avoid obscuring or artificially creating centerlines, curbs, and sidewalks. Compliance with the accuracy standard was ensured by the placement of photo identifiable ground control points and the collection of airborne GPS and IMU data. Meets National Map Accuracy Standards at 1\" = 200' (1 :2,400); Meets American Society of Remote Sensing and Photogrammetry (ASPRS) Class 2 Standards for Large-Scale Maps (horizontal); All ground control adhered to the \"Geometric Geodetic Accuracy Standards and Specifications for Using Relative Positioning Techniques\", FGDC Version 5.0, of August 1, 1989, published by the Federal Geodetic Control Subcommittee (FGCS).The autocorrelated digital elevation model data were created from stereo model pairs using ImageStation Automatic Elevations software. Models were clipped, inventoried and ingested into a PostgreSQL database which is integrated into the workflow for the differential rectification of the digital orthophotography.The completed digital orthophoto tiles were checked for image quality. Quality control included assessment of every final tile in regard to positional accuracy, surface accuracy, and radiometric quality. Tiles were inspected against seam line placement to ensure that no hard detail was cut. Minor artifacts and adjustments were corrected using Adobe Photoshop in an interactive editing session.DMC data and accompanying GPS and IMU data were downloaded from hard disks and checked to verify that no files were corrupted and that all data could be downloaded. Digital aerial imagery that was used for this project included three-band (Red, Green, and Blue) images. The 12-bit image frames were inspected in an uncorrected state to verify the integrity of each flight line.Consistent project lookup tables (LUTs) for the 12-bit data were created using a gamma function and applied to each frame of photography. LUT applied frame data were then resampled from 12-bit to 8-bit format prior to orthorectification.Master color balancing was conducted across large areas of the project to create consistent tonal and color balance among adjacent image frames yielding a uniform overall appearance. Using master color balancing metadata, mosaic blocks were submitted to the mosaicking and tiling process. Final 24-bit natural color tiled output was inspected for data voids and radiometric integrity.Aerotriangulation for the project was accomplished using two AT blocks where the horizontal and vertical positions of all ground control points in each block were observed on the 12-bit imagery. Ground control, GPS and IMU information were ingested and tie points between flight lines were identified. ISAT produced the bundle adjustment. The results of the adjustment were verified for nominal accuracies to within 1 US Survey Foot. An ASPRS certified photogrammetrist inspected the aerotriangulation process for quality.The new 2 (two) foot DTM used in the orthorectification process on this project was created utilizing photogrammetric software to generate a gridded auto-correlated surface. DTMs created with this method conform to ASPRS Accuracy Standards for Class 2 large-scale mapping at a contour interval of 2.0 feet.Bohannan Huston Inc. established ground control to support the aerotriangulation process. A total of 24 surveyed points were paneled to support the AT process.\n\n\n",
 "serviceItemId": "359c66640de74e0bbebe11bcd110a1be",
 "name": "imagery/Orthoimagery_6in_2005",
 "description": "Los Alamos National Laboratory through the Regents of the University of California contracted and coordinated digital acquisition of six inch natural color digital orthophotography for an area covering approximately 140 square miles.The data were collected in July and August 2005. The bounding coordinates provided within the Spatial Domain section represent a rectangle in which the project is located. Data produced within this project boundary include orthophotography tiles base upon a modified grid tiling scheme defined by the client. Project tasks included: (1) Digital Aerial Imagery Acquisition Missing Planning; (2) Ground Control Surveys; (3) Digital Aerial Imagery Acquisition Mission; (4) Fully Analytical Aerial Triangulation; (5) Digital Terrain Model (DTM) Data Collection; (6) Final DTM Edit; and (7) Digital Orthorectified Imagery Generation. A total of 640 tiles of digital orthophotography were produced to cover the project area. Each final deliverable 0.5 foot resolution true color digital orthophotography tile measures 3000' x 2000'. Deliverables include: - 24-Bit True Color 0.5 foot resolution digital orthophotography tiles in GeoTIFF format - Associated tiff world files Digital True (Natural) Color aerial photography were acquired using an Intergraph Z/I Imaging DMC® (Digital Mapping Camera)-Serial # - DMC01-0002-proven accurate for photogrammetric mapping by the USGS digital sensor evaluation program at Stennis, Mississippi. The flight design achieved a nominal ground pixel resolution sufficient for developing 0.5 foot pixel orthophotography without oversampling. It was also designed with sufficient forward overlap and strip side laps to ensure total project area coverage according to the following flight specifications: Altitude: 4500' above mean terrain Focal Length: 120 mm (4.72\") Imagery Scale: 1 \"=950', (Photo Scale PS: 1:11,400) Conditions: Leaf Off, Cloud Free, Optimum Sun Angle Forward Overlap: 60% Sidelap: 30% Flight Lines: 24 Exposures: 1287 Control Panels: 6 In addition to airborne Global Positioning System (GPS) control and Inertial Measurement Unit (IMU) data, ground control points were acquired under the supervision of a registered surveyor at sufficient density and accuracy to support production of digital orthophotography to the specifications required. Control was collected in NM State Plane, Central Zone, NAD83, NAVD88, US Feet. Aerotriangulation was performed using industry-accepted procedures on approved softcopy workstation to support the horizontal accuracy requirements of the digital orthophotography-Root Mean Square Error (RMSE) of known ground points does not exceed 1 foot in x, y, or z. Surface data were constructed using industry-accepted procedures with sufficient density of points to support production of digital orthophotography according to the required specifications. Digital orthophotography was created using industry accepted procedures. The most nadir part of every image was used during Digital Orthorectification. Mosaic seam lines were created to ensure that joins do not cut hard detail where avoidable. Mosaic lines do not cross through above-ground structures unless unavoidable. Seams through or along streets were placed to avoid obscuring or artificially creating centerlines, curbs, and sidewalks. Compliance with the accuracy standard was ensured by the placement of photo identifiable ground control points and the collection of airborne GPS and IMU data. Meets National Map Accuracy Standards at 1\" = 200' (1 :2,400); Meets American Society of Remote Sensing and Photogrammetry (ASPRS) Class 2 Standards for Large-Scale Maps (horizontal); All ground control adhered to the \"Geometric Geodetic Accuracy Standards and Specifications for Using Relative Positioning Techniques\", FGDC Version 5.0, of August 1, 1989, published by the Federal Geodetic Control Subcommittee (FGCS).The autocorrelated digital elevation model data were created from stereo model pairs using ImageStation Automatic Elevations software. Models were clipped, inventoried and ingested into a PostgreSQL database which is integrated into the workflow for the differential rectification of the digital orthophotography.The completed digital orthophoto tiles were checked for image quality. Quality control included assessment of every final tile in regard to positional accuracy, surface accuracy, and radiometric quality. Tiles were inspected against seam line placement to ensure that no hard detail was cut. Minor artifacts and adjustments were corrected using Adobe Photoshop in an interactive editing session.DMC data and accompanying GPS and IMU data were downloaded from hard disks and checked to verify that no files were corrupted and that all data could be downloaded. Digital aerial imagery that was used for this project included three-band (Red, Green, and Blue) images. The 12-bit image frames were inspected in an uncorrected state to verify the integrity of each flight line.Consistent project lookup tables (LUTs) for the 12-bit data were created using a gamma function and applied to each frame of photography. LUT applied frame data were then resampled from 12-bit to 8-bit format prior to orthorectification.Master color balancing was conducted across large areas of the project to create consistent tonal and color balance among adjacent image frames yielding a uniform overall appearance. Using master color balancing metadata, mosaic blocks were submitted to the mosaicking and tiling process. Final 24-bit natural color tiled output was inspected for data voids and radiometric integrity.Aerotriangulation for the project was accomplished using two AT blocks where the horizontal and vertical positions of all ground control points in each block were observed on the 12-bit imagery. Ground control, GPS and IMU information were ingested and tie points between flight lines were identified. ISAT produced the bundle adjustment. The results of the adjustment were verified for nominal accuracies to within 1 US Survey Foot. An ASPRS certified photogrammetrist inspected the aerotriangulation process for quality.The new 2 (two) foot DTM used in the orthorectification process on this project was created utilizing photogrammetric software to generate a gridded auto-correlated surface. DTMs created with this method conform to ASPRS Accuracy Standards for Class 2 large-scale mapping at a contour interval of 2.0 feet.Bohannan Huston Inc. established ground control to support the aerotriangulation process. A total of 24 surveyed points were paneled to support the AT process.\n\n\n",
 "extent": {
  "xmin": 1600000.0931899995,
  "ymin": 1727999.079410009,
  "xmax": 1660000.0931899995,
  "ymax": 1791999.079410009,
  "spatialReference": {
   "wkid": 103490,
   "latestWkid": 103490
  }
 },
 "initialExtent": {
  "xmin": 1600000.0931899995,
  "ymin": 1727999.079410009,
  "xmax": 1660000.0931899995,
  "ymax": 1791999.079410009,
  "spatialReference": {
   "wkid": 103490,
   "latestWkid": 103490
  }
 },
 "fullExtent": {
  "xmin": 1600000.0931899995,
  "ymin": 1727999.079410009,
  "xmax": 1660000.0931899995,
  "ymax": 1791999.079410009,
  "spatialReference": {
   "wkid": 103490,
   "latestWkid": 103490
  }
 },
 "sortableFields": "",
 "bandCount": 3,
 "pixelType": "U8",
 "minValues": [
  0,
  0,
  0
 ],
 "maxValues": [
  255,
  255,
  255
 ],
 "meanValues": [
  85.27427927243698,
  85.72761042158493,
  83.69830651374488
 ],
 "stdvValues": [
  43.121617910019765,
  41.43673072441085,
  36.07094282083155
 ],
 "serviceProperties": "NorthWest<\/MosaicMethod>First<\/MosaicOperator>true<\/SortAscending><\/LockImageID>Name<\/TileOrderField>0<\/TileOrderBase>600.000000<\/AvgImageSpacingX>300.000000<\/AvgImageSpacingY>0.0<\/ViewPointX>0.0<\/ViewPointY>0.0<\/ViewPointDefShiftX>0.0<\/ViewPointDefShiftY>JPEG<\/CompressionMethod>75<\/CompressionQuality>0.010000<\/CompressionTolerance>Nearest<\/SamplingMethod><\/ImageServiceProperties><\/ImageServer>",
 "allowedFields": "Name,MinPS,MaxPS,LowPS,HighPS,Tag,GroupName,ProductName,CenterX,CenterY,ZOrder,Shape_Length,Shape_Area",
 "hasMultidimensions": false,
 "pixelSizeX": 0.5,
 "pixelSizeY": 0.5,
 "meanPixelSize": 0.15240030480060962,
 "datasetFormat": "AMD",
 "uncompressedSize": 46080000000,
 "blockWidth": 2048,
 "blockHeight": 256,
 "compressionType": "None",
 "bandNames": [
  "Red",
  "Green",
  "Blue"
 ],
 "allowCopy": true,
 "allowAnalysis": true,
 "itemAccess": false,
 "inspectionCapabilities": "",
 "minPixelSize": 0,
 "maxPixelSize": 0,
 "copyrightText": "",
 "serviceDataType": "esriImageServiceDataTypeRGB",
 "serviceSourceType": "esriImageServiceSourceTypeMosaicDataset",
 "objectIdField": "OBJECTID",
 "fields": [
  {
   "name": "OBJECTID",
   "type": "esriFieldTypeOID",
   "alias": "OBJECTID",
   "domain": null
  },
  {
   "name": "Shape",
   "type": "esriFieldTypeGeometry",
   "alias": "Shape",
   "domain": null
  },
  {
   "name": "Name",
   "type": "esriFieldTypeString",
   "alias": "Name",
   "domain": null,
   "length": 200
  },
  {
   "name": "MinPS",
   "type": "esriFieldTypeDouble",
   "alias": "MinPS",
   "domain": null
  },
  {
   "name": "MaxPS",
   "type": "esriFieldTypeDouble",
   "alias": "MaxPS",
   "domain": null
  },
  {
   "name": "LowPS",
   "type": "esriFieldTypeDouble",
   "alias": "LowPS",
   "domain": null
  },
  {
   "name": "HighPS",
   "type": "esriFieldTypeDouble",
   "alias": "HighPS",
   "domain": null
  },
  {
   "name": "Category",
   "type": "esriFieldTypeInteger",
   "alias": "Category",
   "domain": {
    "type": "codedValue",
    "name": "MosaicCatalogItemCategoryDomain",
    "description": "Catalog item categories.",
    "codedValues": [
     {
      "name": "Unknown",
      "code": 0
     },
     {
      "name": "Primary",
      "code": 1
     },
     {
      "name": "Overview",
      "code": 2
     },
     {
      "name": "Unprocessed Overview",
      "code": 3
     },
     {
      "name": "Partial Overview",
      "code": 4
     },
     {
      "name": "Inactive",
      "code": 5
     },
     {
      "name": "Uploaded",
      "code": 253
     },
     {
      "name": "Incomplete",
      "code": 254
     },
     {
      "name": "Custom",
      "code": 255
     }
    ],
    "mergePolicy": "esriMPTDefaultValue",
    "splitPolicy": "esriSPTDefaultValue"
   }
  },
  {
   "name": "Tag",
   "type": "esriFieldTypeString",
   "alias": "Tag",
   "domain": null,
   "length": 100
  },
  {
   "name": "GroupName",
   "type": "esriFieldTypeString",
   "alias": "GroupName",
   "domain": null,
   "length": 100
  },
  {
   "name": "ProductName",
   "type": "esriFieldTypeString",
   "alias": "ProductName",
   "domain": null,
   "length": 100
  },
  {
   "name": "CenterX",
   "type": "esriFieldTypeDouble",
   "alias": "CenterX",
   "domain": null
  },
  {
   "name": "CenterY",
   "type": "esriFieldTypeDouble",
   "alias": "CenterY",
   "domain": null
  },
  {
   "name": "ZOrder",
   "type": "esriFieldTypeInteger",
   "alias": "ZOrder",
   "domain": null
  },
  {
   "name": "Shape_Length",
   "type": "esriFieldTypeDouble",
   "alias": "Shape_Length",
   "domain": null
  },
  {
   "name": "Shape_Area",
   "type": "esriFieldTypeDouble",
   "alias": "Shape_Area",
   "domain": null
  }
 ],
 "capabilities": "Image,Metadata,Catalog",
 "defaultMosaicMethod": "Northwest",
 "allowedMosaicMethods": "NorthWest,Center,LockRaster,ByAttribute,Nadir,Viewpoint,Seamline,None",
 "sortField": "",
 "sortValue": null,
 "sortAscending": true,
 "mosaicOperator": "First",
 "maxDownloadSizeLimit": 2048,
 "defaultCompressionQuality": 75,
 "defaultResamplingMethod": "Nearest",
 "maxImageHeight": 4100,
 "maxImageWidth": 15000,
 "maxRecordCount": 1000,
 "maxDownloadImageCount": 20,
 "maxMosaicImageCount": 20,
 "allowRasterFunction": true,
 "rasterFunctionInfos": [
  {
   "name": "None",
   "description": "",
   "help": ""
  }
 ],
 "rasterTypeInfos": [
  {
   "name": "Raster Dataset",
   "description": "Supports all ArcGIS Raster Datasets",
   "help": ""
  }
 ],
 "mensurationCapabilities": "None",
 "hasHistograms": true,
 "hasColormap": false,
 "hasRasterAttributeTable": false,
 "minScale": 0,
 "maxScale": 0,
 "exportTilesAllowed": false,
 "supportsStatistics": true,
 "supportsAdvancedQueries": true,
 "editFieldsInfo": null,
 "ownershipBasedAccessControlForRasters": null,
 "allowComputeTiePoints": false,
 "useStandardizedQueries": true,
 "advancedQueryCapabilities": {
  "useStandardizedQueries": true,
  "supportsStatistics": true,
  "supportsOrderBy": true,
  "supportsDistinct": true,
  "supportsPagination": true
 },
 "spatialReference": {
  "wkid": 103490,
  "latestWkid": 103490
 }
}
